{"text_format":"1","workbook":"xlsx","n_sheets":5,"sheets":["ALESAGES","Arbres","Calcul ajustement","Calcul courbes","Graphique1"],"not_rendered":{"charts":1,"images":0,"macros":1,"external_links":0,"defined_names":28,"comments":0,"pivot_tables":0},"unopened":[],"bounds":{"document_bytes":16777216,"sheet_cells":100000,"rows_first":2000,"rows_last":500,"rows_between":2000,"halvings":0,"cell_chars":16384,"cell_head_chars":4096},"cells_cut":0,"cells_raw":0,"read":"whole","date_system":"1900"}

{"sheet":"ALESAGES","index":0,"n_rows":44,"n_cols":15,"rows_kept":44,"cut":false,"hidden":false,"merged":[[20,0,21,0],[10,0,11,0],[12,0,13,0],[14,0,15,0],[16,0,17,0],[18,0,19,0],[26,0,27,0],[0,0,1,1],[38,0,39,0],[40,0,41,0],[42,0,43,0],[24,0,25,0],[28,0,29,0],[30,0,31,0],[32,0,33,0],[34,0,35,0],[36,0,37,0],[22,0,23,0],[2,0,3,0],[4,0,5,0],[6,0,7,0],[8,0,9,0]]}
["ALESAGES",null,"≤ 3","3<D≤6","6<D≤10","10<D≤18","18<D≤30","30<D≤50","50<D≤80","80<D≤120","120<D≤180","180<D≤250","250<D≤315","315<D≤400","400<D≤500"]
[null,null,3,6,10,18,30,50,80,120,180,250,315,400,500]
["D10","Maxi",0.06,7.8E-2,9.8000000000000004E-2,0.12,0.14899999999999999,0.18,0.22,0.26,0.30499999999999999,0.35499999999999998,0.4,0.44,0.48]
[null,"Mini",0.02,0.03,0.04,0.05,6.5000000000000002E-2,0.08,0.1,0.12,0.14499999999999999,0.17,0.19,0.21,0.23]
["F7","Maxi",1.6E-2,2.1999999999999999E-2,2.8000000000000001E-2,3.4000000000000002E-2,4.1000000000000002E-2,0.05,0.06,7.0999999999999994E-2,8.3000000000000004E-2,9.6000000000000002E-2,0.108,0.11899999999999999,0.13100000000000001]
[null,"Mini",6.0000000000000001E-3,0.01,1.2999999999999999E-2,1.6E-2,0.02,2.5000000000000001E-2,0.03,3.5999999999999997E-2,4.2999999999999997E-2,0.05,5.6000000000000001E-2,6.2E-2,6.8000000000000005E-2]
["G6","Maxi",8.0000000000000002E-3,1.2E-2,1.4E-2,1.7000000000000001E-2,0.02,2.5000000000000001E-2,2.9000000000000001E-2,3.4000000000000002E-2,3.9E-2,4.3999999999999997E-2,4.9000000000000002E-2,5.3999999999999999E-2,0.06]
[null,"Mini",2E-3,4.0000000000000001E-3,5.0000000000000001E-3,6.0000000000000001E-3,7.0000000000000001E-3,8.9999999999999993E-3,0.01,1.2E-2,1.4E-2,1.4999999999999999E-2,1.7000000000000001E-2,1.7999999999999999E-2,0.02]
["H6","Maxi",6.0000000000000001E-3,8.0000000000000002E-3,8.9999999999999993E-3,1.0999999999999999E-2,1.2999999999999999E-2,1.6E-2,1.9E-2,2.1999999999999999E-2,2.5000000000000001E-2,2.9000000000000001E-2,3.2000000000000001E-2,3.5999999999999997E-2,0.04]
[null,"Mini",0,0,0,0,0,0,0,0,0,0,0,0,0]
["H7","Maxi",0.01,1.2E-2,1.4999999999999999E-2,1.7999999999999999E-2,2.1000000000000001E-2,2.5000000000000001E-2,0.03,3.5000000000000003E-2,0.04,4.5999999999999999E-2,5.1999999999999998E-2,5.7000000000000002E-2,6.3E-2]
[null,"Mini",0,0,0,0,0,0,0,0,0,0,0,0,0]
["H8","Maxi",1.4E-2,1.7999999999999999E-2,2.1999999999999999E-2,2.7E-2,3.3000000000000002E-2,3.9E-2,4.5999999999999999E-2,5.3999999999999999E-2,6.3E-2,7.1999999999999995E-2,8.1000000000000003E-2,8.8999999999999996E-2,9.7000000000000003E-2]
[null,"Mini",0,0,0,0,0,0,0,0,0,0,0,0,0]
["H9","Maxi",2.5000000000000001E-2,0.03,3.5999999999999997E-2,4.2999999999999997E-2,5.1999999999999998E-2,6.2E-2,7.3999999999999996E-2,8.6999999999999994E-2,0.1,0.115,0.13,0.14000000000000001,0.155]
[null,"Mini",0,0,0,0,0,0,0,0,0,0,0,0,0]
["H10","Maxi",0.04,4.8000000000000001E-2,5.8000000000000003E-2,7.0000000000000007E-2,8.4000000000000005E-2,0.1,0.12,0.14000000000000001,0.16,0.185,0.21,0.23,0.25]
[null,"Mini",0,0,0,0,0,0,0,0,0,0,0,0,0]
["H11","Maxi",0.06,7.4999999999999997E-2,0.09,0.11,0.13,0.16,0.19,0.21,0.25,0.28999999999999998,0.32,0.36,0.4]
[null,"Mini",0,0,0,0,0,0,0,0,0,0,0,0,0]
["H12","Maxi",0.1,0.12,0.15,0.18,0.21,0.25,0.3,0.35,0.4,0.46,0.52,0.56999999999999995,0.63]
[null,"Mini",0,0,0,0,0,0,0,0,0,0,0,0,0]
["H13","Maxi",0.14000000000000001,0.18,0.22,0.27,0.33,0.39,0.46,0.54,0.63,0.72,0.81,0.89,0.97]
[null,"Mini",0,0,0,0,0,0,0,0,0,0,0,0,0]
["J7","Maxi",4.0000000000000001E-3,6.0000000000000001E-3,8.0000000000000002E-3,0.01,1.2E-2,1.4E-2,1.7999999999999999E-2,2.1999999999999999E-2,2.5999999999999999E-2,0.03,3.5999999999999997E-2,3.9E-2,4.2999999999999997E-2]
[null,"Mini",-6.0000000000000001E-3,-6.0000000000000001E-3,-7.0000000000000001E-3,-8.0000000000000002E-3,-8.9999999999999993E-3,-1.0999999999999999E-2,-1.2E-2,-1.2999999999999999E-2,-1.4E-2,-1.6E-2,-1.6E-2,-1.7999999999999999E-2,-0.02]
["JS13","Maxi",7.0000000000000007E-2,0.09,0.11,0.13500000000000001,0.16500000000000001,0.19500000000000001,0.23,0.27,0.315,0.36,0.40500000000000003,0.44500000000000001,0.48499999999999999]
[null,"Mini",-7.0000000000000007E-2,-0.09,-0.11,-0.13500000000000001,-0.16500000000000001,-0.19500000000000001,-0.23,-0.27,-0.315,-0.36,-0.40500000000000003,-0.44500000000000001,-0.48499999999999999]
["K6","Maxi",0,2E-3,2E-3,2E-3,2E-3,3.0000000000000001E-3,4.0000000000000001E-3,4.0000000000000001E-3,4.0000000000000001E-3,5.0000000000000001E-3,5.0000000000000001E-3,7.0000000000000001E-3,8.0000000000000002E-3]
[null,"Mini",-6.0000000000000001E-3,-6.0000000000000001E-3,-7.0000000000000001E-3,-8.9999999999999993E-3,-1.0999999999999999E-2,-1.2999999999999999E-2,-1.4999999999999999E-2,-1.7999999999999999E-2,-2.1000000000000001E-2,-2.4E-2,-2.7E-2,-2.9000000000000001E-2,-3.2000000000000001E-2]
["K7","Maxi",0,3.0000000000000001E-3,5.0000000000000001E-3,6.0000000000000001E-3,6.0000000000000001E-3,7.0000000000000001E-3,8.9999999999999993E-3,0.01,1.2E-2,1.2999999999999999E-2,1.6E-2,1.7000000000000001E-2,1.7999999999999999E-2]
[null,"Mini",-0.01,-8.9999999999999993E-3,-0.01,-1.2E-2,-1.4999999999999999E-2,-1.7999999999999999E-2,-2.1000000000000001E-2,-2.5000000000000001E-2,-2.8000000000000001E-2,-3.3000000000000002E-2,-3.5999999999999997E-2,-0.04,-4.4999999999999998E-2]
["M7","Maxi",-2E-3,0,0,0,0,0,0,0,0,0,0,0,0]
[null,"Mini",-1.2E-2,-1.2E-2,-1.4999999999999999E-2,-1.7999999999999999E-2,-2.1000000000000001E-2,-2.5000000000000001E-2,-0.03,-3.5000000000000003E-2,-0.04,-4.5999999999999999E-2,-5.1999999999999998E-2,-5.7000000000000002E-2,-6.3E-2]
["N7","Maxi",-4.0000000000000001E-3,-4.0000000000000001E-3,-4.0000000000000001E-3,-5.0000000000000001E-3,-7.0000000000000001E-3,-8.0000000000000002E-3,-8.9999999999999993E-3,-0.01,-1.2E-2,-1.4E-2,-1.4E-2,-1.6E-2,-1.7000000000000001E-2]
[null,"Mini",-1.4E-2,-1.6E-2,-1.9E-2,-2.3E-2,-2.8000000000000001E-2,-3.3000000000000002E-2,-3.9E-2,-4.4999999999999998E-2,-5.1999999999999998E-2,-0.06,-6.6000000000000003E-2,-7.2999999999999995E-2,-0.08]
["N9","Maxi",-4.0000000000000001E-3,0,0,0,0,0,0,0,0,0,0,0,0]
[null,"Mini",-2.9000000000000001E-2,-0.03,-3.5999999999999997E-2,-4.2999999999999997E-2,-5.1999999999999998E-2,-6.2E-2,-7.3999999999999996E-2,-8.6999999999999994E-2,-0.1,-0.115,-0.13,-0.14000000000000001,-0.155]
["P6","Maxi",-6.0000000000000001E-3,-8.9999999999999993E-3,-1.2E-2,-1.4999999999999999E-2,-1.7999999999999999E-2,-2.1000000000000001E-2,-2.5999999999999999E-2,-0.03,-3.5999999999999997E-2,-4.1000000000000002E-2,-4.7E-2,-5.0999999999999997E-2,-5.5E-2]
[null,"Mini",-1.2E-2,-1.7000000000000001E-2,-2.1000000000000001E-2,-2.5999999999999999E-2,-3.1E-2,-3.6999999999999998E-2,-4.4999999999999998E-2,-5.1999999999999998E-2,-6.0999999999999999E-2,-7.0000000000000007E-2,-7.9000000000000001E-2,-8.6999999999999994E-2,-9.5000000000000001E-2]
["P7","Maxi",-6.0000000000000001E-3,-8.0000000000000002E-3,-8.9999999999999993E-3,-1.0999999999999999E-2,-1.4E-2,-1.7000000000000001E-2,-2.1000000000000001E-2,-2.4E-2,-2.8000000000000001E-2,-3.3000000000000002E-2,-3.5999999999999997E-2,-4.1000000000000002E-2,-4.4999999999999998E-2]
[null,"Mini",-1.6E-2,-0.02,-2.4E-2,-2.9000000000000001E-2,-3.5000000000000003E-2,-4.2000000000000003E-2,-5.0999999999999997E-2,-5.8999999999999997E-2,-6.8000000000000005E-2,-7.9000000000000001E-2,-8.7999999999999995E-2,-9.8000000000000004E-2,-0.108]
["P9","Maxi",-8.9999999999999993E-3,-1.2E-2,-1.4999999999999999E-2,-1.7999999999999999E-2,-2.1999999999999999E-2,-2.5999999999999999E-2,-3.2000000000000001E-2,-3.6999999999999998E-2,-4.2999999999999997E-2,-0.05,-5.6000000000000001E-2,-6.2E-2,-6.8000000000000005E-2]
[null,"Mini",-3.1E-2,-4.2000000000000003E-2,-5.0999999999999997E-2,-6.0999999999999999E-2,-7.3999999999999996E-2,-8.7999999999999995E-2,-0.106,-0.124,-0.14299999999999999,-0.16500000000000001,-0.186,-0.20200000000000001,-0.223]

{"sheet":"Arbres","index":1,"n_rows":80,"n_cols":15,"rows_kept":80,"cut":false,"hidden":false,"merged":[[0,0,1,1],[68,0,69,0],[28,0,29,0],[30,0,31,0],[32,0,33,0],[38,0,39,0],[52,0,53,0],[54,0,55,0],[58,0,59,0],[60,0,61,0],[62,0,63,0],[64,0,65,0],[66,0,67,0],[26,0,27,0],[2,0,3,0],[16,0,17,0],[76,0,77,0],[78,0,79,0],[18,0,19,0],[20,0,21,0],[70,0,71,0],[72,0,73,0],[74,0,75,0],[22,0,23,0],[24,0,25,0],[36,0,37,0],[40,0,41,0],[34,0,35,0],[56,0,57,0],[48,0,49,0],[50,0,51,0],[4,0,5,0],[46,0,47,0],[44,0,45,0],[42,0,43,0],[12,0,13,0],[14,0,15,0],[10,0,11,0],[8,0,9,0],[6,0,7,0]]}
["Arbres",null,"≤ 3","3<D≤6","6<D≤10","10<D≤18","18<D≤30","30<D≤50","50<D≤80","80<D≤120","120<D≤180","180<D≤250","250<D≤315","315<D≤400","400<D≤500"]
[null,null,3,6,10,18,30,50,80,120,180,250,315,400,500]
["a11","Maxi",-0.27,-0.27,-0.28000000000000003,-0.28999999999999998,-0.3,-0.32,-0.36,-0.41,-0.57999999999999996,-0.82,-1.05,-1.35,-1.65]
[null,"Mini",-0.33,-0.34499999999999997,-0.37,-0.4,-0.43,-0.47,-0.53,-0.6,-0.71,-0.95,-1.24,-1.56,-1.9]
["c11","Maxi",-0.06,-7.0000000000000007E-2,-0.08,-9.5000000000000001E-2,-0.11,-0.13,-0.15,-0.18,-0.23,-0.28000000000000003,-0.33,-0.4,-0.48]
[null,"Mini",-0.12,-0.14499999999999999,-0.17,-0.20499999999999999,-0.24,-0.28000000000000003,-0.33,-0.39,-0.45,-0.53,-0.62,-0.72,-0.84]
["d9","Maxi",-0.02,-0.03,-0.04,-0.05,-6.5000000000000002E-2,-0.08,-0.1,-0.12,-0.14499999999999999,-0.17,-0.19,-0.21,-0.23]
[null,"Mini",-4.4999999999999998E-2,-0.06,-7.4999999999999997E-2,-9.2999999999999999E-2,-0.11700000000000001,-0.14199999999999999,-0.17399999999999999,-0.20699999999999999,-0.245,-0.28499999999999998,-0.32,-0.35,-0.38500000000000001]
["d10","Maxi",-0.02,-0.03,-0.04,-0.05,-6.5000000000000002E-2,-0.08,-0.1,-0.12,-0.14499999999999999,-0.17,-0.19,-0.21,-0.23]
[null,"Mini",-0.06,-7.8E-2,-9.8000000000000004E-2,-0.12,-0.14899999999999999,-0.18,-0.22,-0.25,-0.30499999999999999,-0.35499999999999998,-0.4,-0.44,-0.48]
["d11","Maxi",-0.02,-0.03,-0.04,-0.05,-6.5000000000000002E-2,-0.08,-0.1,-0.12,-0.14499999999999999,-0.17,-0.19,-0.21,-0.23]
[null,"Mini",-0.08,-0.105,-0.13,-0.16,-0.19500000000000001,-0.24,-0.28999999999999998,-0.34,-0.39500000000000002,-0.46,-0.51,-0.56999999999999995,-0.63]
["e7","Maxi",-1.4E-2,-0.02,-2.5000000000000001E-2,-3.2000000000000001E-2,-0.04,-0.05,-0.06,-7.1999999999999995E-2,-8.5000000000000006E-2,-0.1,-0.11,-0.125,-0.13500000000000001]
[null,"Mini",-2.4E-2,-3.2000000000000001E-2,-0.04,-0.05,-6.0999999999999999E-2,-7.4999999999999997E-2,-0.09,-0.107,-0.125,-0.14599999999999999,-0.16200000000000001,-0.182,-0.19800000000000001]
["e8","Maxi",-0.14000000000000001,-0.02,-2.5000000000000001E-2,-3.2000000000000001E-2,-0.04,-0.05,-0.06,-7.1999999999999995E-2,-8.5000000000000006E-2,-0.1,-0.11,-0.125,-0.13500000000000001]
[null,"Mini",-2.8000000000000001E-2,-3.7999999999999999E-2,-4.7E-2,-5.8999999999999997E-2,-7.2999999999999995E-2,-8.8999999999999996E-2,-0.106,-0.126,-0.14799999999999999,-0.17199999999999999,-0.191,-0.214,-0.23200000000000001]
["e9","Maxi",-1.4E-2,-0.02,-2.5000000000000001E-2,-3.2000000000000001E-2,-0.04,-0.05,-0.06,-7.1999999999999995E-2,-8.5000000000000006E-2,-0.1,-0.11,-0.125,-0.13500000000000001]
[null,"Mini",-3.9E-2,-0.05,-6.0999999999999999E-2,-7.4999999999999997E-2,-9.1999999999999998E-2,-0.112,-0.13400000000000001,-0.159,-0.185,-0.215,-0.24,-0.26500000000000001,-0.28999999999999998]
["f6","Maxi",-6.0000000000000001E-3,-0.01,-1.2999999999999999E-2,-1.6E-2,-0.02,-2.5000000000000001E-2,-0.03,-3.5999999999999997E-2,-4.2999999999999997E-2,-0.05,-5.6000000000000001E-2,-6.2E-2,-6.8000000000000005E-2]
[null,"Mini",-1.2E-2,-1.7999999999999999E-2,-2.1999999999999999E-2,-2.7E-2,-3.3000000000000002E-2,-4.1000000000000002E-2,-4.9000000000000002E-2,-5.8000000000000003E-2,-6.8000000000000005E-2,-7.9000000000000001E-2,-8.7999999999999995E-2,-9.8000000000000004E-2,-0.108]
["f7","Maxi",-6.0000000000000001E-3,-0.01,-1.2999999999999999E-2,-1.6E-2,-0.02,-2.5000000000000001E-2,-0.03,-3.5999999999999997E-2,-4.2999999999999997E-2,-0.05,-5.6000000000000001E-2,-6.2E-2,-6.8000000000000005E-2]
[null,"Mini",-1.6E-2,-2.1999999999999999E-2,-2.8000000000000001E-2,-3.4000000000000002E-2,-4.1000000000000002E-2,-0.05,-0.06,-7.0999999999999994E-2,-8.3000000000000004E-2,-9.6000000000000002E-2,-0.106,-0.11899999999999999,-0.13100000000000001]
["g5","Maxi",-2E-3,4.0000000000000001E-3,-5.0000000000000001E-3,-6.0000000000000001E-3,-7.0000000000000001E-3,-8.9999999999999993E-3,-0.01,-1.2E-2,-1.4E-2,-1.4999999999999999E-2,-1.4E-2,-1.7999999999999999E-2,-0.02]
[null,"Mini",-6.0000000000000001E-3,-8.9999999999999993E-3,-1.0999999999999999E-2,-1.4E-2,-1.6E-2,-0.02,-2.3E-2,-2.7E-2,-3.2000000000000001E-2,-3.5000000000000003E-2,-0.04,-4.2999999999999997E-2,{"$f":"-M24","v":0.04}]
["g6","Maxi",-2E-3,4.0000000000000001E-3,-5.0000000000000001E-3,-6.0000000000000001E-3,-7.0000000000000001E-3,-8.9999999999999993E-3,-0.01,-1.2E-2,-1.4E-2,-1.4999999999999999E-2,-1.4E-2,-1.7999999999999999E-2,-0.02]
[null,"Mini",-8.0000000000000002E-3,-1.2E-2,-1.4E-2,-1.7000000000000001E-2,-0.02,-2.5000000000000001E-2,-2.9000000000000001E-2,-3.4000000000000002E-2,-3.9E-2,-4.3999999999999997E-2,-4.9000000000000002E-2,-5.3999999999999999E-2,{"$f":"-0.06","v":-0.06}]
["h5","Maxi",0,0,0,0,0,0,0,0,0,0,0,0,0]
[null,"Mini",-4.0000000000000001E-3,-5.0000000000000001E-3,-6.0000000000000001E-3,-8.0000000000000002E-3,-8.9999999999999993E-3,-1.0999999999999999E-2,-1.2999999999999999E-2,-1.4999999999999999E-2,-1.7999999999999999E-2,-0.02,-2.3E-2,-2.5000000000000001E-2,-2.7E-2]
["h6","Maxi",0,0,0,0,0,0,0,0,0,0,0,0,0]
[null,"Mini",-6.0000000000000001E-3,-8.0000000000000002E-3,-8.9999999999999993E-3,-1.0999999999999999E-2,-1.2999999999999999E-2,-1.6E-2,-1.9E-2,-2.1999999999999999E-2,-2.5000000000000001E-2,-2.9000000000000001E-2,-3.2000000000000001E-2,-3.5999999999999997E-2,-0.04]
["h7","Maxi",0,0,0,0,0,0,0,0,0,0,0,0,0]
[null,"Mini",-6.0000000000000001E-3,-1.2E-2,-1.4999999999999999E-2,-1.7999999999999999E-2,-2.1000000000000001E-2,-2.5000000000000001E-2,-0.03,-3.5000000000000003E-2,-0.04,-4.5999999999999999E-2,-5.1999999999999998E-2,-5.7000000000000002E-2,-6.3E-2]
["h8","Maxi",0,0,0,0,0,0,0,0,0,0,0,0,0]
[null,"Mini",-1.4E-2,-1.7999999999999999E-2,-2.1999999999999999E-2,-2.7E-2,-3.3000000000000002E-2,-3.9E-2,-4.5999999999999999E-2,-5.3999999999999999E-2,-6.3E-2,-7.1999999999999995E-2,-8.1000000000000003E-2,-8.8999999999999996E-2,-9.7000000000000003E-2]
["h9","Maxi",0,0,0,0,0,0,0,0,0,0,0,0,0]
[null,"Mini",-2.5000000000000001E-2,-0.03,-3.5999999999999997E-2,-4.2999999999999997E-2,-5.1999999999999998E-2,-6.2E-2,-7.3999999999999996E-2,-8.6999999999999994E-2,-0.1,-0.115,-0.13,-0.14000000000000001,-0.155]
["h10","Maxi",0,0,0,0,0,0,0,0,0,0,0,0,0]
[null,"Mini",-0.04,-4.8000000000000001E-2,-5.8000000000000003E-2,-7.0000000000000007E-2,-8.4000000000000005E-2,-0.1,-0.12,-0.14000000000000001,-0.16,-0.185,-0.21,-0.23,-0.25]
["h11","Maxi",0,0,0,0,0,0,0,0,0,0,0,0,0]
[null,"Mini",-0.06,-7.4999999999999997E-2,-0.09,-0.11,-0.13,-0.16,-0.19,-0.22,-0.25,-0.28999999999999998,-0.32,-0.36,-0.4]
["h13","Maxi",0,0,0,0,0,0,0,0,0,0,0,0,0]
[null,"Mini",-0.14000000000000001,-0.18,-0.22,-0.27,-0.33,-0.39,-0.46,-0.54,-0.63,-0.72,-0.81,-0.89,-0.97]
["j6","Maxi",4.0000000000000001E-3,6.0000000000000001E-3,7.0000000000000001E-3,8.0000000000000002E-3,8.9999999999999993E-3,1.0999999999999999E-2,1.2E-2,1.2999999999999999E-2,1.4E-2,1.6E-2,1.6E-2,1.7999999999999999E-2,0.02]
[null,"Mini",-2E-3,-2E-3,-2E-3,-3.0000000000000001E-3,-4.0000000000000001E-3,-5.0000000000000001E-3,-7.0000000000000001E-3,-8.9999999999999993E-3,-1.0999999999999999E-2,-1.2999999999999999E-2,-1.6E-2,-1.7999999999999999E-2,-0.02]
["js5","Maxi",2E-3,2.5000000000000001E-2,3.0000000000000001E-3,4.0000000000000001E-3,4.4999999999999997E-3,5.4999999999999997E-3,6.4999999999999997E-3,7.4999999999999997E-3,8.9999999999999993E-3,0.01,1.15E-2,1.2500000000000001E-2,1.35E-2]
[null,"Mini",-2E-3,-2.5000000000000001E-2,-3.0000000000000001E-3,-4.0000000000000001E-3,-4.4999999999999997E-3,-5.4999999999999997E-3,-6.4999999999999997E-3,-7.4999999999999997E-3,-8.9999999999999993E-3,-0.01,-1.15E-2,-1.2500000000000001E-2,-1.35E-2]
["js6","Maxi",3.0000000000000001E-3,4.0000000000000001E-3,4.4999999999999997E-3,5.4999999999999997E-3,6.4999999999999997E-3,8.0000000000000002E-3,9.4999999999999998E-3,1.0999999999999999E-2,1.2500000000000001E-2,1.4500000000000001E-2,1.6E-2,1.7999999999999999E-2,0.02]
[null,"Mini",-3.0000000000000001E-3,-4.0000000000000001E-3,-4.4999999999999997E-3,-5.4999999999999997E-3,-6.4999999999999997E-3,-8.0000000000000002E-3,-9.4999999999999998E-3,-1.0999999999999999E-2,-1.2500000000000001E-2,-1.4500000000000001E-2,-1.6E-2,-1.7999999999999999E-2,-0.02]
["k5","Maxi",4.0000000000000001E-3,6.0000000000000001E-3,7.0000000000000001E-3,8.9999999999999993E-3,1.0999999999999999E-2,1.2999999999999999E-2,1.4999999999999999E-2,1.7999999999999999E-2,2.1000000000000001E-2,2.4E-2,2.7E-2,2.9000000000000001E-2,3.2000000000000001E-2]
[null,"Mini",0,1E-3,1E-3,1E-3,2E-3,2E-3,2E-3,3.0000000000000001E-3,3.0000000000000001E-3,4.0000000000000001E-3,4.0000000000000001E-3,4.0000000000000001E-3,5.0000000000000001E-3]
["k6","Maxi",6.0000000000000001E-3,8.9999999999999993E-3,0.01,1.2E-2,1.4999999999999999E-2,1.7999999999999999E-2,2.1000000000000001E-2,2.5000000000000001E-2,2.8000000000000001E-2,3.3000000000000002E-2,3.5999999999999997E-2,0.04,4.4999999999999998E-2]
[null,"Mini",0,1E-3,1E-3,1E-3,2E-3,2E-3,2E-3,3.0000000000000001E-3,3.0000000000000001E-3,4.0000000000000001E-3,4.0000000000000001E-3,4.0000000000000001E-3,5.0000000000000001E-3]
["m5","Maxi",6.0000000000000001E-3,8.9999999999999993E-3,1.2E-2,1.4999999999999999E-2,1.7000000000000001E-2,0.02,2.4E-2,2.8000000000000001E-2,3.3000000000000002E-2,3.6999999999999998E-2,4.2999999999999997E-2,4.5999999999999999E-2,0.05]
[null,"Mini",2E-3,4.0000000000000001E-3,6.0000000000000001E-3,7.0000000000000001E-3,8.0000000000000002E-3,8.9999999999999993E-3,1.0999999999999999E-2,1.2999999999999999E-2,1.4999999999999999E-2,1.7000000000000001E-2,0.02,2.1000000000000001E-2,2.3E-2]
["m6","Maxi",8.0000000000000002E-3,1.2E-2,1.4999999999999999E-2,1.7999999999999999E-2,2.1000000000000001E-2,2.5000000000000001E-2,0.03,3.5000000000000003E-2,0.04,4.5999999999999999E-2,5.1999999999999998E-2,5.7000000000000002E-2,6.3E-2]
[null,"Mini",2E-3,4.0000000000000001E-3,6.0000000000000001E-3,7.0000000000000001E-3,8.0000000000000002E-3,8.9999999999999993E-3,1.0999999999999999E-2,1.2999999999999999E-2,1.4999999999999999E-2,1.7000000000000001E-2,0.02,2.1000000000000001E-2,2.3E-2]
["n6","Maxi",0.01,1.6E-2,1.9E-2,2.3E-2,2.8000000000000001E-2,3.3000000000000002E-2,3.9E-2,4.4999999999999998E-2,5.1999999999999998E-2,0.06,6.6000000000000003E-2,7.2999999999999995E-2,0.08]
[null,"Mini",4.0000000000000001E-3,8.0000000000000002E-3,0.01,1.2E-2,1.4999999999999999E-2,1.7000000000000001E-2,0.02,2.3E-2,2.7E-2,3.1E-2,3.4000000000000002E-2,3.6999999999999998E-2,0.04]
["p6","Maxi",1.2E-2,0.02,2.4E-2,2.9000000000000001E-2,3.5000000000000003E-2,4.2000000000000003E-2,5.0999999999999997E-2,5.8999999999999997E-2,6.8000000000000005E-2,7.9000000000000001E-2,8.7999999999999995E-2,9.8000000000000004E-2,0.108]
[null,"Mini",6.0000000000000001E-3,1.2E-2,1.4999999999999999E-2,1.7999999999999999E-2,2.1999999999999999E-2,2.5999999999999999E-2,3.2000000000000001E-2,3.6999999999999998E-2,4.2999999999999997E-2,0.05,3.15,6.2E-2,6.8000000000000005E-2]
[null,"Maxi"]
[null,"Mini"]
[null,"Maxi"]
[null,"Mini"]
[null,"Maxi"]
[null,"Mini"]
[null,"Maxi"]
[null,"Mini"]
[null,"Maxi"]
[null,"Mini"]
[null,"Maxi"]
[null,"Mini"]
[null,"Maxi"]
[null,"Mini"]
[null,"Maxi"]
[null,"Mini"]
[null,"Maxi"]
[null,"Mini"]
[null,"Maxi"]
[null,"Mini"]

{"sheet":"Calcul ajustement","index":2,"n_rows":24,"n_cols":3,"rows_kept":24,"cut":false,"hidden":false,"merged":[[22,0,22,1],[23,0,23,1],[2,1,6,1],[0,0,0,1],[1,0,1,1],[2,0,12,0],[13,1,15,1],[13,0,21,0]]}
["Cote nominale",null,15]
["Ajustement",null,"H11e8"]
["ALESAGE","Tolérance alésage","H11"]
[null,null,"H"]
[null,null,11]
[null,null,11]
[null,null,"H11"]
[null,"N° ligne écart sup",19]
[null,"N° colonne écart sup",6]
[null,"Valeur écart sup",0.11]
[null,"Valeur écart inf",0]
[null,"Cote maxi ",15.11]
[null,"Cote mini",15]
["Arbre","Tolérance arbre",100000000]
[null,null,1]
[null,null,"e8"]
[null,"N° ligne écart sup",15]
[null,"N° colonne écart sup",6]
[null,"Valeur écart sup",-3.2000000000000001E-2]
[null,"Valeur écart inf",-5.8999999999999997E-2]
[null,"Cote maxi ",14.968]
[null,"Cote mini",14.941000000000001]
["Jeu maxi",null,0.16899999999999871]
["Jeu mini",null,3.2000000000000028E-2]

{"sheet":"Calcul courbes","index":3,"n_rows":13,"n_cols":4,"rows_kept":13,"cut":false,"hidden":false,"merged":[[1,0,2,0],[3,0,5,0]]}
[null,null,"Jmaxi","Jmini"]
["Paramètres de courbe","b",{"$f":"1/(2*'Calcul ajustement'!$C$1+'Calcul ajustement'!$C$23)","v":3.3146607444728034E-2}]
[null,"c",{"$f":"'Calcul ajustement'!$C$23/(2*'Calcul ajustement'!$C$1+'Calcul ajustement'!$C$23)","v":5.6017766581589953E-3}]
["Point d'inflexion","f''(xinfl)",{"$f":"(-1+2*C2*C5/SQRT(C2^2*C5^2+C3)-(C2^3)*(C5^3)/(C2^2*C5^2+C3)^(3/2))-(4*(C2^3)*(C5^3)/SQRT(C2^2*C5^2+C3)-4*(C2^2)*(C5^2)-2*(C2^4)*(C5^4)/(C2^2*C5^2+C3)+2*(C2^3)*(C5^3)/SQRT(C2^2*C5^2+C3)-2*(C2^2)*(C5^2)+2*C2*C5*SQRT(C2^2*C5^2+C3)/(1+(-C2*C5+SQRT(C2^2*C5^2+C3))^2))","v":-0.114897942107951}]
[null,"xinfl",1.3348587779911414]
[null,"yinfl",{"$f":"4*ATAN(-$C$2*C5+SQRT(($C$2)^2*C5^2+$C$3))","v":0.17069343386628255}]
["Pente tangente au point d'inflexion","f'(xinfl)",{"$f":"4*(-$C$2*$C$5+($C$2^2)*($C$5^2)/SQRT($C$2^2*$C$5^2+$C$3))/(1+(-$C$2*$C$5+SQRT($C$2^2*$C$5^2+$C$3))^2)","v":-8.6759620694054879E-2}]
["Pente asymptote intermédiaire au point d'inflexion","a",{"$f":"LN(10^C7)","v":-0.19977140928394851}]
["Constante asymptote intermédiaire","d",{"$f":"C6-C8*LOG(C5)","v":0.19575182486486886}]
["y première asyptote",null,{"$f":"2*ACOS('Calcul ajustement'!$C$22/'Calcul ajustement'!$C$12)","v":0.29940684993084954}]
["Abscisse point de rencontre 1ère et 2nde asymptotes","y première asyptote=a.logx+d",{"$f":"10^((C10-C9)/C8)","v":0.30278324035264231}]
["Abscisse point de rotulage critique","xCritique (mm)",{"$f":"10^(-C9/C8)","v":9.547267271760866}]
["Ordonnée point de rotulage critique (pour l'affichage)","ycritique ",0.01]

{"sheet":"Graphique1","index":4,"n_rows":610,"n_cols":9,"rows_kept":610,"cut":false,"hidden":false,"merged":[[8,4,8,5]]}
[]
[null,null,null,null,{"$f":"VLOOKUP('Calcul courbes'!$C$11,$B$10:$C$600,1)","v":0.30199517204016685},{"$f":"VLOOKUP('Calcul courbes'!$C$12,$B$10:$C$600,1)","v":9.3325430079681944}]
[null,null,null,null,{"$f":"MATCH(E2,$B$10:$B$600,0)+8","v":257},{"$f":"MATCH(F2,$B$10:$B$600,0)+10","v":408}]
[null,null,null,null,{"$f":"ROW($B$10)","v":10},{"$f":"ROW($B$10)","v":10}]
[null,null,null,null,{"$f":"E3-E4","v":247},{"$f":"F3-F4","v":398}]
[]
[]
[]
["Pas","L","a","Ordonnée asymptote intermédiaire","Abscisses asymptote intermédiaire",null,"Ordonnée première asymptote","Ordonnée dernière asymptote","Longueur critique"]
[-3,{"$f":"10^A10","v":1E-3},{"$f":"4*ATAN(-'Calcul courbes'!$C$2*B10+SQRT(('Calcul courbes'!$C$2)^2*B10^2+'Calcul courbes'!$C$3))","v":0.29869110270738986},{"$f":"IF(ROW()>$E$3+1,('Calcul courbes'!$C$8*LOG(B10)+'Calcul courbes'!$C$9),NA())","v":{"$error":"#N/A"}},{"$f":"IF(ROW()<$F$3+1,B10,NA())","v":1E-3},{"$f":"IF(ROW()>$E$3+1,E10,NA())","v":{"$error":"#N/A"}},{"$f":"IF(ROW()<$E$3+1,'Calcul courbes'!$C$10,NA())","v":0.29940684993084954},{"$f":"IF(ROW()>$F$3-1,0,NA())","v":{"$error":"#N/A"}},{"$f":"IF(ROW()=$F$3-1,0,NA())","v":{"$error":"#N/A"}}]
[-2.99,{"$f":"10^A11","v":1.0232929922807533E-3},{"$f":"4*ATAN(-'Calcul courbes'!$C$2*B11+SQRT(('Calcul courbes'!$C$2)^2*B11^2+'Calcul courbes'!$C$3))","v":0.2986880329371297},{"$f":"IF(ROW()>$E$3+1,('Calcul courbes'!$C$8*LOG(B11)+'Calcul courbes'!$C$9),NA())","v":{"$error":"#N/A"}},{"$f":"IF(ROW()<$F$3+1,B11,NA())","v":1.0232929922807533E-3},{"$f":"IF(ROW()>$E$3+1,E11,NA())","v":{"$error":"#N/A"}},{"$f":"IF(ROW()<$E$3+1,'Calcul courbes'!$C$10,NA())","v":0.29940684993084954},{"$f":"IF(ROW()>$F$3-1,0,NA())","v":{"$error":"#N/A"}},{"$f":"IF(ROW()=$F$3-1,0,NA())","v":{"$error":"#N/A"}}]
[-2.98,1.0471285480508988E-3,{"$f":"4*ATAN(-'Calcul courbes'!$C$2*B12+SQRT(('Calcul courbes'!$C$2)^2*B12^2+'Calcul courbes'!$C$3))","v":0.29868489169516649},{"$f":"IF(ROW()>$E$3+1,('Calcul courbes'!$C$8*LOG(B12)+'Calcul courbes'!$C$9),NA())","v":{"$error":"#N/A"}},1.0471285480508988E-3,{"$error":"#N/A"},{"$f":"IF(ROW()<$E$3+1,'Calcul courbes'!$C$10,NA())","v":0.29940684993084954},{"$error":"#N/A"},{"$error":"#N/A"}]
[-2.97,1.0715193052376053E-3,{"$f":"4*ATAN(-'Calcul courbes'!$C$2*B13+SQRT(('Calcul courbes'!$C$2)^2*B13^2+'Calcul courbes'!$C$3))","v":0.29868167731823875},{"$f":"IF(ROW()>$E$3+1,('Calcul courbes'!$C$8*LOG(B13)+'Calcul courbes'!$C$9),NA())","v":{"$error":"#N/A"}},1.0715193052376053E-3,{"$error":"#N/A"},{"$f":"IF(ROW()<$E$3+1,'Calcul courbes'!$C$10,NA())","v":0.29940684993084954},{"$error":"#N/A"},{"$error":"#N/A"}]
[-2.96,1.0964781961431849E-3,{"$f":"4*ATAN(-'Calcul courbes'!$C$2*B14+SQRT(('Calcul courbes'!$C$2)^2*B14^2+'Calcul courbes'!$C$3))","v":0.29867838810441488},{"$f":"IF(ROW()>$E$3+1,('Calcul courbes'!$C$8*LOG(B14)+'Calcul courbes'!$C$9),NA())","v":{"$error":"#N/A"}},1.0964781961431849E-3,{"$error":"#N/A"},{"$f":"IF(ROW()<$E$3+1,'Calcul courbes'!$C$10,NA())","v":0.29940684993084954},{"$error":"#N/A"},{"$error":"#N/A"}]
[-2.95,1.1220184543019622E-3,{"$f":"4*ATAN(-'Calcul courbes'!$C$2*B15+SQRT(('Calcul courbes'!$C$2)^2*B15^2+'Calcul courbes'!$C$3))","v":0.29867502231219561},{"$f":"IF(ROW()>$E$3+1,('Calcul courbes'!$C$8*LOG(B15)+'Calcul courbes'!$C$9),NA())","v":{"$error":"#N/A"}},1.1220184543019622E-3,{"$error":"#N/A"},{"$f":"IF(ROW()<$E$3+1,'Calcul courbes'!$C$10,NA())","v":0.29940684993084954},{"$error":"#N/A"},{"$error":"#N/A"}]
[-2.94,1.1481536214968825E-3,{"$f":"4*ATAN(-'Calcul courbes'!$C$2*B16+SQRT(('Calcul courbes'!$C$2)^2*B16^2+'Calcul courbes'!$C$3))","v":0.29867157815959589},{"$f":"IF(ROW()>$E$3+1,('Calcul courbes'!$C$8*LOG(B16)+'Calcul courbes'!$C$9),NA())","v":{"$error":"#N/A"}},1.1481536214968825E-3,{"$error":"#N/A"},{"$f":"IF(ROW()<$E$3+1,'Calcul courbes'!$C$10,NA())","v":0.29940684993084954},{"$error":"#N/A"},{"$error":"#N/A"}]
[-2.93,1.174897554939528E-3,{"$f":"4*ATAN(-'Calcul courbes'!$C$2*B17+SQRT(('Calcul courbes'!$C$2)^2*B17^2+'Calcul courbes'!$C$3))","v":0.2986680538232056},{"$f":"IF(ROW()>$E$3+1,('Calcul courbes'!$C$8*LOG(B17)+'Calcul courbes'!$C$9),NA())","v":{"$error":"#N/A"}},1.174897554939528E-3,{"$error":"#N/A"},{"$f":"IF(ROW()<$E$3+1,'Calcul courbes'!$C$10,NA())","v":0.29940684993084954},{"$error":"#N/A"},{"$error":"#N/A"}]
[-2.92,1.2022644346174124E-3,{"$f":"4*ATAN(-'Calcul courbes'!$C$2*B18+SQRT(('Calcul courbes'!$C$2)^2*B18^2+'Calcul courbes'!$C$3))","v":0.29866444743722853},{"$f":"IF(ROW()>$E$3+1,('Calcul courbes'!$C$8*LOG(B18)+'Calcul courbes'!$C$9),NA())","v":{"$error":"#N/A"}},1.2022644346174124E-3,{"$error":"#N/A"},{"$f":"IF(ROW()<$E$3+1,'Calcul courbes'!$C$10,NA())","v":0.29940684993084954},{"$error":"#N/A"},{"$error":"#N/A"}]
[-2.91,1.2302687708123808E-3,{"$f":"4*ATAN(-'Calcul courbes'!$C$2*B19+SQRT(('Calcul courbes'!$C$2)^2*B19^2+'Calcul courbes'!$C$3))","v":0.29866075709249934},{"$f":"IF(ROW()>$E$3+1,('Calcul courbes'!$C$8*LOG(B19)+'Calcul courbes'!$C$9),NA())","v":{"$error":"#N/A"}},1.2302687708123808E-3,{"$error":"#N/A"},{"$f":"IF(ROW()<$E$3+1,'Calcul courbes'!$C$10,NA())","v":0.29940684993084954},{"$error":"#N/A"},{"$error":"#N/A"}]
[-2.9,1.2589254117941662E-3,{"$f":"4*ATAN(-'Calcul courbes'!$C$2*B20+SQRT(('Calcul courbes'!$C$2)^2*B20^2+'Calcul courbes'!$C$3))","v":0.29865698083547731},{"$f":"IF(ROW()>$E$3+1,('Calcul courbes'!$C$8*LOG(B20)+'Calcul courbes'!$C$9),NA())","v":{"$error":"#N/A"}},1.2589254117941662E-3,{"$error":"#N/A"},{"$f":"IF(ROW()<$E$3+1,'Calcul courbes'!$C$10,NA())","v":0.29940684993084954},{"$error":"#N/A"},{"$error":"#N/A"}]
[-2.89,1.288249551693133E-3,{"$f":"4*ATAN(-'Calcul courbes'!$C$2*B21+SQRT(('Calcul courbes'!$C$2)^2*B21^2+'Calcul courbes'!$C$3))","v":0.29865311666721739},{"$f":"IF(ROW()>$E$3+1,('Calcul courbes'!$C$8*LOG(B21)+'Calcul courbes'!$C$9),NA())","v":{"$error":"#N/A"}},1.288249551693133E-3,{"$error":"#N/A"},{"$f":"IF(ROW()<$E$3+1,'Calcul courbes'!$C$10,NA())","v":0.29940684993084954},{"$error":"#N/A"},{"$error":"#N/A"}]
[-2.88,1.3182567385564071E-3,{"$f":"4*ATAN(-'Calcul courbes'!$C$2*B22+SQRT(('Calcul courbes'!$C$2)^2*B22^2+'Calcul courbes'!$C$3))","v":0.29864916254231727},{"$f":"IF(ROW()>$E$3+1,('Calcul courbes'!$C$8*LOG(B22)+'Calcul courbes'!$C$9),NA())","v":{"$error":"#N/A"}},1.3182567385564071E-3,{"$error":"#N/A"},{"$f":"IF(ROW()<$E$3+1,'Calcul courbes'!$C$10,NA())","v":0.29940684993084954},{"$error":"#N/A"},{"$error":"#N/A"}]
[-2.87,1.3489628825916523E-3,{"$f":"4*ATAN(-'Calcul courbes'!$C$2*B23+SQRT(('Calcul courbes'!$C$2)^2*B23^2+'Calcul courbes'!$C$3))","v":0.29864511636784025},{"$f":"IF(ROW()>$E$3+1,('Calcul courbes'!$C$8*LOG(B23)+'Calcul courbes'!$C$9),NA())","v":{"$error":"#N/A"}},1.3489628825916523E-3,{"$error":"#N/A"},{"$f":"IF(ROW()<$E$3+1,'Calcul courbes'!$C$10,NA())","v":0.29940684993084954},{"$error":"#N/A"},{"$error":"#N/A"}]
[-2.86,1.3803842646028844E-3,{"$f":"4*ATAN(-'Calcul courbes'!$C$2*B24+SQRT(('Calcul courbes'!$C$2)^2*B24^2+'Calcul courbes'!$C$3))","v":0.29864097600221268},{"$f":"IF(ROW()>$E$3+1,('Calcul courbes'!$C$8*LOG(B24)+'Calcul courbes'!$C$9),NA())","v":{"$error":"#N/A"}},1.3803842646028844E-3,{"$error":"#N/A"},{"$f":"IF(ROW()<$E$3+1,'Calcul courbes'!$C$10,NA())","v":0.29940684993084954},{"$error":"#N/A"},{"$error":"#N/A"}]
[-2.85,1.4125375446227527E-3,{"$f":"4*ATAN(-'Calcul courbes'!$C$2*B25+SQRT(('Calcul courbes'!$C$2)^2*B25^2+'Calcul courbes'!$C$3))","v":0.29863673925409717},{"$f":"IF(ROW()>$E$3+1,('Calcul courbes'!$C$8*LOG(B25)+'Calcul courbes'!$C$9),NA())","v":{"$error":"#N/A"}},1.4125375446227527E-3,{"$error":"#N/A"},{"$f":"IF(ROW()<$E$3+1,'Calcul courbes'!$C$10,NA())","v":0.29940684993084954},{"$error":"#N/A"},{"$error":"#N/A"}]
[-2.84,1.4454397707459271E-3,{"$f":"4*ATAN(-'Calcul courbes'!$C$2*B26+SQRT(('Calcul courbes'!$C$2)^2*B26^2+'Calcul courbes'!$C$3))","v":0.29863240388123857},{"$f":"IF(ROW()>$E$3+1,('Calcul courbes'!$C$8*LOG(B26)+'Calcul courbes'!$C$9),NA())","v":{"$error":"#N/A"}},1.4454397707459271E-3,{"$error":"#N/A"},{"$f":"IF(ROW()<$E$3+1,'Calcul courbes'!$C$10,NA())","v":0.29940684993084954},{"$error":"#N/A"},{"$error":"#N/A"}]
[-2.83,1.4791083881682066E-3,{"$f":"4*ATAN(-'Calcul courbes'!$C$2*B27+SQRT(('Calcul courbes'!$C$2)^2*B27^2+'Calcul courbes'!$C$3))","v":0.298627967589284},{"$f":"IF(ROW()>$E$3+1,('Calcul courbes'!$C$8*LOG(B27)+'Calcul courbes'!$C$9),NA())","v":{"$error":"#N/A"}},1.4791083881682066E-3,{"$error":"#N/A"},{"$f":"IF(ROW()<$E$3+1,'Calcul courbes'!$C$10,NA())","v":0.29940684993084954},{"$error":"#N/A"},{"$error":"#N/A"}]
[-2.82,1.5135612484362072E-3,{"$f":"4*ATAN(-'Calcul courbes'!$C$2*B28+SQRT(('Calcul courbes'!$C$2)^2*B28^2+'Calcul courbes'!$C$3))","v":0.29862342803057551},{"$f":"IF(ROW()>$E$3+1,('Calcul courbes'!$C$8*LOG(B28)+'Calcul courbes'!$C$9),NA())","v":{"$error":"#N/A"}},1.5135612484362072E-3,{"$error":"#N/A"},{"$f":"IF(ROW()<$E$3+1,'Calcul courbes'!$C$10,NA())","v":0.29940684993084954},{"$error":"#N/A"},{"$error":"#N/A"}]
[-2.81,1.5488166189124802E-3,{"$f":"4*ATAN(-'Calcul courbes'!$C$2*B29+SQRT(('Calcul courbes'!$C$2)^2*B29^2+'Calcul courbes'!$C$3))","v":0.29861878280291482},{"$f":"IF(ROW()>$E$3+1,('Calcul courbes'!$C$8*LOG(B29)+'Calcul courbes'!$C$9),NA())","v":{"$error":"#N/A"}},1.5488166189124802E-3,{"$error":"#N/A"},{"$f":"IF(ROW()<$E$3+1,'Calcul courbes'!$C$10,NA())","v":0.29940684993084954},{"$error":"#N/A"},{"$error":"#N/A"}]
[-2.8,1.5848931924611134E-3,{"$f":"4*ATAN(-'Calcul courbes'!$C$2*B30+SQRT(('Calcul courbes'!$C$2)^2*B30^2+'Calcul courbes'!$C$3))","v":0.2986140294482999},{"$f":"IF(ROW()>$E$3+1,('Calcul courbes'!$C$8*LOG(B30)+'Calcul courbes'!$C$9),NA())","v":{"$error":"#N/A"}},1.5848931924611134E-3,{"$error":"#N/A"},{"$f":"IF(ROW()<$E$3+1,'Calcul courbes'!$C$10,NA())","v":0.29940684993084954},{"$error":"#N/A"},{"$error":"#N/A"}]
[-2.79,1.6218100973589284E-3,{"$f":"4*ATAN(-'Calcul courbes'!$C$2*B31+SQRT(('Calcul courbes'!$C$2)^2*B31^2+'Calcul courbes'!$C$3))","v":0.29860916545163196},{"$f":"IF(ROW()>$E$3+1,('Calcul courbes'!$C$8*LOG(B31)+'Calcul courbes'!$C$9),NA())","v":{"$error":"#N/A"}},1.6218100973589284E-3,{"$error":"#N/A"},{"$f":"IF(ROW()<$E$3+1,'Calcul courbes'!$C$10,NA())","v":0.29940684993084954},{"$error":"#N/A"},{"$error":"#N/A"}]
[-2.78000000000001,1.6595869074375205E-3,{"$f":"4*ATAN(-'Calcul courbes'!$C$2*B32+SQRT(('Calcul courbes'!$C$2)^2*B32^2+'Calcul courbes'!$C$3))","v":0.29860418823939333},{"$f":"IF(ROW()>$E$3+1,('Calcul courbes'!$C$8*LOG(B32)+'Calcul courbes'!$C$9),NA())","v":{"$error":"#N/A"}},1.6595869074375205E-3,{"$error":"#N/A"},{"$f":"IF(ROW()<$E$3+1,'Calcul courbes'!$C$10,NA())","v":0.29940684993084954},{"$error":"#N/A"},{"$error":"#N/A"}]
[-2.77,1.6982436524617425E-3,{"$f":"4*ATAN(-'Calcul courbes'!$C$2*B33+SQRT(('Calcul courbes'!$C$2)^2*B33^2+'Calcul courbes'!$C$3))","v":0.29859909517829381},{"$f":"IF(ROW()>$E$3+1,('Calcul courbes'!$C$8*LOG(B33)+'Calcul courbes'!$C$9),NA())","v":{"$error":"#N/A"}},1.6982436524617425E-3,{"$error":"#N/A"},{"$f":"IF(ROW()<$E$3+1,'Calcul courbes'!$C$10,NA())","v":0.29940684993084954},{"$error":"#N/A"},{"$error":"#N/A"}]
[-2.76000000000001,1.7378008287493348E-3,{"$f":"4*ATAN(-'Calcul courbes'!$C$2*B34+SQRT(('Calcul courbes'!$C$2)^2*B34^2+'Calcul courbes'!$C$3))","v":0.29859388357388728},{"$f":"IF(ROW()>$E$3+1,('Calcul courbes'!$C$8*LOG(B34)+'Calcul courbes'!$C$9),NA())","v":{"$error":"#N/A"}},1.7378008287493348E-3,{"$error":"#N/A"},{"$f":"IF(ROW()<$E$3+1,'Calcul courbes'!$C$10,NA())","v":0.29940684993084954},{"$error":"#N/A"},{"$error":"#N/A"}]
[-2.75,1.7782794100389223E-3,{"$f":"4*ATAN(-'Calcul courbes'!$C$2*B35+SQRT(('Calcul courbes'!$C$2)^2*B35^2+'Calcul courbes'!$C$3))","v":0.29858855066915524},{"$f":"IF(ROW()>$E$3+1,('Calcul courbes'!$C$8*LOG(B35)+'Calcul courbes'!$C$9),NA())","v":{"$error":"#N/A"}},1.7782794100389223E-3,{"$error":"#N/A"},{"$f":"IF(ROW()<$E$3+1,'Calcul courbes'!$C$10,NA())","v":0.29940684993084954},{"$error":"#N/A"},{"$error":"#N/A"}]
[-2.74000000000001,1.8197008586099406E-3,{"$f":"4*ATAN(-'Calcul courbes'!$C$2*B36+SQRT(('Calcul courbes'!$C$2)^2*B36^2+'Calcul courbes'!$C$3))","v":0.29858309364305846},{"$f":"IF(ROW()>$E$3+1,('Calcul courbes'!$C$8*LOG(B36)+'Calcul courbes'!$C$9),NA())","v":{"$error":"#N/A"}},1.8197008586099406E-3,{"$error":"#N/A"},{"$f":"IF(ROW()<$E$3+1,'Calcul courbes'!$C$10,NA())","v":0.29940684993084954},{"$error":"#N/A"},{"$error":"#N/A"}]
[-2.7300000000000102,1.8620871366628235E-3,{"$f":"4*ATAN(-'Calcul courbes'!$C$2*B37+SQRT(('Calcul courbes'!$C$2)^2*B37^2+'Calcul courbes'!$C$3))","v":0.29857750960905494},{"$f":"IF(ROW()>$E$3+1,('Calcul courbes'!$C$8*LOG(B37)+'Calcul courbes'!$C$9),NA())","v":{"$error":"#N/A"}},1.8620871366628235E-3,{"$error":"#N/A"},{"$f":"IF(ROW()<$E$3+1,'Calcul courbes'!$C$10,NA())","v":0.29940684993084954},{"$error":"#N/A"},{"$error":"#N/A"}]
[-2.72000000000001,1.9054607179632018E-3,{"$f":"4*ATAN(-'Calcul courbes'!$C$2*B38+SQRT(('Calcul courbes'!$C$2)^2*B38^2+'Calcul courbes'!$C$3))","v":0.2985717956135841},{"$f":"IF(ROW()>$E$3+1,('Calcul courbes'!$C$8*LOG(B38)+'Calcul courbes'!$C$9),NA())","v":{"$error":"#N/A"}},1.9054607179632018E-3,{"$error":"#N/A"},{"$f":"IF(ROW()<$E$3+1,'Calcul courbes'!$C$10,NA())","v":0.29940684993084954},{"$error":"#N/A"},{"$error":"#N/A"}]
[-2.7100000000000102,1.9498445997579987E-3,{"$f":"4*ATAN(-'Calcul courbes'!$C$2*B39+SQRT(('Calcul courbes'!$C$2)^2*B39^2+'Calcul courbes'!$C$3))","v":0.29856594863451591},{"$f":"IF(ROW()>$E$3+1,('Calcul courbes'!$C$8*LOG(B39)+'Calcul courbes'!$C$9),NA())","v":{"$error":"#N/A"}},1.9498445997579987E-3,{"$error":"#N/A"},{"$f":"IF(ROW()<$E$3+1,'Calcul courbes'!$C$10,NA())","v":0.29940684993084954},{"$error":"#N/A"},{"$error":"#N/A"}]
[-2.7000000000000099,1.9952623149688338E-3,{"$f":"4*ATAN(-'Calcul courbes'!$C$2*B40+SQRT(('Calcul courbes'!$C$2)^2*B40^2+'Calcul courbes'!$C$3))","v":0.29855996557956443},{"$f":"IF(ROW()>$E$3+1,('Calcul courbes'!$C$8*LOG(B40)+'Calcul courbes'!$C$9),NA())","v":{"$error":"#N/A"}},1.9952623149688338E-3,{"$error":"#N/A"},{"$f":"IF(ROW()<$E$3+1,'Calcul courbes'!$C$10,NA())","v":0.29940684993084954},{"$error":"#N/A"},{"$error":"#N/A"}]
[-2.6900000000000102,2.0417379446694803E-3,{"$f":"4*ATAN(-'Calcul courbes'!$C$2*B41+SQRT(('Calcul courbes'!$C$2)^2*B41^2+'Calcul courbes'!$C$3))","v":0.29855384328466472},{"$f":"IF(ROW()>$E$3+1,('Calcul courbes'!$C$8*LOG(B41)+'Calcul courbes'!$C$9),NA())","v":{"$error":"#N/A"}},2.0417379446694803E-3,{"$error":"#N/A"},{"$f":"IF(ROW()<$E$3+1,'Calcul courbes'!$C$10,NA())","v":0.29940684993084954},{"$error":"#N/A"},{"$error":"#N/A"}]
[-2.6800000000000099,2.0892961308539909E-3,{"$f":"4*ATAN(-'Calcul courbes'!$C$2*B42+SQRT(('Calcul courbes'!$C$2)^2*B42^2+'Calcul courbes'!$C$3))","v":0.29854757851231317},{"$f":"IF(ROW()>$E$3+1,('Calcul courbes'!$C$8*LOG(B42)+'Calcul courbes'!$C$9),NA())","v":{"$error":"#N/A"}},2.0892961308539909E-3,{"$error":"#N/A"},{"$f":"IF(ROW()<$E$3+1,'Calcul courbes'!$C$10,NA())","v":0.29940684993084954},{"$error":"#N/A"},{"$error":"#N/A"}]
[-2.6700000000000101,2.1379620895021806E-3,{"$f":"4*ATAN(-'Calcul courbes'!$C$2*B43+SQRT(('Calcul courbes'!$C$2)^2*B43^2+'Calcul courbes'!$C$3))","v":0.29854116794986868},{"$f":"IF(ROW()>$E$3+1,('Calcul courbes'!$C$8*LOG(B43)+'Calcul courbes'!$C$9),NA())","v":{"$error":"#N/A"}},2.1379620895021806E-3,{"$error":"#N/A"},{"$f":"IF(ROW()<$E$3+1,'Calcul courbes'!$C$10,NA())","v":0.29940684993084954},{"$error":"#N/A"},{"$error":"#N/A"}]
[-2.6600000000000099,2.1877616239495013E-3,{"$f":"4*ATAN(-'Calcul courbes'!$C$2*B44+SQRT(('Calcul courbes'!$C$2)^2*B44^2+'Calcul courbes'!$C$3))","v":0.2985346082078158},{"$f":"IF(ROW()>$E$3+1,('Calcul courbes'!$C$8*LOG(B44)+'Calcul courbes'!$C$9),NA())","v":{"$error":"#N/A"}},2.1877616239495013E-3,{"$error":"#N/A"},{"$f":"IF(ROW()<$E$3+1,'Calcul courbes'!$C$10,NA())","v":0.29940684993084954},{"$error":"#N/A"},{"$error":"#N/A"}]
[-2.6500000000000101,2.238721138568287E-3,{"$f":"4*ATAN(-'Calcul courbes'!$C$2*B45+SQRT(('Calcul courbes'!$C$2)^2*B45^2+'Calcul courbes'!$C$3))","v":0.29852789581798733},{"$f":"IF(ROW()>$E$3+1,('Calcul courbes'!$C$8*LOG(B45)+'Calcul courbes'!$C$9),NA())","v":{"$error":"#N/A"}},2.238721138568287E-3,{"$error":"#N/A"},{"$f":"IF(ROW()<$E$3+1,'Calcul courbes'!$C$10,NA())","v":0.29940684993084954},{"$error":"#N/A"},{"$error":"#N/A"}]
[-2.6400000000000099,2.290867652767719E-3,{"$f":"4*ATAN(-'Calcul courbes'!$C$2*B46+SQRT(('Calcul courbes'!$C$2)^2*B46^2+'Calcul courbes'!$C$3))","v":0.29852102723174639},{"$f":"IF(ROW()>$E$3+1,('Calcul courbes'!$C$8*LOG(B46)+'Calcul courbes'!$C$9),NA())","v":{"$error":"#N/A"}},2.290867652767719E-3,{"$error":"#N/A"},{"$f":"IF(ROW()<$E$3+1,'Calcul courbes'!$C$10,NA())","v":0.29940684993084954},{"$error":"#N/A"},{"$error":"#N/A"}]
[-2.6300000000000101,2.3442288153198666E-3,{"$f":"4*ATAN(-'Calcul courbes'!$C$2*B47+SQRT(('Calcul courbes'!$C$2)^2*B47^2+'Calcul courbes'!$C$3))","v":0.29851399881812735},{"$f":"IF(ROW()>$E$3+1,('Calcul courbes'!$C$8*LOG(B47)+'Calcul courbes'!$C$9),NA())","v":{"$error":"#N/A"}},2.3442288153198666E-3,{"$error":"#N/A"},{"$f":"IF(ROW()<$E$3+1,'Calcul courbes'!$C$10,NA())","v":0.29940684993084954},{"$error":"#N/A"},{"$error":"#N/A"}]
[-2.6200000000000099,2.3988329190194353E-3,{"$f":"4*ATAN(-'Calcul courbes'!$C$2*B48+SQRT(('Calcul courbes'!$C$2)^2*B48^2+'Calcul courbes'!$C$3))","v":0.29850680686193304},{"$f":"IF(ROW()>$E$3+1,('Calcul courbes'!$C$8*LOG(B48)+'Calcul courbes'!$C$9),NA())","v":{"$error":"#N/A"}},2.3988329190194353E-3,{"$error":"#N/A"},{"$f":"IF(ROW()<$E$3+1,'Calcul courbes'!$C$10,NA())","v":0.29940684993084954},{"$error":"#N/A"},{"$error":"#N/A"}]
[-2.6100000000000101,2.4547089156849713E-3,{"$f":"4*ATAN(-'Calcul courbes'!$C$2*B49+SQRT(('Calcul courbes'!$C$2)^2*B49^2+'Calcul courbes'!$C$3))","v":0.29849944756178942},{"$f":"IF(ROW()>$E$3+1,('Calcul courbes'!$C$8*LOG(B49)+'Calcul courbes'!$C$9),NA())","v":{"$error":"#N/A"}},2.4547089156849713E-3,{"$error":"#N/A"},{"$f":"IF(ROW()<$E$3+1,'Calcul courbes'!$C$10,NA())","v":0.29940684993084954},{"$error":"#N/A"},{"$error":"#N/A"}]
[-2.6000000000000099,2.5118864315095218E-3,{"$f":"4*ATAN(-'Calcul courbes'!$C$2*B50+SQRT(('Calcul courbes'!$C$2)^2*B50^2+'Calcul courbes'!$C$3))","v":0.29849191702815514},{"$f":"IF(ROW()>$E$3+1,('Calcul courbes'!$C$8*LOG(B50)+'Calcul courbes'!$C$9),NA())","v":{"$error":"#N/A"}},2.5118864315095218E-3,{"$error":"#N/A"},{"$f":"IF(ROW()<$E$3+1,'Calcul courbes'!$C$10,NA())","v":0.29940684993084954},{"$error":"#N/A"},{"$error":"#N/A"}]
[-2.5900000000000101,2.5703957827688021E-3,{"$f":"4*ATAN(-'Calcul courbes'!$C$2*B51+SQRT(('Calcul courbes'!$C$2)^2*B51^2+'Calcul courbes'!$C$3))","v":0.29848421128128566},{"$f":"IF(ROW()>$E$3+1,('Calcul courbes'!$C$8*LOG(B51)+'Calcul courbes'!$C$9),NA())","v":{"$error":"#N/A"}},2.5703957827688021E-3,{"$error":"#N/A"},{"$f":"IF(ROW()<$E$3+1,'Calcul courbes'!$C$10,NA())","v":0.29940684993084954},{"$error":"#N/A"},{"$error":"#N/A"}]
[-2.5800000000000098,2.6302679918953206E-3,{"$f":"4*ATAN(-'Calcul courbes'!$C$2*B52+SQRT(('Calcul courbes'!$C$2)^2*B52^2+'Calcul courbes'!$C$3))","v":0.29847632624915088},{"$f":"IF(ROW()>$E$3+1,('Calcul courbes'!$C$8*LOG(B52)+'Calcul courbes'!$C$9),NA())","v":{"$error":"#N/A"}},2.6302679918953206E-3,{"$error":"#N/A"},{"$f":"IF(ROW()<$E$3+1,'Calcul courbes'!$C$10,NA())","v":0.29940684993084954},{"$error":"#N/A"},{"$error":"#N/A"}]
[-2.5700000000000101,2.6915348039268528E-3,{"$f":"4*ATAN(-'Calcul courbes'!$C$2*B53+SQRT(('Calcul courbes'!$C$2)^2*B53^2+'Calcul courbes'!$C$3))","v":0.29846825776530495},{"$f":"IF(ROW()>$E$3+1,('Calcul courbes'!$C$8*LOG(B53)+'Calcul courbes'!$C$9),NA())","v":{"$error":"#N/A"}},2.6915348039268528E-3,{"$error":"#N/A"},{"$f":"IF(ROW()<$E$3+1,'Calcul courbes'!$C$10,NA())","v":0.29940684993084954},{"$error":"#N/A"},{"$error":"#N/A"}]
[-2.5600000000000098,2.7542287033381018E-3,{"$f":"4*ATAN(-'Calcul courbes'!$C$2*B54+SQRT(('Calcul courbes'!$C$2)^2*B54^2+'Calcul courbes'!$C$3))","v":0.29846000156670749},{"$f":"IF(ROW()>$E$3+1,('Calcul courbes'!$C$8*LOG(B54)+'Calcul courbes'!$C$9),NA())","v":{"$error":"#N/A"}},2.7542287033381018E-3,{"$error":"#N/A"},{"$f":"IF(ROW()<$E$3+1,'Calcul courbes'!$C$10,NA())","v":0.29940684993084954},{"$error":"#N/A"},{"$error":"#N/A"}]
[-2.55000000000001,2.8183829312643871E-3,{"$f":"4*ATAN(-'Calcul courbes'!$C$2*B55+SQRT(('Calcul courbes'!$C$2)^2*B55^2+'Calcul courbes'!$C$3))","v":0.29845155329149531},{"$f":"IF(ROW()>$E$3+1,('Calcul courbes'!$C$8*LOG(B55)+'Calcul courbes'!$C$9),NA())","v":{"$error":"#N/A"}},2.8183829312643871E-3,{"$error":"#N/A"},{"$f":"IF(ROW()<$E$3+1,'Calcul courbes'!$C$10,NA())","v":0.29940684993084954},{"$error":"#N/A"},{"$error":"#N/A"}]
[-2.5400000000000098,2.88403150312654E-3,{"$f":"4*ATAN(-'Calcul courbes'!$C$2*B56+SQRT(('Calcul courbes'!$C$2)^2*B56^2+'Calcul courbes'!$C$3))","v":0.2984429084767028},{"$f":"IF(ROW()>$E$3+1,('Calcul courbes'!$C$8*LOG(B56)+'Calcul courbes'!$C$9),NA())","v":{"$error":"#N/A"}},2.88403150312654E-3,{"$error":"#N/A"},{"$f":"IF(ROW()<$E$3+1,'Calcul courbes'!$C$10,NA())","v":0.29940684993084954},{"$error":"#N/A"},{"$error":"#N/A"}]
[-2.53000000000001,2.9512092266663153E-3,{"$f":"4*ATAN(-'Calcul courbes'!$C$2*B57+SQRT(('Calcul courbes'!$C$2)^2*B57^2+'Calcul courbes'!$C$3))","v":0.2984340625559303},{"$f":"IF(ROW()>$E$3+1,('Calcul courbes'!$C$8*LOG(B57)+'Calcul courbes'!$C$9),NA())","v":{"$error":"#N/A"}},2.9512092266663153E-3,{"$error":"#N/A"},{"$f":"IF(ROW()<$E$3+1,'Calcul courbes'!$C$10,NA())","v":0.29940684993084954},{"$error":"#N/A"},{"$error":"#N/A"}]
[-2.5200000000000098,3.0199517204019467E-3,{"$f":"4*ATAN(-'Calcul courbes'!$C$2*B58+SQRT(('Calcul courbes'!$C$2)^2*B58^2+'Calcul courbes'!$C$3))","v":0.29842501085695944},{"$f":"IF(ROW()>$E$3+1,('Calcul courbes'!$C$8*LOG(B58)+'Calcul courbes'!$C$9),NA())","v":{"$error":"#N/A"}},3.0199517204019467E-3,{"$error":"#N/A"},{"$f":"IF(ROW()<$E$3+1,'Calcul courbes'!$C$10,NA())","v":0.29940684993084954},{"$error":"#N/A"},{"$error":"#N/A"}]
[-2.51000000000001,3.0902954325135162E-3,{"$f":"4*ATAN(-'Calcul courbes'!$C$2*B59+SQRT(('Calcul courbes'!$C$2)^2*B59^2+'Calcul courbes'!$C$3))","v":0.29841574859931436},{"$f":"IF(ROW()>$E$3+1,('Calcul courbes'!$C$8*LOG(B59)+'Calcul courbes'!$C$9),NA())","v":{"$error":"#N/A"}},3.0902954325135162E-3,{"$error":"#N/A"},{"$f":"IF(ROW()<$E$3+1,'Calcul courbes'!$C$10,NA())","v":0.29940684993084954},{"$error":"#N/A"},{"$error":"#N/A"}]
[-2.5000000000000102,3.1622776601683035E-3,{"$f":"4*ATAN(-'Calcul courbes'!$C$2*B60+SQRT(('Calcul courbes'!$C$2)^2*B60^2+'Calcul courbes'!$C$3))","v":0.29840627089176663},{"$f":"IF(ROW()>$E$3+1,('Calcul courbes'!$C$8*LOG(B60)+'Calcul courbes'!$C$9),NA())","v":{"$error":"#N/A"}},3.1622776601683035E-3,{"$error":"#N/A"},{"$f":"IF(ROW()<$E$3+1,'Calcul courbes'!$C$10,NA())","v":0.29940684993084954},{"$error":"#N/A"},{"$error":"#N/A"}]
[-2.49000000000001,3.2359365692962074E-3,{"$f":"4*ATAN(-'Calcul courbes'!$C$2*B61+SQRT(('Calcul courbes'!$C$2)^2*B61^2+'Calcul courbes'!$C$3))","v":0.29839657272978415},{"$f":"IF(ROW()>$E$3+1,('Calcul courbes'!$C$8*LOG(B61)+'Calcul courbes'!$C$9),NA())","v":{"$error":"#N/A"}},3.2359365692962074E-3,{"$error":"#N/A"},{"$f":"IF(ROW()<$E$3+1,'Calcul courbes'!$C$10,NA())","v":0.29940684993084954},{"$error":"#N/A"},{"$error":"#N/A"}]
[-2.4800000000000102,3.3113112148258307E-3,{"$f":"4*ATAN(-'Calcul courbes'!$C$2*B62+SQRT(('Calcul courbes'!$C$2)^2*B62^2+'Calcul courbes'!$C$3))","v":0.29838664899292111},{"$f":"IF(ROW()>$E$3+1,('Calcul courbes'!$C$8*LOG(B62)+'Calcul courbes'!$C$9),NA())","v":{"$error":"#N/A"}},3.3113112148258307E-3,{"$error":"#N/A"},{"$f":"IF(ROW()<$E$3+1,'Calcul courbes'!$C$10,NA())","v":0.29940684993084954},{"$error":"#N/A"},{"$error":"#N/A"}]
[-2.47000000000001,3.3884415613919458E-3,{"$f":"4*ATAN(-'Calcul courbes'!$C$2*B63+SQRT(('Calcul courbes'!$C$2)^2*B63^2+'Calcul courbes'!$C$3))","v":0.29837649444214942},{"$f":"IF(ROW()>$E$3+1,('Calcul courbes'!$C$8*LOG(B63)+'Calcul courbes'!$C$9),NA())","v":{"$error":"#N/A"}},3.3884415613919458E-3,{"$error":"#N/A"},{"$f":"IF(ROW()<$E$3+1,'Calcul courbes'!$C$10,NA())","v":0.29940684993084954},{"$error":"#N/A"},{"$error":"#N/A"}]
[-2.4600000000000102,3.4673685045252347E-3,{"$f":"4*ATAN(-'Calcul courbes'!$C$2*B64+SQRT(('Calcul courbes'!$C$2)^2*B64^2+'Calcul courbes'!$C$3))","v":0.29836610371712857},{"$f":"IF(ROW()>$E$3+1,('Calcul courbes'!$C$8*LOG(B64)+'Calcul courbes'!$C$9),NA())","v":{"$error":"#N/A"}},3.4673685045252347E-3,{"$error":"#N/A"},{"$f":"IF(ROW()<$E$3+1,'Calcul courbes'!$C$10,NA())","v":0.29940684993084954},{"$error":"#N/A"},{"$error":"#N/A"}]
[-2.4500000000000099,3.5481338923356704E-3,{"$f":"4*ATAN(-'Calcul courbes'!$C$2*B65+SQRT(('Calcul courbes'!$C$2)^2*B65^2+'Calcul courbes'!$C$3))","v":0.29835547133341411},{"$f":"IF(ROW()>$E$3+1,('Calcul courbes'!$C$8*LOG(B65)+'Calcul courbes'!$C$9),NA())","v":{"$error":"#N/A"}},3.5481338923356704E-3,{"$error":"#N/A"},{"$f":"IF(ROW()<$E$3+1,'Calcul courbes'!$C$10,NA())","v":0.29940684993084954},{"$error":"#N/A"},{"$error":"#N/A"}]
[-2.4400000000000102,3.6307805477009268E-3,{"$f":"4*ATAN(-'Calcul courbes'!$C$2*B66+SQRT(('Calcul courbes'!$C$2)^2*B66^2+'Calcul courbes'!$C$3))","v":0.29834459167960259},{"$f":"IF(ROW()>$E$3+1,('Calcul courbes'!$C$8*LOG(B66)+'Calcul courbes'!$C$9),NA())","v":{"$error":"#N/A"}},3.6307805477009268E-3,{"$error":"#N/A"},{"$f":"IF(ROW()<$E$3+1,'Calcul courbes'!$C$10,NA())","v":0.29940684993084954},{"$error":"#N/A"},{"$error":"#N/A"}]
[-2.4300000000000099,3.7153522909716399E-3,{"$f":"4*ATAN(-'Calcul courbes'!$C$2*B67+SQRT(('Calcul courbes'!$C$2)^2*B67^2+'Calcul courbes'!$C$3))","v":0.29833345901441105},{"$f":"IF(ROW()>$E$3+1,('Calcul courbes'!$C$8*LOG(B67)+'Calcul courbes'!$C$9),NA())","v":{"$error":"#N/A"}},3.7153522909716399E-3,{"$error":"#N/A"},{"$f":"IF(ROW()<$E$3+1,'Calcul courbes'!$C$10,NA())","v":0.29940684993084954},{"$error":"#N/A"},{"$error":"#N/A"}]
[-2.4200000000000101,3.8018939632055212E-3,{"$f":"4*ATAN(-'Calcul courbes'!$C$2*B68+SQRT(('Calcul courbes'!$C$2)^2*B68^2+'Calcul courbes'!$C$3))","v":0.29832206746369122},{"$f":"IF(ROW()>$E$3+1,('Calcul courbes'!$C$8*LOG(B68)+'Calcul courbes'!$C$9),NA())","v":{"$error":"#N/A"}},3.8018939632055212E-3,{"$error":"#N/A"},{"$f":"IF(ROW()<$E$3+1,'Calcul courbes'!$C$10,NA())","v":0.29940684993084954},{"$error":"#N/A"},{"$error":"#N/A"}]
[-2.4100000000000099,3.8904514499427164E-3,{"$f":"4*ATAN(-'Calcul courbes'!$C$2*B69+SQRT(('Calcul courbes'!$C$2)^2*B69^2+'Calcul courbes'!$C$3))","v":0.29831041101737521},{"$f":"IF(ROW()>$E$3+1,('Calcul courbes'!$C$8*LOG(B69)+'Calcul courbes'!$C$9),NA())","v":{"$error":"#N/A"}},3.8904514499427164E-3,{"$error":"#N/A"},{"$f":"IF(ROW()<$E$3+1,'Calcul courbes'!$C$10,NA())","v":0.29940684993084954},{"$error":"#N/A"},{"$error":"#N/A"}]
[-2.4000000000000101,3.9810717055348763E-3,{"$f":"4*ATAN(-'Calcul courbes'!$C$2*B70+SQRT(('Calcul courbes'!$C$2)^2*B70^2+'Calcul courbes'!$C$3))","v":0.29829848352635252},{"$f":"IF(ROW()>$E$3+1,('Calcul courbes'!$C$8*LOG(B70)+'Calcul courbes'!$C$9),NA())","v":{"$error":"#N/A"}},3.9810717055348763E-3,{"$error":"#N/A"},{"$f":"IF(ROW()<$E$3+1,'Calcul courbes'!$C$10,NA())","v":0.29940684993084954},{"$error":"#N/A"},{"$error":"#N/A"}]
[-2.3900000000000099,4.0738027780410323E-3,{"$f":"4*ATAN(-'Calcul courbes'!$C$2*B71+SQRT(('Calcul courbes'!$C$2)^2*B71^2+'Calcul courbes'!$C$3))","v":0.29828627869927582},{"$f":"IF(ROW()>$E$3+1,('Calcul courbes'!$C$8*LOG(B71)+'Calcul courbes'!$C$9),NA())","v":{"$error":"#N/A"}},4.0738027780410323E-3,{"$error":"#N/A"},{"$f":"IF(ROW()<$E$3+1,'Calcul courbes'!$C$10,NA())","v":0.29940684993084954},{"$error":"#N/A"},{"$error":"#N/A"}]
[-2.3800000000000101,4.1686938347032564E-3,{"$f":"4*ATAN(-'Calcul courbes'!$C$2*B72+SQRT(('Calcul courbes'!$C$2)^2*B72^2+'Calcul courbes'!$C$3))","v":0.29827379009929489},{"$f":"IF(ROW()>$E$3+1,('Calcul courbes'!$C$8*LOG(B72)+'Calcul courbes'!$C$9),NA())","v":{"$error":"#N/A"}},4.1686938347032564E-3,{"$error":"#N/A"},{"$f":"IF(ROW()<$E$3+1,'Calcul courbes'!$C$10,NA())","v":0.29940684993084954},{"$error":"#N/A"},{"$error":"#N/A"}]
[-2.3700000000000099,4.2657951880158262E-3,{"$f":"4*ATAN(-'Calcul courbes'!$C$2*B73+SQRT(('Calcul courbes'!$C$2)^2*B73^2+'Calcul courbes'!$C$3))","v":0.29826101114071651},{"$f":"IF(ROW()>$E$3+1,('Calcul courbes'!$C$8*LOG(B73)+'Calcul courbes'!$C$9),NA())","v":{"$error":"#N/A"}},4.2657951880158262E-3,{"$error":"#N/A"},{"$f":"IF(ROW()<$E$3+1,'Calcul courbes'!$C$10,NA())","v":0.29940684993084954},{"$error":"#N/A"},{"$error":"#N/A"}]
[-2.3600000000000101,4.365158322401556E-3,{"$f":"4*ATAN(-'Calcul courbes'!$C$2*B74+SQRT(('Calcul courbes'!$C$2)^2*B74^2+'Calcul courbes'!$C$3))","v":0.29824793508558861},{"$f":"IF(ROW()>$E$3+1,('Calcul courbes'!$C$8*LOG(B74)+'Calcul courbes'!$C$9),NA())","v":{"$error":"#N/A"}},4.365158322401556E-3,{"$error":"#N/A"},{"$f":"IF(ROW()<$E$3+1,'Calcul courbes'!$C$10,NA())","v":0.29940684993084954},{"$error":"#N/A"},{"$error":"#N/A"}]
[-2.3500000000000099,{"$f":"10^A75","v":4.466835921509529E-3},{"$f":"4*ATAN(-'Calcul courbes'!$C$2*B75+SQRT(('Calcul courbes'!$C$2)^2*B75^2+'Calcul courbes'!$C$3))","v":0.29823455504020796},{"$f":"IF(ROW()>$E$3+1,('Calcul courbes'!$C$8*LOG(B75)+'Calcul courbes'!$C$9),NA())","v":{"$error":"#N/A"}},{"$f":"IF(ROW()<$F$3+1,B75,NA())","v":4.466835921509529E-3},{"$f":"IF(ROW()>$E$3+1,E75,NA())","v":{"$error":"#N/A"}},{"$f":"IF(ROW()<$E$3+1,'Calcul courbes'!$C$10,NA())","v":0.29940684993084954},{"$f":"IF(ROW()>$F$3-1,0,NA())","v":{"$error":"#N/A"}},{"$f":"IF(ROW()=$F$3-1,0,NA())","v":{"$error":"#N/A"}}]
[-2.3400000000000101,4.5708818961486411E-3,{"$f":"4*ATAN(-'Calcul courbes'!$C$2*B76+SQRT(('Calcul courbes'!$C$2)^2*B76^2+'Calcul courbes'!$C$3))","v":0.29822086395154807},{"$f":"IF(ROW()>$E$3+1,('Calcul courbes'!$C$8*LOG(B76)+'Calcul courbes'!$C$9),NA())","v":{"$error":"#N/A"}},4.5708818961486411E-3,{"$error":"#N/A"},{"$f":"IF(ROW()<$E$3+1,'Calcul courbes'!$C$10,NA())","v":0.29940684993084954},{"$error":"#N/A"},{"$error":"#N/A"}]
[-2.3300000000000098,4.6773514128718744E-3,{"$f":"4*ATAN(-'Calcul courbes'!$C$2*B77+SQRT(('Calcul courbes'!$C$2)^2*B77^2+'Calcul courbes'!$C$3))","v":0.29820685460360763},{"$f":"IF(ROW()>$E$3+1,('Calcul courbes'!$C$8*LOG(B77)+'Calcul courbes'!$C$9),NA())","v":{"$error":"#N/A"}},4.6773514128718744E-3,{"$error":"#N/A"},{"$f":"IF(ROW()<$E$3+1,'Calcul courbes'!$C$10,NA())","v":0.29940684993084954},{"$error":"#N/A"},{"$error":"#N/A"}]
[-2.3200000000000101,4.7863009232262683E-3,{"$f":"4*ATAN(-'Calcul courbes'!$C$2*B78+SQRT(('Calcul courbes'!$C$2)^2*B78^2+'Calcul courbes'!$C$3))","v":0.29819251961367571},{"$f":"IF(ROW()>$E$3+1,('Calcul courbes'!$C$8*LOG(B78)+'Calcul courbes'!$C$9),NA())","v":{"$error":"#N/A"}},4.7863009232262683E-3,{"$error":"#N/A"},{"$f":"IF(ROW()<$E$3+1,'Calcul courbes'!$C$10,NA())","v":0.29940684993084954},{"$error":"#N/A"},{"$error":"#N/A"}]
[-2.31000000000002,4.8977881936842355E-3,{"$f":"4*ATAN(-'Calcul courbes'!$C$2*B79+SQRT(('Calcul courbes'!$C$2)^2*B79^2+'Calcul courbes'!$C$3))","v":0.29817785142851355},{"$f":"IF(ROW()>$E$3+1,('Calcul courbes'!$C$8*LOG(B79)+'Calcul courbes'!$C$9),NA())","v":{"$error":"#N/A"}},4.8977881936842355E-3,{"$error":"#N/A"},{"$f":"IF(ROW()<$E$3+1,'Calcul courbes'!$C$10,NA())","v":0.29940684993084954},{"$error":"#N/A"},{"$error":"#N/A"}]
[-2.30000000000001,5.0118723362726058E-3,{"$f":"4*ATAN(-'Calcul courbes'!$C$2*B80+SQRT(('Calcul courbes'!$C$2)^2*B80^2+'Calcul courbes'!$C$3))","v":0.29816284232044998},{"$f":"IF(ROW()>$E$3+1,('Calcul courbes'!$C$8*LOG(B80)+'Calcul courbes'!$C$9),NA())","v":{"$error":"#N/A"}},5.0118723362726058E-3,{"$error":"#N/A"},{"$f":"IF(ROW()<$E$3+1,'Calcul courbes'!$C$10,NA())","v":0.29940684993084954},{"$error":"#N/A"},{"$error":"#N/A"}]
[-2.29000000000002,5.1286138399134103E-3,{"$f":"4*ATAN(-'Calcul courbes'!$C$2*B81+SQRT(('Calcul courbes'!$C$2)^2*B81^2+'Calcul courbes'!$C$3))","v":0.29814748438338967},{"$f":"IF(ROW()>$E$3+1,('Calcul courbes'!$C$8*LOG(B81)+'Calcul courbes'!$C$9),NA())","v":{"$error":"#N/A"}},5.1286138399134103E-3,{"$error":"#N/A"},{"$f":"IF(ROW()<$E$3+1,'Calcul courbes'!$C$10,NA())","v":0.29940684993084954},{"$error":"#N/A"},{"$error":"#N/A"}]
[-2.28000000000001,5.2480746024976032E-3,{"$f":"4*ATAN(-'Calcul courbes'!$C$2*B82+SQRT(('Calcul courbes'!$C$2)^2*B82^2+'Calcul courbes'!$C$3))","v":0.29813176952873094},{"$f":"IF(ROW()>$E$3+1,('Calcul courbes'!$C$8*LOG(B82)+'Calcul courbes'!$C$9),NA())","v":{"$error":"#N/A"}},5.2480746024976032E-3,{"$error":"#N/A"},{"$f":"IF(ROW()<$E$3+1,'Calcul courbes'!$C$10,NA())","v":0.29940684993084954},{"$error":"#N/A"},{"$error":"#N/A"}]
[-2.27000000000002,5.3703179637022763E-3,{"$f":"4*ATAN(-'Calcul courbes'!$C$2*B83+SQRT(('Calcul courbes'!$C$2)^2*B83^2+'Calcul courbes'!$C$3))","v":0.29811568948119288},{"$f":"IF(ROW()>$E$3+1,('Calcul courbes'!$C$8*LOG(B83)+'Calcul courbes'!$C$9),NA())","v":{"$error":"#N/A"}},5.3703179637022763E-3,{"$error":"#N/A"},{"$f":"IF(ROW()<$E$3+1,'Calcul courbes'!$C$10,NA())","v":0.29940684993084954},{"$error":"#N/A"},{"$error":"#N/A"}]
[-2.2600000000000202,5.4954087385759888E-3,{"$f":"4*ATAN(-'Calcul courbes'!$C$2*B84+SQRT(('Calcul courbes'!$C$2)^2*B84^2+'Calcul courbes'!$C$3))","v":0.298099235774548},{"$f":"IF(ROW()>$E$3+1,('Calcul courbes'!$C$8*LOG(B84)+'Calcul courbes'!$C$9),NA())","v":{"$error":"#N/A"}},5.4954087385759888E-3,{"$error":"#N/A"},{"$f":"IF(ROW()<$E$3+1,'Calcul courbes'!$C$10,NA())","v":0.29940684993084954},{"$error":"#N/A"},{"$error":"#N/A"}]
[-2.25000000000002,5.6234132519032264E-3,{"$f":"4*ATAN(-'Calcul courbes'!$C$2*B85+SQRT(('Calcul courbes'!$C$2)^2*B85^2+'Calcul courbes'!$C$3))","v":0.29808239974726042},{"$f":"IF(ROW()>$E$3+1,('Calcul courbes'!$C$8*LOG(B85)+'Calcul courbes'!$C$9),NA())","v":{"$error":"#N/A"}},5.6234132519032264E-3,{"$error":"#N/A"},{"$f":"IF(ROW()<$E$3+1,'Calcul courbes'!$C$10,NA())","v":0.29940684993084954},{"$error":"#N/A"},{"$error":"#N/A"}]
[-2.2400000000000202,5.7543993733712986E-3,{"$f":"4*ATAN(-'Calcul courbes'!$C$2*B86+SQRT(('Calcul courbes'!$C$2)^2*B86^2+'Calcul courbes'!$C$3))","v":0.29806517253802528},{"$f":"IF(ROW()>$E$3+1,('Calcul courbes'!$C$8*LOG(B86)+'Calcul courbes'!$C$9),NA())","v":{"$error":"#N/A"}},5.7543993733712986E-3,{"$error":"#N/A"},{"$f":"IF(ROW()<$E$3+1,'Calcul courbes'!$C$10,NA())","v":0.29940684993084954},{"$error":"#N/A"},{"$error":"#N/A"}]
[-2.23000000000002,5.8884365535556175E-3,{"$f":"4*ATAN(-'Calcul courbes'!$C$2*B87+SQRT(('Calcul courbes'!$C$2)^2*B87^2+'Calcul courbes'!$C$3))","v":0.29804754508120934},{"$f":"IF(ROW()>$E$3+1,('Calcul courbes'!$C$8*LOG(B87)+'Calcul courbes'!$C$9),NA())","v":{"$error":"#N/A"}},5.8884365535556175E-3,{"$error":"#N/A"},{"$f":"IF(ROW()<$E$3+1,'Calcul courbes'!$C$10,NA())","v":0.29940684993084954},{"$error":"#N/A"},{"$error":"#N/A"}]
[-2.2200000000000202,6.0255958607432934E-3,{"$f":"4*ATAN(-'Calcul courbes'!$C$2*B88+SQRT(('Calcul courbes'!$C$2)^2*B88^2+'Calcul courbes'!$C$3))","v":0.2980295081021897},{"$f":"IF(ROW()>$E$3+1,('Calcul courbes'!$C$8*LOG(B88)+'Calcul courbes'!$C$9),NA())","v":{"$error":"#N/A"}},6.0255958607432934E-3,{"$error":"#N/A"},{"$f":"IF(ROW()<$E$3+1,'Calcul courbes'!$C$10,NA())","v":0.29940684993084954},{"$error":"#N/A"},{"$error":"#N/A"}]
[-2.2100000000000199,6.165950018614536E-3,{"$f":"4*ATAN(-'Calcul courbes'!$C$2*B89+SQRT(('Calcul courbes'!$C$2)^2*B89^2+'Calcul courbes'!$C$3))","v":0.29801105211258772},{"$f":"IF(ROW()>$E$3+1,('Calcul courbes'!$C$8*LOG(B89)+'Calcul courbes'!$C$9),NA())","v":{"$error":"#N/A"}},6.165950018614536E-3,{"$error":"#N/A"},{"$f":"IF(ROW()<$E$3+1,'Calcul courbes'!$C$10,NA())","v":0.29940684993084954},{"$error":"#N/A"},{"$error":"#N/A"}]
[-2.2000000000000202,6.3095734448016388E-3,{"$f":"4*ATAN(-'Calcul courbes'!$C$2*B90+SQRT(('Calcul courbes'!$C$2)^2*B90^2+'Calcul courbes'!$C$3))","v":0.29799216740539819},{"$f":"IF(ROW()>$E$3+1,('Calcul courbes'!$C$8*LOG(B90)+'Calcul courbes'!$C$9),NA())","v":{"$error":"#N/A"}},6.3095734448016388E-3,{"$error":"#N/A"},{"$f":"IF(ROW()<$E$3+1,'Calcul courbes'!$C$10,NA())","v":0.29940684993084954},{"$error":"#N/A"},{"$error":"#N/A"}]
[-2.1900000000000199,6.456542290346254E-3,{"$f":"4*ATAN(-'Calcul courbes'!$C$2*B91+SQRT(('Calcul courbes'!$C$2)^2*B91^2+'Calcul courbes'!$C$3))","v":0.29797284405000868},{"$f":"IF(ROW()>$E$3+1,('Calcul courbes'!$C$8*LOG(B91)+'Calcul courbes'!$C$9),NA())","v":{"$error":"#N/A"}},6.456542290346254E-3,{"$error":"#N/A"},{"$f":"IF(ROW()<$E$3+1,'Calcul courbes'!$C$10,NA())","v":0.29940684993084954},{"$error":"#N/A"},{"$error":"#N/A"}]
[-2.1800000000000201,6.606934480075652E-3,{"$f":"4*ATAN(-'Calcul courbes'!$C$2*B92+SQRT(('Calcul courbes'!$C$2)^2*B92^2+'Calcul courbes'!$C$3))","v":0.29795307188710912},{"$f":"IF(ROW()>$E$3+1,('Calcul courbes'!$C$8*LOG(B92)+'Calcul courbes'!$C$9),NA())","v":{"$error":"#N/A"}},6.606934480075652E-3,{"$error":"#N/A"},{"$f":"IF(ROW()<$E$3+1,'Calcul courbes'!$C$10,NA())","v":0.29940684993084954},{"$error":"#N/A"},{"$error":"#N/A"}]
[-2.1700000000000199,6.7608297539195079E-3,{"$f":"4*ATAN(-'Calcul courbes'!$C$2*B93+SQRT(('Calcul courbes'!$C$2)^2*B93^2+'Calcul courbes'!$C$3))","v":0.29793284052348801},{"$f":"IF(ROW()>$E$3+1,('Calcul courbes'!$C$8*LOG(B93)+'Calcul courbes'!$C$9),NA())","v":{"$error":"#N/A"}},6.7608297539195079E-3,{"$error":"#N/A"},{"$f":"IF(ROW()<$E$3+1,'Calcul courbes'!$C$10,NA())","v":0.29940684993084954},{"$error":"#N/A"},{"$error":"#N/A"}]
[-2.1600000000000201,6.9183097091890409E-3,{"$f":"4*ATAN(-'Calcul courbes'!$C$2*B94+SQRT(('Calcul courbes'!$C$2)^2*B94^2+'Calcul courbes'!$C$3))","v":0.29791213932671312},{"$f":"IF(ROW()>$E$3+1,('Calcul courbes'!$C$8*LOG(B94)+'Calcul courbes'!$C$9),NA())","v":{"$error":"#N/A"}},6.9183097091890409E-3,{"$error":"#N/A"},{"$f":"IF(ROW()<$E$3+1,'Calcul courbes'!$C$10,NA())","v":0.29940684993084954},{"$error":"#N/A"},{"$error":"#N/A"}]
[-2.1500000000000199,7.0794578438410534E-3,{"$f":"4*ATAN(-'Calcul courbes'!$C$2*B95+SQRT(('Calcul courbes'!$C$2)^2*B95^2+'Calcul courbes'!$C$3))","v":0.29789095741969468},{"$f":"IF(ROW()>$E$3+1,('Calcul courbes'!$C$8*LOG(B95)+'Calcul courbes'!$C$9),NA())","v":{"$error":"#N/A"}},7.0794578438410534E-3,{"$error":"#N/A"},{"$f":"IF(ROW()<$E$3+1,'Calcul courbes'!$C$10,NA())","v":0.29940684993084954},{"$error":"#N/A"},{"$error":"#N/A"}]
[-2.1400000000000201,7.24435960074956E-3,{"$f":"4*ATAN(-'Calcul courbes'!$C$2*B96+SQRT(('Calcul courbes'!$C$2)^2*B96^2+'Calcul courbes'!$C$3))","v":0.29786928367512827},{"$f":"IF(ROW()>$E$3+1,('Calcul courbes'!$C$8*LOG(B96)+'Calcul courbes'!$C$9),NA())","v":{"$error":"#N/A"}},7.24435960074956E-3,{"$error":"#N/A"},{"$f":"IF(ROW()<$E$3+1,'Calcul courbes'!$C$10,NA())","v":0.29940684993084954},{"$error":"#N/A"},{"$error":"#N/A"}]
[-2.1300000000000199,7.4131024130088324E-3,{"$f":"4*ATAN(-'Calcul courbes'!$C$2*B97+SQRT(('Calcul courbes'!$C$2)^2*B97^2+'Calcul courbes'!$C$3))","v":0.29784710670981424},{"$f":"IF(ROW()>$E$3+1,('Calcul courbes'!$C$8*LOG(B97)+'Calcul courbes'!$C$9),NA())","v":{"$error":"#N/A"}},7.4131024130088324E-3,{"$error":"#N/A"},{"$f":"IF(ROW()<$E$3+1,'Calcul courbes'!$C$10,NA())","v":0.29940684993084954},{"$error":"#N/A"},{"$error":"#N/A"}]
[-2.1200000000000201,7.5857757502914864E-3,{"$f":"4*ATAN(-'Calcul courbes'!$C$2*B98+SQRT(('Calcul courbes'!$C$2)^2*B98^2+'Calcul courbes'!$C$3))","v":0.29782441487885325},{"$f":"IF(ROW()>$E$3+1,('Calcul courbes'!$C$8*LOG(B98)+'Calcul courbes'!$C$9),NA())","v":{"$error":"#N/A"}},7.5857757502914864E-3,{"$error":"#N/A"},{"$f":"IF(ROW()<$E$3+1,'Calcul courbes'!$C$10,NA())","v":0.29940684993084954},{"$error":"#N/A"},{"$error":"#N/A"}]
[-2.1100000000000199,7.7624711662865557E-3,{"$f":"4*ATAN(-'Calcul courbes'!$C$2*B99+SQRT(('Calcul courbes'!$C$2)^2*B99^2+'Calcul courbes'!$C$3))","v":0.29780119626971202},{"$f":"IF(ROW()>$E$3+1,('Calcul courbes'!$C$8*LOG(B99)+'Calcul courbes'!$C$9),NA())","v":{"$error":"#N/A"}},7.7624711662865557E-3,{"$error":"#N/A"},{"$f":"IF(ROW()<$E$3+1,'Calcul courbes'!$C$10,NA())","v":0.29940684993084954},{"$error":"#N/A"},{"$error":"#N/A"}]
[-2.1000000000000201,7.943282347242446E-3,{"$f":"4*ATAN(-'Calcul courbes'!$C$2*B100+SQRT(('Calcul courbes'!$C$2)^2*B100^2+'Calcul courbes'!$C$3))","v":0.29777743869616069},{"$f":"IF(ROW()>$E$3+1,('Calcul courbes'!$C$8*LOG(B100)+'Calcul courbes'!$C$9),NA())","v":{"$error":"#N/A"}},7.943282347242446E-3,{"$error":"#N/A"},{"$f":"IF(ROW()<$E$3+1,'Calcul courbes'!$C$10,NA())","v":0.29940684993084954},{"$error":"#N/A"},{"$error":"#N/A"}]
[-2.0900000000000198,8.1283051616406199E-3,{"$f":"4*ATAN(-'Calcul courbes'!$C$2*B101+SQRT(('Calcul courbes'!$C$2)^2*B101^2+'Calcul courbes'!$C$3))","v":0.29775312969207463},{"$f":"IF(ROW()>$E$3+1,('Calcul courbes'!$C$8*LOG(B101)+'Calcul courbes'!$C$9),NA())","v":{"$error":"#N/A"}},8.1283051616406199E-3,{"$error":"#N/A"},{"$f":"IF(ROW()<$E$3+1,'Calcul courbes'!$C$10,NA())","v":0.29940684993084954},{"$error":"#N/A"},{"$error":"#N/A"}]
[-2.0800000000000201,8.3176377110263204E-3,{"$f":"4*ATAN(-'Calcul courbes'!$C$2*B102+SQRT(('Calcul courbes'!$C$2)^2*B102^2+'Calcul courbes'!$C$3))","v":0.29772825650510243},{"$f":"IF(ROW()>$E$3+1,('Calcul courbes'!$C$8*LOG(B102)+'Calcul courbes'!$C$9),NA())","v":{"$error":"#N/A"}},8.3176377110263204E-3,{"$error":"#N/A"},{"$f":"IF(ROW()<$E$3+1,'Calcul courbes'!$C$10,NA())","v":0.29940684993084954},{"$error":"#N/A"},{"$error":"#N/A"}]
[-2.0700000000000198,8.5113803820233737E-3,{"$f":"4*ATAN(-'Calcul courbes'!$C$2*B103+SQRT(('Calcul courbes'!$C$2)^2*B103^2+'Calcul courbes'!$C$3))","v":0.29770280609019384},{"$f":"IF(ROW()>$E$3+1,('Calcul courbes'!$C$8*LOG(B103)+'Calcul courbes'!$C$9),NA())","v":{"$error":"#N/A"}},8.5113803820233737E-3,{"$error":"#N/A"},{"$f":"IF(ROW()<$E$3+1,'Calcul courbes'!$C$10,NA())","v":0.29940684993084954},{"$error":"#N/A"},{"$error":"#N/A"}]
[-2.06000000000002,8.709635899560397E-3,{"$f":"4*ATAN(-'Calcul courbes'!$C$2*B104+SQRT(('Calcul courbes'!$C$2)^2*B104^2+'Calcul courbes'!$C$3))","v":0.29767676510298657},{"$f":"IF(ROW()>$E$3+1,('Calcul courbes'!$C$8*LOG(B104)+'Calcul courbes'!$C$9),NA())","v":{"$error":"#N/A"}},8.709635899560397E-3,{"$error":"#N/A"},{"$f":"IF(ROW()<$E$3+1,'Calcul courbes'!$C$10,NA())","v":0.29940684993084954},{"$error":"#N/A"},{"$error":"#N/A"}]
[-2.0500000000000198,8.9125093813370443E-3,{"$f":"4*ATAN(-'Calcul courbes'!$C$2*B105+SQRT(('Calcul courbes'!$C$2)^2*B105^2+'Calcul courbes'!$C$3))","v":0.29765011989304874},{"$f":"IF(ROW()>$E$3+1,('Calcul courbes'!$C$8*LOG(B105)+'Calcul courbes'!$C$9),NA())","v":{"$error":"#N/A"}},8.9125093813370443E-3,{"$error":"#N/A"},{"$f":"IF(ROW()<$E$3+1,'Calcul courbes'!$C$10,NA())","v":0.29940684993084954},{"$error":"#N/A"},{"$error":"#N/A"}]
[-2.04000000000002,9.1201083935586753E-3,{"$f":"4*ATAN(-'Calcul courbes'!$C$2*B106+SQRT(('Calcul courbes'!$C$2)^2*B106^2+'Calcul courbes'!$C$3))","v":0.29762285649697412},{"$f":"IF(ROW()>$E$3+1,('Calcul courbes'!$C$8*LOG(B106)+'Calcul courbes'!$C$9),NA())","v":{"$error":"#N/A"}},9.1201083935586753E-3,{"$error":"#N/A"},{"$f":"IF(ROW()<$E$3+1,'Calcul courbes'!$C$10,NA())","v":0.29940684993084954},{"$error":"#N/A"},{"$error":"#N/A"}]
[-2.0300000000000198,9.3325430079694779E-3,{"$f":"4*ATAN(-'Calcul courbes'!$C$2*B107+SQRT(('Calcul courbes'!$C$2)^2*B107^2+'Calcul courbes'!$C$3))","v":0.29759496063132668},{"$f":"IF(ROW()>$E$3+1,('Calcul courbes'!$C$8*LOG(B107)+'Calcul courbes'!$C$9),NA())","v":{"$error":"#N/A"}},9.3325430079694779E-3,{"$error":"#N/A"},{"$f":"IF(ROW()<$E$3+1,'Calcul courbes'!$C$10,NA())","v":0.29940684993084954},{"$error":"#N/A"},{"$error":"#N/A"}]
[-2.02000000000002,9.5499258602139148E-3,{"$f":"4*ATAN(-'Calcul courbes'!$C$2*B108+SQRT(('Calcul courbes'!$C$2)^2*B108^2+'Calcul courbes'!$C$3))","v":0.29756641768543252},{"$f":"IF(ROW()>$E$3+1,('Calcul courbes'!$C$8*LOG(B108)+'Calcul courbes'!$C$9),NA())","v":{"$error":"#N/A"}},9.5499258602139148E-3,{"$error":"#N/A"},{"$f":"IF(ROW()<$E$3+1,'Calcul courbes'!$C$10,NA())","v":0.29940684993084954},{"$error":"#N/A"},{"$error":"#N/A"}]
[-2.0100000000000202,9.7723722095576435E-3,{"$f":"4*ATAN(-'Calcul courbes'!$C$2*B109+SQRT(('Calcul courbes'!$C$2)^2*B109^2+'Calcul courbes'!$C$3))","v":0.2975372127140149},{"$f":"IF(ROW()>$E$3+1,('Calcul courbes'!$C$8*LOG(B109)+'Calcul courbes'!$C$9),NA())","v":{"$error":"#N/A"}},9.7723722095576435E-3,{"$error":"#N/A"},{"$f":"IF(ROW()<$E$3+1,'Calcul courbes'!$C$10,NA())","v":0.29940684993084954},{"$error":"#N/A"},{"$error":"#N/A"}]
[-2.00000000000002,9.9999999999995336E-3,{"$f":"4*ATAN(-'Calcul courbes'!$C$2*B110+SQRT(('Calcul courbes'!$C$2)^2*B110^2+'Calcul courbes'!$C$3))","v":0.29750733042967015},{"$f":"IF(ROW()>$E$3+1,('Calcul courbes'!$C$8*LOG(B110)+'Calcul courbes'!$C$9),NA())","v":{"$error":"#N/A"}},9.9999999999995336E-3,{"$error":"#N/A"},{"$f":"IF(ROW()<$E$3+1,'Calcul courbes'!$C$10,NA())","v":0.29940684993084954},{"$error":"#N/A"},{"$error":"#N/A"}]
[-1.99000000000002,1.0232929922807063E-2,{"$f":"4*ATAN(-'Calcul courbes'!$C$2*B111+SQRT(('Calcul courbes'!$C$2)^2*B111^2+'Calcul courbes'!$C$3))","v":0.29747675519518108},{"$f":"IF(ROW()>$E$3+1,('Calcul courbes'!$C$8*LOG(B111)+'Calcul courbes'!$C$9),NA())","v":{"$error":"#N/A"}},1.0232929922807063E-2,{"$error":"#N/A"},{"$f":"IF(ROW()<$E$3+1,'Calcul courbes'!$C$10,NA())","v":0.29940684993084954},{"$error":"#N/A"},{"$error":"#N/A"}]
[-1.98000000000002,1.0471285480508507E-2,{"$f":"4*ATAN(-'Calcul courbes'!$C$2*B112+SQRT(('Calcul courbes'!$C$2)^2*B112^2+'Calcul courbes'!$C$3))","v":0.29744547101566449},{"$f":"IF(ROW()>$E$3+1,('Calcul courbes'!$C$8*LOG(B112)+'Calcul courbes'!$C$9),NA())","v":{"$error":"#N/A"}},1.0471285480508507E-2,{"$error":"#N/A"},{"$f":"IF(ROW()<$E$3+1,'Calcul courbes'!$C$10,NA())","v":0.29940684993084954},{"$error":"#N/A"},{"$error":"#N/A"}]
[-1.97000000000002,1.0715193052375572E-2,{"$f":"4*ATAN(-'Calcul courbes'!$C$2*B113+SQRT(('Calcul courbes'!$C$2)^2*B113^2+'Calcul courbes'!$C$3))","v":0.29741346153054987},{"$f":"IF(ROW()>$E$3+1,('Calcul courbes'!$C$8*LOG(B113)+'Calcul courbes'!$C$9),NA())","v":{"$error":"#N/A"}},1.0715193052375572E-2,{"$error":"#N/A"},{"$f":"IF(ROW()<$E$3+1,'Calcul courbes'!$C$10,NA())","v":0.29940684993084954},{"$error":"#N/A"},{"$error":"#N/A"}]
[-1.9600000000000199,1.0964781961431344E-2,{"$f":"4*ATAN(-'Calcul courbes'!$C$2*B114+SQRT(('Calcul courbes'!$C$2)^2*B114^2+'Calcul courbes'!$C$3))","v":0.29738071000538585},{"$f":"IF(ROW()>$E$3+1,('Calcul courbes'!$C$8*LOG(B114)+'Calcul courbes'!$C$9),NA())","v":{"$error":"#N/A"}},1.0964781961431344E-2,{"$error":"#N/A"},{"$f":"IF(ROW()<$E$3+1,'Calcul courbes'!$C$10,NA())","v":0.29940684993084954},{"$error":"#N/A"},{"$error":"#N/A"}]
[-1.9500000000000199,1.1220184543019117E-2,{"$f":"4*ATAN(-'Calcul courbes'!$C$2*B115+SQRT(('Calcul courbes'!$C$2)^2*B115^2+'Calcul courbes'!$C$3))","v":0.2973471993234707},{"$f":"IF(ROW()>$E$3+1,('Calcul courbes'!$C$8*LOG(B115)+'Calcul courbes'!$C$9),NA())","v":{"$error":"#N/A"}},1.1220184543019117E-2,{"$error":"#N/A"},{"$f":"IF(ROW()<$E$3+1,'Calcul courbes'!$C$10,NA())","v":0.29940684993084954},{"$error":"#N/A"},{"$error":"#N/A"}]
[-1.9400000000000199,1.1481536214968297E-2,{"$f":"4*ATAN(-'Calcul courbes'!$C$2*B116+SQRT(('Calcul courbes'!$C$2)^2*B116^2+'Calcul courbes'!$C$3))","v":0.29731291197730469},{"$f":"IF(ROW()>$E$3+1,('Calcul courbes'!$C$8*LOG(B116)+'Calcul courbes'!$C$9),NA())","v":{"$error":"#N/A"}},1.1481536214968297E-2,{"$error":"#N/A"},{"$f":"IF(ROW()<$E$3+1,'Calcul courbes'!$C$10,NA())","v":0.29940684993084954},{"$error":"#N/A"},{"$error":"#N/A"}]
[-1.9300000000000199,1.174897554939475E-2,{"$f":"4*ATAN(-'Calcul courbes'!$C$2*B117+SQRT(('Calcul courbes'!$C$2)^2*B117^2+'Calcul courbes'!$C$3))","v":0.29727783005985914},{"$f":"IF(ROW()>$E$3+1,('Calcul courbes'!$C$8*LOG(B117)+'Calcul courbes'!$C$9),NA())","v":{"$error":"#N/A"}},1.174897554939475E-2,{"$error":"#N/A"},{"$f":"IF(ROW()<$E$3+1,'Calcul courbes'!$C$10,NA())","v":0.29940684993084954},{"$error":"#N/A"},{"$error":"#N/A"}]
[-1.9200000000000199,1.2022644346173571E-2,{"$f":"4*ATAN(-'Calcul courbes'!$C$2*B118+SQRT(('Calcul courbes'!$C$2)^2*B118^2+'Calcul courbes'!$C$3))","v":0.29724193525566062},{"$f":"IF(ROW()>$E$3+1,('Calcul courbes'!$C$8*LOG(B118)+'Calcul courbes'!$C$9),NA())","v":{"$error":"#N/A"}},1.2022644346173571E-2,{"$error":"#N/A"},{"$f":"IF(ROW()<$E$3+1,'Calcul courbes'!$C$10,NA())","v":0.29940684993084954},{"$error":"#N/A"},{"$error":"#N/A"}]
[-1.9100000000000199,1.2302687708123242E-2,{"$f":"4*ATAN(-'Calcul courbes'!$C$2*B119+SQRT(('Calcul courbes'!$C$2)^2*B119^2+'Calcul courbes'!$C$3))","v":0.29720520883168494},{"$f":"IF(ROW()>$E$3+1,('Calcul courbes'!$C$8*LOG(B119)+'Calcul courbes'!$C$9),NA())","v":{"$error":"#N/A"}},1.2302687708123242E-2,{"$error":"#N/A"},{"$f":"IF(ROW()<$E$3+1,'Calcul courbes'!$C$10,NA())","v":0.29940684993084954},{"$error":"#N/A"},{"$error":"#N/A"}]
[-1.9000000000000199,1.2589254117941096E-2,{"$f":"4*ATAN(-'Calcul courbes'!$C$2*B120+SQRT(('Calcul courbes'!$C$2)^2*B120^2+'Calcul courbes'!$C$3))","v":0.29716763162805915},{"$f":"IF(ROW()>$E$3+1,('Calcul courbes'!$C$8*LOG(B120)+'Calcul courbes'!$C$9),NA())","v":{"$error":"#N/A"}},1.2589254117941096E-2,{"$error":"#N/A"},{"$f":"IF(ROW()<$E$3+1,'Calcul courbes'!$C$10,NA())","v":0.29940684993084954},{"$error":"#N/A"},{"$error":"#N/A"}]
[-1.8900000000000201,1.2882495516930739E-2,{"$f":"4*ATAN(-'Calcul courbes'!$C$2*B121+SQRT(('Calcul courbes'!$C$2)^2*B121^2+'Calcul courbes'!$C$3))","v":0.29712918404856625},{"$f":"IF(ROW()>$E$3+1,('Calcul courbes'!$C$8*LOG(B121)+'Calcul courbes'!$C$9),NA())","v":{"$error":"#N/A"}},1.2882495516930739E-2,{"$error":"#N/A"},{"$f":"IF(ROW()<$E$3+1,'Calcul courbes'!$C$10,NA())","v":0.29940684993084954},{"$error":"#N/A"},{"$error":"#N/A"}]
[-1.8800000000000201,1.3182567385563454E-2,{"$f":"4*ATAN(-'Calcul courbes'!$C$2*B122+SQRT(('Calcul courbes'!$C$2)^2*B122^2+'Calcul courbes'!$C$3))","v":0.29708984605095062},{"$f":"IF(ROW()>$E$3+1,('Calcul courbes'!$C$8*LOG(B122)+'Calcul courbes'!$C$9),NA())","v":{"$error":"#N/A"}},1.3182567385563454E-2,{"$error":"#N/A"},{"$f":"IF(ROW()<$E$3+1,'Calcul courbes'!$C$10,NA())","v":0.29940684993084954},{"$error":"#N/A"},{"$error":"#N/A"}]
[-1.8700000000000201,1.3489628825915903E-2,{"$f":"4*ATAN(-'Calcul courbes'!$C$2*B123+SQRT(('Calcul courbes'!$C$2)^2*B123^2+'Calcul courbes'!$C$3))","v":0.29704959713701901},{"$f":"IF(ROW()>$E$3+1,('Calcul courbes'!$C$8*LOG(B123)+'Calcul courbes'!$C$9),NA())","v":{"$error":"#N/A"}},1.3489628825915903E-2,{"$error":"#N/A"},{"$f":"IF(ROW()<$E$3+1,'Calcul courbes'!$C$10,NA())","v":0.29940684993084954},{"$error":"#N/A"},{"$error":"#N/A"}]
[-1.8600000000000201,1.3803842646028198E-2,{"$f":"4*ATAN(-'Calcul courbes'!$C$2*B124+SQRT(('Calcul courbes'!$C$2)^2*B124^2+'Calcul courbes'!$C$3))","v":0.29700841634253478},{"$f":"IF(ROW()>$E$3+1,('Calcul courbes'!$C$8*LOG(B124)+'Calcul courbes'!$C$9),NA())","v":{"$error":"#N/A"}},1.3803842646028198E-2,{"$error":"#N/A"},{"$f":"IF(ROW()<$E$3+1,'Calcul courbes'!$C$10,NA())","v":0.29940684993084954},{"$error":"#N/A"},{"$error":"#N/A"}]
[-1.8500000000000201,1.412537544622689E-2,{"$f":"4*ATAN(-'Calcul courbes'!$C$2*B125+SQRT(('Calcul courbes'!$C$2)^2*B125^2+'Calcul courbes'!$C$3))","v":0.29696628222690047},{"$f":"IF(ROW()>$E$3+1,('Calcul courbes'!$C$8*LOG(B125)+'Calcul courbes'!$C$9),NA())","v":{"$error":"#N/A"}},1.412537544622689E-2,{"$error":"#N/A"},{"$f":"IF(ROW()<$E$3+1,'Calcul courbes'!$C$10,NA())","v":0.29940684993084954},{"$error":"#N/A"},{"$error":"#N/A"}]
[-1.8400000000000201,1.4454397707458605E-2,{"$f":"4*ATAN(-'Calcul courbes'!$C$2*B126+SQRT(('Calcul courbes'!$C$2)^2*B126^2+'Calcul courbes'!$C$3))","v":0.29692317286262571},{"$f":"IF(ROW()>$E$3+1,('Calcul courbes'!$C$8*LOG(B126)+'Calcul courbes'!$C$9),NA())","v":{"$error":"#N/A"}},1.4454397707458605E-2,{"$error":"#N/A"},{"$f":"IF(ROW()<$E$3+1,'Calcul courbes'!$C$10,NA())","v":0.29940684993084954},{"$error":"#N/A"},{"$error":"#N/A"}]
[-1.8300000000000201,1.4791083881681388E-2,{"$f":"4*ATAN(-'Calcul courbes'!$C$2*B127+SQRT(('Calcul courbes'!$C$2)^2*B127^2+'Calcul courbes'!$C$3))","v":0.29687906582457613},{"$f":"IF(ROW()>$E$3+1,('Calcul courbes'!$C$8*LOG(B127)+'Calcul courbes'!$C$9),NA())","v":{"$error":"#N/A"}},1.4791083881681388E-2,{"$error":"#N/A"},{"$f":"IF(ROW()<$E$3+1,'Calcul courbes'!$C$10,NA())","v":0.29940684993084954},{"$error":"#N/A"},{"$error":"#N/A"}]
[-1.82000000000003,1.5135612484361028E-2,{"$f":"4*ATAN(-'Calcul courbes'!$C$2*B128+SQRT(('Calcul courbes'!$C$2)^2*B128^2+'Calcul courbes'!$C$3))","v":0.29683393817899956},{"$f":"IF(ROW()>$E$3+1,('Calcul courbes'!$C$8*LOG(B128)+'Calcul courbes'!$C$9),NA())","v":{"$error":"#N/A"}},1.5135612484361028E-2,{"$error":"#N/A"},{"$f":"IF(ROW()<$E$3+1,'Calcul courbes'!$C$10,NA())","v":0.29940684993084954},{"$error":"#N/A"},{"$error":"#N/A"}]
[-1.81000000000003,1.5488166189123733E-2,{"$f":"4*ATAN(-'Calcul courbes'!$C$2*B129+SQRT(('Calcul courbes'!$C$2)^2*B129^2+'Calcul courbes'!$C$3))","v":0.29678776647232658},{"$f":"IF(ROW()>$E$3+1,('Calcul courbes'!$C$8*LOG(B129)+'Calcul courbes'!$C$9),NA())","v":{"$error":"#N/A"}},1.5488166189123733E-2,{"$error":"#N/A"},{"$f":"IF(ROW()<$E$3+1,'Calcul courbes'!$C$10,NA())","v":0.29940684993084954},{"$error":"#N/A"},{"$error":"#N/A"}]
[-1.80000000000003,1.5848931924610028E-2,{"$f":"4*ATAN(-'Calcul courbes'!$C$2*B130+SQRT(('Calcul courbes'!$C$2)^2*B130^2+'Calcul courbes'!$C$3))","v":0.29674052671973938},{"$f":"IF(ROW()>$E$3+1,('Calcul courbes'!$C$8*LOG(B130)+'Calcul courbes'!$C$9),NA())","v":{"$error":"#N/A"}},1.5848931924610028E-2,{"$error":"#N/A"},{"$f":"IF(ROW()<$E$3+1,'Calcul courbes'!$C$10,NA())","v":0.29940684993084954},{"$error":"#N/A"},{"$error":"#N/A"}]
[-1.79000000000003,1.6218100973588178E-2,{"$f":"4*ATAN(-'Calcul courbes'!$C$2*B131+SQRT(('Calcul courbes'!$C$2)^2*B131^2+'Calcul courbes'!$C$3))","v":0.29669219439350752},{"$f":"IF(ROW()>$E$3+1,('Calcul courbes'!$C$8*LOG(B131)+'Calcul courbes'!$C$9),NA())","v":{"$error":"#N/A"}},1.6218100973588178E-2,{"$error":"#N/A"},{"$f":"IF(ROW()<$E$3+1,'Calcul courbes'!$C$10,NA())","v":0.29940684993084954},{"$error":"#N/A"},{"$error":"#N/A"}]
[-1.78000000000003,1.6595869074374457E-2,{"$f":"4*ATAN(-'Calcul courbes'!$C$2*B132+SQRT(('Calcul courbes'!$C$2)^2*B132^2+'Calcul courbes'!$C$3))","v":0.29664274441108468},{"$f":"IF(ROW()>$E$3+1,('Calcul courbes'!$C$8*LOG(B132)+'Calcul courbes'!$C$9),NA())","v":{"$error":"#N/A"}},1.6595869074374457E-2,{"$error":"#N/A"},{"$f":"IF(ROW()<$E$3+1,'Calcul courbes'!$C$10,NA())","v":0.29940684993084954},{"$error":"#N/A"},{"$error":"#N/A"}]
[-1.77000000000003,1.6982436524616267E-2,{"$f":"4*ATAN(-'Calcul courbes'!$C$2*B133+SQRT(('Calcul courbes'!$C$2)^2*B133^2+'Calcul courbes'!$C$3))","v":0.29659215112296333},{"$f":"IF(ROW()>$E$3+1,('Calcul courbes'!$C$8*LOG(B133)+'Calcul courbes'!$C$9),NA())","v":{"$error":"#N/A"}},1.6982436524616267E-2,{"$error":"#N/A"},{"$f":"IF(ROW()<$E$3+1,'Calcul courbes'!$C$10,NA())","v":0.29940684993084954},{"$error":"#N/A"},{"$error":"#N/A"}]
[-1.76000000000003,1.7378008287492551E-2,{"$f":"4*ATAN(-'Calcul courbes'!$C$2*B134+SQRT(('Calcul courbes'!$C$2)^2*B134^2+'Calcul courbes'!$C$3))","v":0.29654038830028329},{"$f":"IF(ROW()>$E$3+1,('Calcul courbes'!$C$8*LOG(B134)+'Calcul courbes'!$C$9),NA())","v":{"$error":"#N/A"}},1.7378008287492551E-2,{"$error":"#N/A"},{"$f":"IF(ROW()<$E$3+1,'Calcul courbes'!$C$10,NA())","v":0.29940684993084954},{"$error":"#N/A"},{"$error":"#N/A"}]
[-1.75000000000003,1.7782794100387991E-2,{"$f":"4*ATAN(-'Calcul courbes'!$C$2*B135+SQRT(('Calcul courbes'!$C$2)^2*B135^2+'Calcul courbes'!$C$3))","v":0.29648742912218995},{"$f":"IF(ROW()>$E$3+1,('Calcul courbes'!$C$8*LOG(B135)+'Calcul courbes'!$C$9),NA())","v":{"$error":"#N/A"}},1.7782794100387991E-2,{"$error":"#N/A"},{"$f":"IF(ROW()<$E$3+1,'Calcul courbes'!$C$10,NA())","v":0.29940684993084954},{"$error":"#N/A"},{"$error":"#N/A"}]
[-1.74000000000003,1.819700858609857E-2,{"$f":"4*ATAN(-'Calcul courbes'!$C$2*B136+SQRT(('Calcul courbes'!$C$2)^2*B136^2+'Calcul courbes'!$C$3))","v":0.29643324616293854},{"$f":"IF(ROW()>$E$3+1,('Calcul courbes'!$C$8*LOG(B136)+'Calcul courbes'!$C$9),NA())","v":{"$error":"#N/A"}},1.819700858609857E-2,{"$error":"#N/A"},{"$f":"IF(ROW()<$E$3+1,'Calcul courbes'!$C$10,NA())","v":0.29940684993084954},{"$error":"#N/A"},{"$error":"#N/A"}]
[-1.73000000000003,1.8620871366627385E-2,{"$f":"4*ATAN(-'Calcul courbes'!$C$2*B137+SQRT(('Calcul courbes'!$C$2)^2*B137^2+'Calcul courbes'!$C$3))","v":0.29637781137873931},{"$f":"IF(ROW()>$E$3+1,('Calcul courbes'!$C$8*LOG(B137)+'Calcul courbes'!$C$9),NA())","v":{"$error":"#N/A"}},1.8620871366627385E-2,{"$error":"#N/A"},{"$f":"IF(ROW()<$E$3+1,'Calcul courbes'!$C$10,NA())","v":0.29940684993084954},{"$error":"#N/A"},{"$error":"#N/A"}]
[-1.7200000000000299,1.9054607179631151E-2,{"$f":"4*ATAN(-'Calcul courbes'!$C$2*B138+SQRT(('Calcul courbes'!$C$2)^2*B138^2+'Calcul courbes'!$C$3))","v":0.2963210960943411},{"$f":"IF(ROW()>$E$3+1,('Calcul courbes'!$C$8*LOG(B138)+'Calcul courbes'!$C$9),NA())","v":{"$error":"#N/A"}},1.9054607179631151E-2,{"$error":"#N/A"},{"$f":"IF(ROW()<$E$3+1,'Calcul courbes'!$C$10,NA())","v":0.29940684993084954},{"$error":"#N/A"},{"$error":"#N/A"}]
[-1.7100000000000299,{"$f":"10^A139","v":1.9498445997579102E-2},{"$f":"4*ATAN(-'Calcul courbes'!$C$2*B139+SQRT(('Calcul courbes'!$C$2)^2*B139^2+'Calcul courbes'!$C$3))","v":0.29626307098934873},{"$f":"IF(ROW()>$E$3+1,('Calcul courbes'!$C$8*LOG(B139)+'Calcul courbes'!$C$9),NA())","v":{"$error":"#N/A"}},{"$f":"IF(ROW()<$F$3+1,B139,NA())","v":1.9498445997579102E-2},{"$f":"IF(ROW()>$E$3+1,E139,NA())","v":{"$error":"#N/A"}},{"$f":"IF(ROW()<$E$3+1,'Calcul courbes'!$C$10,NA())","v":0.29940684993084954},{"$f":"IF(ROW()>$F$3-1,0,NA())","v":{"$error":"#N/A"}},{"$f":"IF(ROW()=$F$3-1,0,NA())","v":{"$error":"#N/A"}}]
[-1.7000000000000299,1.9952623149687407E-2,{"$f":"4*ATAN(-'Calcul courbes'!$C$2*B140+SQRT(('Calcul courbes'!$C$2)^2*B140^2+'Calcul courbes'!$C$3))","v":0.29620370608426894},{"$f":"IF(ROW()>$E$3+1,('Calcul courbes'!$C$8*LOG(B140)+'Calcul courbes'!$C$9),NA())","v":{"$error":"#N/A"}},1.9952623149687407E-2,{"$error":"#N/A"},{"$f":"IF(ROW()<$E$3+1,'Calcul courbes'!$C$10,NA())","v":0.29940684993084954},{"$error":"#N/A"},{"$error":"#N/A"}]
[-1.6900000000000299,2.0417379446693883E-2,{"$f":"4*ATAN(-'Calcul courbes'!$C$2*B141+SQRT(('Calcul courbes'!$C$2)^2*B141^2+'Calcul courbes'!$C$3))","v":0.29614297072628304},{"$f":"IF(ROW()>$E$3+1,('Calcul courbes'!$C$8*LOG(B141)+'Calcul courbes'!$C$9),NA())","v":{"$error":"#N/A"}},2.0417379446693883E-2,{"$error":"#N/A"},{"$f":"IF(ROW()<$E$3+1,'Calcul courbes'!$C$10,NA())","v":0.29940684993084954},{"$error":"#N/A"},{"$error":"#N/A"}]
[-1.6800000000000299,2.0892961308538949E-2,{"$f":"4*ATAN(-'Calcul courbes'!$C$2*B142+SQRT(('Calcul courbes'!$C$2)^2*B142^2+'Calcul courbes'!$C$3))","v":0.29608083357474052},{"$f":"IF(ROW()>$E$3+1,('Calcul courbes'!$C$8*LOG(B142)+'Calcul courbes'!$C$9),NA())","v":{"$error":"#N/A"}},2.0892961308538949E-2,{"$error":"#N/A"},{"$f":"IF(ROW()<$E$3+1,'Calcul courbes'!$C$10,NA())","v":0.29940684993084954},{"$error":"#N/A"},{"$error":"#N/A"}]
[-1.6700000000000299,2.1379620895020837E-2,{"$f":"4*ATAN(-'Calcul courbes'!$C$2*B143+SQRT(('Calcul courbes'!$C$2)^2*B143^2+'Calcul courbes'!$C$3))","v":0.29601726258637057},{"$f":"IF(ROW()>$E$3+1,('Calcul courbes'!$C$8*LOG(B143)+'Calcul courbes'!$C$9),NA())","v":{"$error":"#N/A"}},2.1379620895020837E-2,{"$error":"#N/A"},{"$f":"IF(ROW()<$E$3+1,'Calcul courbes'!$C$10,NA())","v":0.29940684993084954},{"$error":"#N/A"},{"$error":"#N/A"}]
[-1.6600000000000299,2.1877616239494007E-2,{"$f":"4*ATAN(-'Calcul courbes'!$C$2*B144+SQRT(('Calcul courbes'!$C$2)^2*B144^2+'Calcul courbes'!$C$3))","v":0.29595222500020668},{"$f":"IF(ROW()>$E$3+1,('Calcul courbes'!$C$8*LOG(B144)+'Calcul courbes'!$C$9),NA())","v":{"$error":"#N/A"}},2.1877616239494007E-2,{"$error":"#N/A"},{"$f":"IF(ROW()<$E$3+1,'Calcul courbes'!$C$10,NA())","v":0.29940684993084954},{"$error":"#N/A"},{"$error":"#N/A"}]
[-1.6500000000000301,2.2387211385681841E-2,{"$f":"4*ATAN(-'Calcul courbes'!$C$2*B145+SQRT(('Calcul courbes'!$C$2)^2*B145^2+'Calcul courbes'!$C$3))","v":0.29588568732222165},{"$f":"IF(ROW()>$E$3+1,('Calcul courbes'!$C$8*LOG(B145)+'Calcul courbes'!$C$9),NA())","v":{"$error":"#N/A"}},2.2387211385681841E-2,{"$error":"#N/A"},{"$f":"IF(ROW()<$E$3+1,'Calcul courbes'!$C$10,NA())","v":0.29940684993084954},{"$error":"#N/A"},{"$error":"#N/A"}]
[-1.6400000000000301,2.2908676527676138E-2,{"$f":"4*ATAN(-'Calcul courbes'!$C$2*B146+SQRT(('Calcul courbes'!$C$2)^2*B146^2+'Calcul courbes'!$C$3))","v":0.29581761530966794},{"$f":"IF(ROW()>$E$3+1,('Calcul courbes'!$C$8*LOG(B146)+'Calcul courbes'!$C$9),NA())","v":{"$error":"#N/A"}},2.2908676527676138E-2,{"$error":"#N/A"},{"$f":"IF(ROW()<$E$3+1,'Calcul courbes'!$C$10,NA())","v":0.29940684993084954},{"$error":"#N/A"},{"$error":"#N/A"}]
[-1.6300000000000301,2.3442288153197589E-2,{"$f":"4*ATAN(-'Calcul courbes'!$C$2*B147+SQRT(('Calcul courbes'!$C$2)^2*B147^2+'Calcul courbes'!$C$3))","v":0.29574797395511992},{"$f":"IF(ROW()>$E$3+1,('Calcul courbes'!$C$8*LOG(B147)+'Calcul courbes'!$C$9),NA())","v":{"$error":"#N/A"}},2.3442288153197589E-2,{"$error":"#N/A"},{"$f":"IF(ROW()<$E$3+1,'Calcul courbes'!$C$10,NA())","v":0.29940684993084954},{"$error":"#N/A"},{"$error":"#N/A"}]
[-1.6200000000000301,2.3988329190193228E-2,{"$f":"4*ATAN(-'Calcul courbes'!$C$2*B148+SQRT(('Calcul courbes'!$C$2)^2*B148^2+'Calcul courbes'!$C$3))","v":0.29567672747021434},{"$f":"IF(ROW()>$E$3+1,('Calcul courbes'!$C$8*LOG(B148)+'Calcul courbes'!$C$9),NA())","v":{"$error":"#N/A"}},2.3988329190193228E-2,{"$error":"#N/A"},{"$f":"IF(ROW()<$E$3+1,'Calcul courbes'!$C$10,NA())","v":0.29940684993084954},{"$error":"#N/A"},{"$error":"#N/A"}]
[-1.6100000000000301,2.4547089156848601E-2,{"$f":"4*ATAN(-'Calcul courbes'!$C$2*B149+SQRT(('Calcul courbes'!$C$2)^2*B149^2+'Calcul courbes'!$C$3))","v":0.29560383926908546},{"$f":"IF(ROW()>$E$3+1,('Calcul courbes'!$C$8*LOG(B149)+'Calcul courbes'!$C$9),NA())","v":{"$error":"#N/A"}},2.4547089156848601E-2,{"$error":"#N/A"},{"$f":"IF(ROW()<$E$3+1,'Calcul courbes'!$C$10,NA())","v":0.29940684993084954},{"$error":"#N/A"},{"$error":"#N/A"}]
[-1.6000000000000301,2.5118864315094056E-2,{"$f":"4*ATAN(-'Calcul courbes'!$C$2*B150+SQRT(('Calcul courbes'!$C$2)^2*B150^2+'Calcul courbes'!$C$3))","v":0.2955292719514902},{"$f":"IF(ROW()>$E$3+1,('Calcul courbes'!$C$8*LOG(B150)+'Calcul courbes'!$C$9),NA())","v":{"$error":"#N/A"}},2.5118864315094056E-2,{"$error":"#N/A"},{"$f":"IF(ROW()<$E$3+1,'Calcul courbes'!$C$10,NA())","v":0.29940684993084954},{"$error":"#N/A"},{"$error":"#N/A"}]
[-1.5900000000000301,2.5703957827686849E-2,{"$f":"4*ATAN(-'Calcul courbes'!$C$2*B151+SQRT(('Calcul courbes'!$C$2)^2*B151^2+'Calcul courbes'!$C$3))","v":0.2954529872856213},{"$f":"IF(ROW()>$E$3+1,('Calcul courbes'!$C$8*LOG(B151)+'Calcul courbes'!$C$9),NA())","v":{"$error":"#N/A"}},2.5703957827686849E-2,{"$error":"#N/A"},{"$f":"IF(ROW()<$E$3+1,'Calcul courbes'!$C$10,NA())","v":0.29940684993084954},{"$error":"#N/A"},{"$error":"#N/A"}]
[-1.58000000000003,2.6302679918951986E-2,{"$f":"4*ATAN(-'Calcul courbes'!$C$2*B152+SQRT(('Calcul courbes'!$C$2)^2*B152^2+'Calcul courbes'!$C$3))","v":0.295374946190603},{"$f":"IF(ROW()>$E$3+1,('Calcul courbes'!$C$8*LOG(B152)+'Calcul courbes'!$C$9),NA())","v":{"$error":"#N/A"}},2.6302679918951986E-2,{"$error":"#N/A"},{"$f":"IF(ROW()<$E$3+1,'Calcul courbes'!$C$10,NA())","v":0.29940684993084954},{"$error":"#N/A"},{"$error":"#N/A"}]
[-1.57000000000003,2.6915348039267289E-2,{"$f":"4*ATAN(-'Calcul courbes'!$C$2*B153+SQRT(('Calcul courbes'!$C$2)^2*B153^2+'Calcul courbes'!$C$3))","v":0.29529510871866788},{"$f":"IF(ROW()>$E$3+1,('Calcul courbes'!$C$8*LOG(B153)+'Calcul courbes'!$C$9),NA())","v":{"$error":"#N/A"}},2.6915348039267289E-2,{"$error":"#N/A"},{"$f":"IF(ROW()<$E$3+1,'Calcul courbes'!$C$10,NA())","v":0.29940684993084954},{"$error":"#N/A"},{"$error":"#N/A"}]
[-1.56000000000003,2.7542287033379752E-2,{"$f":"4*ATAN(-'Calcul courbes'!$C$2*B154+SQRT(('Calcul courbes'!$C$2)^2*B154^2+'Calcul courbes'!$C$3))","v":0.29521343403700984},{"$f":"IF(ROW()>$E$3+1,('Calcul courbes'!$C$8*LOG(B154)+'Calcul courbes'!$C$9),NA())","v":{"$error":"#N/A"}},2.7542287033379752E-2,{"$error":"#N/A"},{"$f":"IF(ROW()<$E$3+1,'Calcul courbes'!$C$10,NA())","v":0.29940684993084954},{"$error":"#N/A"},{"$error":"#N/A"}]
[-1.55000000000003,2.8183829312642579E-2,{"$f":"4*ATAN(-'Calcul courbes'!$C$2*B155+SQRT(('Calcul courbes'!$C$2)^2*B155^2+'Calcul courbes'!$C$3))","v":0.29512988040931104},{"$f":"IF(ROW()>$E$3+1,('Calcul courbes'!$C$8*LOG(B155)+'Calcul courbes'!$C$9),NA())","v":{"$error":"#N/A"}},2.8183829312642579E-2,{"$error":"#N/A"},{"$f":"IF(ROW()<$E$3+1,'Calcul courbes'!$C$10,NA())","v":0.29940684993084954},{"$error":"#N/A"},{"$error":"#N/A"}]
[-1.54000000000003,2.8840315031264059E-2,{"$f":"4*ATAN(-'Calcul courbes'!$C$2*B156+SQRT(('Calcul courbes'!$C$2)^2*B156^2+'Calcul courbes'!$C$3))","v":0.29504440517693947},{"$f":"IF(ROW()>$E$3+1,('Calcul courbes'!$C$8*LOG(B156)+'Calcul courbes'!$C$9),NA())","v":{"$error":"#N/A"}},2.8840315031264059E-2,{"$error":"#N/A"},{"$f":"IF(ROW()<$E$3+1,'Calcul courbes'!$C$10,NA())","v":0.29940684993084954},{"$error":"#N/A"},{"$error":"#N/A"}]
[-1.53000000000003,2.9512092266661811E-2,{"$f":"4*ATAN(-'Calcul courbes'!$C$2*B157+SQRT(('Calcul courbes'!$C$2)^2*B157^2+'Calcul courbes'!$C$3))","v":0.29495696473981375},{"$f":"IF(ROW()>$E$3+1,('Calcul courbes'!$C$8*LOG(B157)+'Calcul courbes'!$C$9),NA())","v":{"$error":"#N/A"}},2.9512092266661811E-2,{"$error":"#N/A"},{"$f":"IF(ROW()<$E$3+1,'Calcul courbes'!$C$10,NA())","v":0.29940684993084954},{"$error":"#N/A"},{"$error":"#N/A"}]
[-1.52000000000003,3.0199517204018065E-2,{"$f":"4*ATAN(-'Calcul courbes'!$C$2*B158+SQRT(('Calcul courbes'!$C$2)^2*B158^2+'Calcul courbes'!$C$3))","v":0.29486751453693327},{"$f":"IF(ROW()>$E$3+1,('Calcul courbes'!$C$8*LOG(B158)+'Calcul courbes'!$C$9),NA())","v":{"$error":"#N/A"}},3.0199517204018065E-2,{"$error":"#N/A"},{"$f":"IF(ROW()<$E$3+1,'Calcul courbes'!$C$10,NA())","v":0.29940684993084954},{"$error":"#N/A"},{"$error":"#N/A"}]
[-1.51000000000003,3.0902954325133757E-2,{"$f":"4*ATAN(-'Calcul courbes'!$C$2*B159+SQRT(('Calcul courbes'!$C$2)^2*B159^2+'Calcul courbes'!$C$3))","v":0.29477600902657036},{"$f":"IF(ROW()>$E$3+1,('Calcul courbes'!$C$8*LOG(B159)+'Calcul courbes'!$C$9),NA())","v":{"$error":"#N/A"}},3.0902954325133757E-2,{"$error":"#N/A"},{"$f":"IF(ROW()<$E$3+1,'Calcul courbes'!$C$10,NA())","v":0.29940684993084954},{"$error":"#N/A"},{"$error":"#N/A"}]
[-1.50000000000003,3.1622776601681606E-2,{"$f":"4*ATAN(-'Calcul courbes'!$C$2*B160+SQRT(('Calcul courbes'!$C$2)^2*B160^2+'Calcul courbes'!$C$3))","v":0.29468240166612225},{"$f":"IF(ROW()>$E$3+1,('Calcul courbes'!$C$8*LOG(B160)+'Calcul courbes'!$C$9),NA())","v":{"$error":"#N/A"}},3.1622776601681606E-2,{"$error":"#N/A"},{"$f":"IF(ROW()<$E$3+1,'Calcul courbes'!$C$10,NA())","v":0.29940684993084954},{"$error":"#N/A"},{"$error":"#N/A"}]
[-1.49000000000003,3.2359365692960586E-2,{"$f":"4*ATAN(-'Calcul courbes'!$C$2*B161+SQRT(('Calcul courbes'!$C$2)^2*B161^2+'Calcul courbes'!$C$3))","v":0.29458664489162056},{"$f":"IF(ROW()>$E$3+1,('Calcul courbes'!$C$8*LOG(B161)+'Calcul courbes'!$C$9),NA())","v":{"$error":"#N/A"}},3.2359365692960586E-2,{"$error":"#N/A"},{"$f":"IF(ROW()<$E$3+1,'Calcul courbes'!$C$10,NA())","v":0.29940684993084954},{"$error":"#N/A"},{"$error":"#N/A"}]
[-1.48000000000003,3.311311214825681E-2,{"$f":"4*ATAN(-'Calcul courbes'!$C$2*B162+SQRT(('Calcul courbes'!$C$2)^2*B162^2+'Calcul courbes'!$C$3))","v":0.29448869009689688},{"$f":"IF(ROW()>$E$3+1,('Calcul courbes'!$C$8*LOG(B162)+'Calcul courbes'!$C$9),NA())","v":{"$error":"#N/A"}},3.311311214825681E-2,{"$error":"#N/A"},{"$f":"IF(ROW()<$E$3+1,'Calcul courbes'!$C$10,NA())","v":0.29940684993084954},{"$error":"#N/A"},{"$error":"#N/A"}]
[-1.4700000000000299,3.3884415613917904E-2,{"$f":"4*ATAN(-'Calcul courbes'!$C$2*B163+SQRT(('Calcul courbes'!$C$2)^2*B163^2+'Calcul courbes'!$C$3))","v":0.29438848761240111},{"$f":"IF(ROW()>$E$3+1,('Calcul courbes'!$C$8*LOG(B163)+'Calcul courbes'!$C$9),NA())","v":{"$error":"#N/A"}},3.3884415613917904E-2,{"$error":"#N/A"},{"$f":"IF(ROW()<$E$3+1,'Calcul courbes'!$C$10,NA())","v":0.29940684993084954},{"$error":"#N/A"},{"$error":"#N/A"}]
[-1.4600000000000299,3.4673685045250771E-2,{"$f":"4*ATAN(-'Calcul courbes'!$C$2*B164+SQRT(('Calcul courbes'!$C$2)^2*B164^2+'Calcul courbes'!$C$3))","v":0.29428598668367328},{"$f":"IF(ROW()>$E$3+1,('Calcul courbes'!$C$8*LOG(B164)+'Calcul courbes'!$C$9),NA())","v":{"$error":"#N/A"}},3.4673685045250771E-2,{"$error":"#N/A"},{"$f":"IF(ROW()<$E$3+1,'Calcul courbes'!$C$10,NA())","v":0.29940684993084954},{"$error":"#N/A"},{"$error":"#N/A"}]
[-1.4500000000000299,3.5481338923355095E-2,{"$f":"4*ATAN(-'Calcul courbes'!$C$2*B165+SQRT(('Calcul courbes'!$C$2)^2*B165^2+'Calcul courbes'!$C$3))","v":0.29418113544946572},{"$f":"IF(ROW()>$E$3+1,('Calcul courbes'!$C$8*LOG(B165)+'Calcul courbes'!$C$9),NA())","v":{"$error":"#N/A"}},3.5481338923355095E-2,{"$error":"#N/A"},{"$f":"IF(ROW()<$E$3+1,'Calcul courbes'!$C$10,NA())","v":0.29940684993084954},{"$error":"#N/A"},{"$error":"#N/A"}]
[-1.4400000000000299,3.6307805477007619E-2,{"$f":"4*ATAN(-'Calcul courbes'!$C$2*B166+SQRT(('Calcul courbes'!$C$2)^2*B166^2+'Calcul courbes'!$C$3))","v":0.29407388091951497},{"$f":"IF(ROW()>$E$3+1,('Calcul courbes'!$C$8*LOG(B166)+'Calcul courbes'!$C$9),NA())","v":{"$error":"#N/A"}},3.6307805477007619E-2,{"$error":"#N/A"},{"$f":"IF(ROW()<$E$3+1,'Calcul courbes'!$C$10,NA())","v":0.29940684993084954},{"$error":"#N/A"},{"$error":"#N/A"}]
[-1.4300000000000299,3.715352290971468E-2,{"$f":"4*ATAN(-'Calcul courbes'!$C$2*B167+SQRT(('Calcul courbes'!$C$2)^2*B167^2+'Calcul courbes'!$C$3))","v":0.29396416895196403},{"$f":"IF(ROW()>$E$3+1,('Calcul courbes'!$C$8*LOG(B167)+'Calcul courbes'!$C$9),NA())","v":{"$error":"#N/A"}},3.715352290971468E-2,{"$error":"#N/A"},{"$f":"IF(ROW()<$E$3+1,'Calcul courbes'!$C$10,NA())","v":0.29940684993084954},{"$error":"#N/A"},{"$error":"#N/A"}]
[-1.4200000000000299,3.8018939632053494E-2,{"$f":"4*ATAN(-'Calcul courbes'!$C$2*B168+SQRT(('Calcul courbes'!$C$2)^2*B168^2+'Calcul courbes'!$C$3))","v":0.29385194423043254},{"$f":"IF(ROW()>$E$3+1,('Calcul courbes'!$C$8*LOG(B168)+'Calcul courbes'!$C$9),NA())","v":{"$error":"#N/A"}},3.8018939632053494E-2,{"$error":"#N/A"},{"$f":"IF(ROW()<$E$3+1,'Calcul courbes'!$C$10,NA())","v":0.29940684993084954},{"$error":"#N/A"},{"$error":"#N/A"}]
[-1.4100000000000299,3.890451449942537E-2,{"$f":"4*ATAN(-'Calcul courbes'!$C$2*B169+SQRT(('Calcul courbes'!$C$2)^2*B169^2+'Calcul courbes'!$C$3))","v":0.29373715024073693},{"$f":"IF(ROW()>$E$3+1,('Calcul courbes'!$C$8*LOG(B169)+'Calcul courbes'!$C$9),NA())","v":{"$error":"#N/A"}},3.890451449942537E-2,{"$error":"#N/A"},{"$f":"IF(ROW()<$E$3+1,'Calcul courbes'!$C$10,NA())","v":0.29940684993084954},{"$error":"#N/A"},{"$error":"#N/A"}]
[-1.4000000000000301,3.9810717055346952E-2,{"$f":"4*ATAN(-'Calcul courbes'!$C$2*B170+SQRT(('Calcul courbes'!$C$2)^2*B170^2+'Calcul courbes'!$C$3))","v":0.29361972924725976},{"$f":"IF(ROW()>$E$3+1,('Calcul courbes'!$C$8*LOG(B170)+'Calcul courbes'!$C$9),NA())","v":{"$error":"#N/A"}},3.9810717055346952E-2,{"$error":"#N/A"},{"$f":"IF(ROW()<$E$3+1,'Calcul courbes'!$C$10,NA())","v":0.29940684993084954},{"$error":"#N/A"},{"$error":"#N/A"}]
[-1.3900000000000301,4.0738027780408428E-2,{"$f":"4*ATAN(-'Calcul courbes'!$C$2*B171+SQRT(('Calcul courbes'!$C$2)^2*B171^2+'Calcul courbes'!$C$3))","v":0.29349962226896892},{"$f":"IF(ROW()>$E$3+1,('Calcul courbes'!$C$8*LOG(B171)+'Calcul courbes'!$C$9),NA())","v":{"$error":"#N/A"}},4.0738027780408428E-2,{"$error":"#N/A"},{"$f":"IF(ROW()<$E$3+1,'Calcul courbes'!$C$10,NA())","v":0.29940684993084954},{"$error":"#N/A"},{"$error":"#N/A"}]
[-1.3800000000000301,4.1686938347030647E-2,{"$f":"4*ATAN(-'Calcul courbes'!$C$2*B172+SQRT(('Calcul courbes'!$C$2)^2*B172^2+'Calcul courbes'!$C$3))","v":0.29337676905508947},{"$f":"IF(ROW()>$E$3+1,('Calcul courbes'!$C$8*LOG(B172)+'Calcul courbes'!$C$9),NA())","v":{"$error":"#N/A"}},4.1686938347030647E-2,{"$error":"#N/A"},{"$f":"IF(ROW()<$E$3+1,'Calcul courbes'!$C$10,NA())","v":0.29940684993084954},{"$error":"#N/A"},{"$error":"#N/A"}]
[-1.3700000000000301,4.2657951880156295E-2,{"$f":"4*ATAN(-'Calcul courbes'!$C$2*B173+SQRT(('Calcul courbes'!$C$2)^2*B173^2+'Calcul courbes'!$C$3))","v":0.29325110806042781},{"$f":"IF(ROW()>$E$3+1,('Calcul courbes'!$C$8*LOG(B173)+'Calcul courbes'!$C$9),NA())","v":{"$error":"#N/A"}},4.2657951880156295E-2,{"$error":"#N/A"},{"$f":"IF(ROW()<$E$3+1,'Calcul courbes'!$C$10,NA())","v":0.29940684993084954},{"$error":"#N/A"},{"$error":"#N/A"}]
[-1.3600000000000301,4.3651583224013558E-2,{"$f":"4*ATAN(-'Calcul courbes'!$C$2*B174+SQRT(('Calcul courbes'!$C$2)^2*B174^2+'Calcul courbes'!$C$3))","v":0.29312257642035183},{"$f":"IF(ROW()>$E$3+1,('Calcul courbes'!$C$8*LOG(B174)+'Calcul courbes'!$C$9),NA())","v":{"$error":"#N/A"}},4.3651583224013558E-2,{"$error":"#N/A"},{"$f":"IF(ROW()<$E$3+1,'Calcul courbes'!$C$10,NA())","v":0.29940684993084954},{"$error":"#N/A"},{"$error":"#N/A"}]
[-1.3500000000000401,4.4668359215092185E-2,{"$f":"4*ATAN(-'Calcul courbes'!$C$2*B175+SQRT(('Calcul courbes'!$C$2)^2*B175^2+'Calcul courbes'!$C$3))","v":0.29299110992542965},{"$f":"IF(ROW()>$E$3+1,('Calcul courbes'!$C$8*LOG(B175)+'Calcul courbes'!$C$9),NA())","v":{"$error":"#N/A"}},4.4668359215092185E-2,{"$error":"#N/A"},{"$f":"IF(ROW()<$E$3+1,'Calcul courbes'!$C$10,NA())","v":0.29940684993084954},{"$error":"#N/A"},{"$error":"#N/A"}]
[-1.34000000000004,4.5708818961483273E-2,{"$f":"4*ATAN(-'Calcul courbes'!$C$2*B176+SQRT(('Calcul courbes'!$C$2)^2*B176^2+'Calcul courbes'!$C$3))","v":0.29285664299572878},{"$f":"IF(ROW()>$E$3+1,('Calcul courbes'!$C$8*LOG(B176)+'Calcul courbes'!$C$9),NA())","v":{"$error":"#N/A"}},4.5708818961483273E-2,{"$error":"#N/A"},{"$f":"IF(ROW()<$E$3+1,'Calcul courbes'!$C$10,NA())","v":0.29940684993084954},{"$error":"#N/A"},{"$error":"#N/A"}]
[-1.33000000000004,4.6773514128715492E-2,{"$f":"4*ATAN(-'Calcul courbes'!$C$2*B177+SQRT(('Calcul courbes'!$C$2)^2*B177^2+'Calcul courbes'!$C$3))","v":0.29271910865478307},{"$f":"IF(ROW()>$E$3+1,('Calcul courbes'!$C$8*LOG(B177)+'Calcul courbes'!$C$9),NA())","v":{"$error":"#N/A"}},4.6773514128715492E-2,{"$error":"#N/A"},{"$f":"IF(ROW()<$E$3+1,'Calcul courbes'!$C$10,NA())","v":0.29940684993084954},{"$error":"#N/A"},{"$error":"#N/A"}]
[-1.32000000000004,4.7863009232259404E-2,{"$f":"4*ATAN(-'Calcul courbes'!$C$2*B178+SQRT(('Calcul courbes'!$C$2)^2*B178^2+'Calcul courbes'!$C$3))","v":0.29257843850322768},{"$f":"IF(ROW()>$E$3+1,('Calcul courbes'!$C$8*LOG(B178)+'Calcul courbes'!$C$9),NA())","v":{"$error":"#N/A"}},4.7863009232259404E-2,{"$error":"#N/A"},{"$f":"IF(ROW()<$E$3+1,'Calcul courbes'!$C$10,NA())","v":0.29940684993084954},{"$error":"#N/A"},{"$error":"#N/A"}]
[-1.31000000000004,4.8977881936840093E-2,{"$f":"4*ATAN(-'Calcul courbes'!$C$2*B179+SQRT(('Calcul courbes'!$C$2)^2*B179^2+'Calcul courbes'!$C$3))","v":0.29243456269211032},{"$f":"IF(ROW()>$E$3+1,('Calcul courbes'!$C$8*LOG(B179)+'Calcul courbes'!$C$9),NA())","v":{"$error":"#N/A"}},4.8977881936840093E-2,{"$error":"#N/A"},{"$f":"IF(ROW()<$E$3+1,'Calcul courbes'!$C$10,NA())","v":0.29940684993084954},{"$error":"#N/A"},{"$error":"#N/A"}]
[-1.30000000000004,5.0118723362722606E-2,{"$f":"4*ATAN(-'Calcul courbes'!$C$2*B180+SQRT(('Calcul courbes'!$C$2)^2*B180^2+'Calcul courbes'!$C$3))","v":0.29228740989588403},{"$f":"IF(ROW()>$E$3+1,('Calcul courbes'!$C$8*LOG(B180)+'Calcul courbes'!$C$9),NA())","v":{"$error":"#N/A"}},5.0118723362722606E-2,{"$error":"#N/A"},{"$f":"IF(ROW()<$E$3+1,'Calcul courbes'!$C$10,NA())","v":0.29940684993084954},{"$error":"#N/A"},{"$error":"#N/A"}]
[-1.29000000000004,5.1286138399131743E-2,{"$f":"4*ATAN(-'Calcul courbes'!$C$2*B181+SQRT(('Calcul courbes'!$C$2)^2*B181^2+'Calcul courbes'!$C$3))","v":0.29213690728508757},{"$f":"IF(ROW()>$E$3+1,('Calcul courbes'!$C$8*LOG(B181)+'Calcul courbes'!$C$9),NA())","v":{"$error":"#N/A"}},5.1286138399131743E-2,{"$error":"#N/A"},{"$f":"IF(ROW()<$E$3+1,'Calcul courbes'!$C$10,NA())","v":0.29940684993084954},{"$error":"#N/A"},{"$error":"#N/A"}]
[-1.28000000000004,5.2480746024972401E-2,{"$f":"4*ATAN(-'Calcul courbes'!$C$2*B182+SQRT(('Calcul courbes'!$C$2)^2*B182^2+'Calcul courbes'!$C$3))","v":0.29198298049872173},{"$f":"IF(ROW()>$E$3+1,('Calcul courbes'!$C$8*LOG(B182)+'Calcul courbes'!$C$9),NA())","v":{"$error":"#N/A"}},5.2480746024972401E-2,{"$error":"#N/A"},{"$f":"IF(ROW()<$E$3+1,'Calcul courbes'!$C$10,NA())","v":0.29940684993084954},{"$error":"#N/A"},{"$error":"#N/A"}]
[-1.27000000000004,5.3703179637020315E-2,{"$f":"4*ATAN(-'Calcul courbes'!$C$2*B183+SQRT(('Calcul courbes'!$C$2)^2*B183^2+'Calcul courbes'!$C$3))","v":0.29182555361632967},{"$f":"IF(ROW()>$E$3+1,('Calcul courbes'!$C$8*LOG(B183)+'Calcul courbes'!$C$9),NA())","v":{"$error":"#N/A"}},5.3703179637020315E-2,{"$error":"#N/A"},{"$f":"IF(ROW()<$E$3+1,'Calcul courbes'!$C$10,NA())","v":0.29940684993084954},{"$error":"#N/A"},{"$error":"#N/A"}]
[-1.26000000000004,5.4954087385757383E-2,{"$f":"4*ATAN(-'Calcul courbes'!$C$2*B184+SQRT(('Calcul courbes'!$C$2)^2*B184^2+'Calcul courbes'!$C$3))","v":0.29166454912979056},{"$f":"IF(ROW()>$E$3+1,('Calcul courbes'!$C$8*LOG(B184)+'Calcul courbes'!$C$9),NA())","v":{"$error":"#N/A"}},5.4954087385757383E-2,{"$error":"#N/A"},{"$f":"IF(ROW()<$E$3+1,'Calcul courbes'!$C$10,NA())","v":0.29940684993084954},{"$error":"#N/A"},{"$error":"#N/A"}]
[-1.25000000000004,5.6234132519029714E-2,{"$f":"4*ATAN(-'Calcul courbes'!$C$2*B185+SQRT(('Calcul courbes'!$C$2)^2*B185^2+'Calcul courbes'!$C$3))","v":0.29149988791483672},{"$f":"IF(ROW()>$E$3+1,('Calcul courbes'!$C$8*LOG(B185)+'Calcul courbes'!$C$9),NA())","v":{"$error":"#N/A"}},5.6234132519029714E-2,{"$error":"#N/A"},{"$f":"IF(ROW()<$E$3+1,'Calcul courbes'!$C$10,NA())","v":0.29940684993084954},{"$error":"#N/A"},{"$error":"#N/A"}]
[-1.24000000000004,5.7543993733710393E-2,{"$f":"4*ATAN(-'Calcul courbes'!$C$2*B186+SQRT(('Calcul courbes'!$C$2)^2*B186^2+'Calcul courbes'!$C$3))","v":0.29133148920230595},{"$f":"IF(ROW()>$E$3+1,('Calcul courbes'!$C$8*LOG(B186)+'Calcul courbes'!$C$9),NA())","v":{"$error":"#N/A"}},5.7543993733710393E-2,{"$error":"#N/A"},{"$f":"IF(ROW()<$E$3+1,'Calcul courbes'!$C$10,NA())","v":0.29940684993084954},{"$error":"#N/A"},{"$error":"#N/A"}]
[-1.23000000000004,5.8884365535553471E-2,{"$f":"4*ATAN(-'Calcul courbes'!$C$2*B187+SQRT(('Calcul courbes'!$C$2)^2*B187^2+'Calcul courbes'!$C$3))","v":0.29115927054914076},{"$f":"IF(ROW()>$E$3+1,('Calcul courbes'!$C$8*LOG(B187)+'Calcul courbes'!$C$9),NA())","v":{"$error":"#N/A"}},5.8884365535553471E-2,{"$error":"#N/A"},{"$f":"IF(ROW()<$E$3+1,'Calcul courbes'!$C$10,NA())","v":0.29940684993084954},{"$error":"#N/A"},{"$error":"#N/A"}]
[-1.2200000000000399,6.0255958607430216E-2,{"$f":"4*ATAN(-'Calcul courbes'!$C$2*B188+SQRT(('Calcul courbes'!$C$2)^2*B188^2+'Calcul courbes'!$C$3))","v":0.29098314780914891},{"$f":"IF(ROW()>$E$3+1,('Calcul courbes'!$C$8*LOG(B188)+'Calcul courbes'!$C$9),NA())","v":{"$error":"#N/A"}},6.0255958607430216E-2,{"$error":"#N/A"},{"$f":"IF(ROW()<$E$3+1,'Calcul courbes'!$C$10,NA())","v":0.29940684993084954},{"$error":"#N/A"},{"$error":"#N/A"}]
[-1.2100000000000399,6.1659500186142524E-2,{"$f":"4*ATAN(-'Calcul courbes'!$C$2*B189+SQRT(('Calcul courbes'!$C$2)^2*B189^2+'Calcul courbes'!$C$3))","v":0.29080303510353894},{"$f":"IF(ROW()>$E$3+1,('Calcul courbes'!$C$8*LOG(B189)+'Calcul courbes'!$C$9),NA())","v":{"$error":"#N/A"}},6.1659500186142524E-2,{"$error":"#N/A"},{"$f":"IF(ROW()<$E$3+1,'Calcul courbes'!$C$10,NA())","v":0.29940684993084954},{"$error":"#N/A"},{"$error":"#N/A"}]
[-1.2000000000000399,6.3095734448013516E-2,{"$f":"4*ATAN(-'Calcul courbes'!$C$2*B190+SQRT(('Calcul courbes'!$C$2)^2*B190^2+'Calcul courbes'!$C$3))","v":0.29061884479124767},{"$f":"IF(ROW()>$E$3+1,('Calcul courbes'!$C$8*LOG(B190)+'Calcul courbes'!$C$9),NA())","v":{"$error":"#N/A"}},6.3095734448013516E-2,{"$error":"#N/A"},{"$f":"IF(ROW()<$E$3+1,'Calcul courbes'!$C$10,NA())","v":0.29940684993084954},{"$error":"#N/A"},{"$error":"#N/A"}]
[-1.1900000000000399,6.456542290345961E-2,{"$f":"4*ATAN(-'Calcul courbes'!$C$2*B191+SQRT(('Calcul courbes'!$C$2)^2*B191^2+'Calcul courbes'!$C$3))","v":0.29043048743907601},{"$f":"IF(ROW()>$E$3+1,('Calcul courbes'!$C$8*LOG(B191)+'Calcul courbes'!$C$9),NA())","v":{"$error":"#N/A"}},6.456542290345961E-2,{"$error":"#N/A"},{"$f":"IF(ROW()<$E$3+1,'Calcul courbes'!$C$10,NA())","v":0.29940684993084954},{"$error":"#N/A"},{"$error":"#N/A"}]
[-1.1800000000000399,6.6069344800753507E-2,{"$f":"4*ATAN(-'Calcul courbes'!$C$2*B192+SQRT(('Calcul courbes'!$C$2)^2*B192^2+'Calcul courbes'!$C$3))","v":0.29023787179165322},{"$f":"IF(ROW()>$E$3+1,('Calcul courbes'!$C$8*LOG(B192)+'Calcul courbes'!$C$9),NA())","v":{"$error":"#N/A"}},6.6069344800753507E-2,{"$error":"#N/A"},{"$f":"IF(ROW()<$E$3+1,'Calcul courbes'!$C$10,NA())","v":0.29940684993084954},{"$error":"#N/A"},{"$error":"#N/A"}]
[-1.1700000000000399,6.7608297539191939E-2,{"$f":"4*ATAN(-'Calcul courbes'!$C$2*B193+SQRT(('Calcul courbes'!$C$2)^2*B193^2+'Calcul courbes'!$C$3))","v":0.29004090474124777},{"$f":"IF(ROW()>$E$3+1,('Calcul courbes'!$C$8*LOG(B193)+'Calcul courbes'!$C$9),NA())","v":{"$error":"#N/A"}},6.7608297539191939E-2,{"$error":"#N/A"},{"$f":"IF(ROW()<$E$3+1,'Calcul courbes'!$C$10,NA())","v":0.29940684993084954},{"$error":"#N/A"},{"$error":"#N/A"}]
[-1.1600000000000401,6.9183097091887261E-2,{"$f":"4*ATAN(-'Calcul courbes'!$C$2*B194+SQRT(('Calcul courbes'!$C$2)^2*B194^2+'Calcul courbes'!$C$3))","v":0.2898394912974489},{"$f":"IF(ROW()>$E$3+1,('Calcul courbes'!$C$8*LOG(B194)+'Calcul courbes'!$C$9),NA())","v":{"$error":"#N/A"}},6.9183097091887261E-2,{"$error":"#N/A"},{"$f":"IF(ROW()<$E$3+1,'Calcul courbes'!$C$10,NA())","v":0.29940684993084954},{"$error":"#N/A"},{"$error":"#N/A"}]
[-1.1500000000000401,7.0794578438407238E-2,{"$f":"4*ATAN(-'Calcul courbes'!$C$2*B195+SQRT(('Calcul courbes'!$C$2)^2*B195^2+'Calcul courbes'!$C$3))","v":0.28963353455674073},{"$f":"IF(ROW()>$E$3+1,('Calcul courbes'!$C$8*LOG(B195)+'Calcul courbes'!$C$9),NA())","v":{"$error":"#N/A"}},7.0794578438407238E-2,{"$error":"#N/A"},{"$f":"IF(ROW()<$E$3+1,'Calcul courbes'!$C$10,NA())","v":0.29940684993084954},{"$error":"#N/A"},{"$error":"#N/A"}]
[-1.1400000000000401,7.2443596007492297E-2,{"$f":"4*ATAN(-'Calcul courbes'!$C$2*B196+SQRT(('Calcul courbes'!$C$2)^2*B196^2+'Calcul courbes'!$C$3))","v":0.28942293567199495},{"$f":"IF(ROW()>$E$3+1,('Calcul courbes'!$C$8*LOG(B196)+'Calcul courbes'!$C$9),NA())","v":{"$error":"#N/A"}},7.2443596007492297E-2,{"$error":"#N/A"},{"$f":"IF(ROW()<$E$3+1,'Calcul courbes'!$C$10,NA())","v":0.29940684993084954},{"$error":"#N/A"},{"$error":"#N/A"}]
[-1.1300000000000401,7.4131024130084891E-2,{"$f":"4*ATAN(-'Calcul courbes'!$C$2*B197+SQRT(('Calcul courbes'!$C$2)^2*B197^2+'Calcul courbes'!$C$3))","v":0.2892075938219083},{"$f":"IF(ROW()>$E$3+1,('Calcul courbes'!$C$8*LOG(B197)+'Calcul courbes'!$C$9),NA())","v":{"$error":"#N/A"}},7.4131024130084891E-2,{"$error":"#N/A"},{"$f":"IF(ROW()<$E$3+1,'Calcul courbes'!$C$10,NA())","v":0.29940684993084954},{"$error":"#N/A"},{"$error":"#N/A"}]
[-1.1200000000000401,7.5857757502911363E-2,{"$f":"4*ATAN(-'Calcul courbes'!$C$2*B198+SQRT(('Calcul courbes'!$C$2)^2*B198^2+'Calcul courbes'!$C$3))","v":0.28898740618041535},{"$f":"IF(ROW()>$E$3+1,('Calcul courbes'!$C$8*LOG(B198)+'Calcul courbes'!$C$9),NA())","v":{"$error":"#N/A"}},7.5857757502911363E-2,{"$error":"#N/A"},{"$f":"IF(ROW()<$E$3+1,'Calcul courbes'!$C$10,NA())","v":0.29940684993084954},{"$error":"#N/A"},{"$error":"#N/A"}]
[-1.1100000000000401,7.7624711662862E-2,{"$f":"4*ATAN(-'Calcul courbes'!$C$2*B199+SQRT(('Calcul courbes'!$C$2)^2*B199^2+'Calcul courbes'!$C$3))","v":0.28876226788610593},{"$f":"IF(ROW()>$E$3+1,('Calcul courbes'!$C$8*LOG(B199)+'Calcul courbes'!$C$9),NA())","v":{"$error":"#N/A"}},7.7624711662862E-2,{"$error":"#N/A"},{"$f":"IF(ROW()<$E$3+1,'Calcul courbes'!$C$10,NA())","v":0.29940684993084954},{"$error":"#N/A"},{"$error":"#N/A"}]
[-1.1000000000000401,7.943282347242081E-2,{"$f":"4*ATAN(-'Calcul courbes'!$C$2*B200+SQRT(('Calcul courbes'!$C$2)^2*B200^2+'Calcul courbes'!$C$3))","v":0.28853207201168118},{"$f":"IF(ROW()>$E$3+1,('Calcul courbes'!$C$8*LOG(B200)+'Calcul courbes'!$C$9),NA())","v":{"$error":"#N/A"}},7.943282347242081E-2,{"$error":"#N/A"},{"$f":"IF(ROW()<$E$3+1,'Calcul courbes'!$C$10,NA())","v":0.29940684993084954},{"$error":"#N/A"},{"$error":"#N/A"}]
[-1.09000000000004,8.1283051616402396E-2,{"$f":"4*ATAN(-'Calcul courbes'!$C$2*B201+SQRT(('Calcul courbes'!$C$2)^2*B201^2+'Calcul courbes'!$C$3))","v":0.28829670953348385},{"$f":"IF(ROW()>$E$3+1,('Calcul courbes'!$C$8*LOG(B201)+'Calcul courbes'!$C$9),NA())","v":{"$error":"#N/A"}},8.1283051616402396E-2,{"$error":"#N/A"},{"$f":"IF(ROW()<$E$3+1,'Calcul courbes'!$C$10,NA())","v":0.29940684993084954},{"$error":"#N/A"},{"$error":"#N/A"}]
[-1.08000000000004,8.3176377110259436E-2,{"$f":"4*ATAN(-'Calcul courbes'!$C$2*B202+SQRT(('Calcul courbes'!$C$2)^2*B202^2+'Calcul courbes'!$C$3))","v":0.28805606930114008},{"$f":"IF(ROW()>$E$3+1,('Calcul courbes'!$C$8*LOG(B202)+'Calcul courbes'!$C$9),NA())","v":{"$error":"#N/A"}},8.3176377110259436E-2,{"$error":"#N/A"},{"$f":"IF(ROW()<$E$3+1,'Calcul courbes'!$C$10,NA())","v":0.29940684993084954},{"$error":"#N/A"},{"$error":"#N/A"}]
[-1.07000000000004,{"$f":"10^A203","v":8.5113803820229789E-2},{"$f":"4*ATAN(-'Calcul courbes'!$C$2*B203+SQRT(('Calcul courbes'!$C$2)^2*B203^2+'Calcul courbes'!$C$3))","v":0.2878100380073535},{"$f":"IF(ROW()>$E$3+1,('Calcul courbes'!$C$8*LOG(B203)+'Calcul courbes'!$C$9),NA())","v":{"$error":"#N/A"}},{"$f":"IF(ROW()<$F$3+1,B203,NA())","v":8.5113803820229789E-2},{"$f":"IF(ROW()>$E$3+1,E203,NA())","v":{"$error":"#N/A"}},{"$f":"IF(ROW()<$E$3+1,'Calcul courbes'!$C$10,NA())","v":0.29940684993084954},{"$f":"IF(ROW()>$F$3-1,0,NA())","v":{"$error":"#N/A"}},{"$f":"IF(ROW()=$F$3-1,0,NA())","v":{"$error":"#N/A"}}]
[-1.06000000000004,8.7096358995600004E-2,{"$f":"4*ATAN(-'Calcul courbes'!$C$2*B204+SQRT(('Calcul courbes'!$C$2)^2*B204^2+'Calcul courbes'!$C$3))","v":0.28755850015789364},{"$f":"IF(ROW()>$E$3+1,('Calcul courbes'!$C$8*LOG(B204)+'Calcul courbes'!$C$9),NA())","v":{"$error":"#N/A"}},8.7096358995600004E-2,{"$error":"#N/A"},{"$f":"IF(ROW()<$E$3+1,'Calcul courbes'!$C$10,NA())","v":0.29940684993084954},{"$error":"#N/A"},{"$error":"#N/A"}]
[-1.05000000000004,8.9125093813366293E-2,{"$f":"4*ATAN(-'Calcul courbes'!$C$2*B205+SQRT(('Calcul courbes'!$C$2)^2*B205^2+'Calcul courbes'!$C$3))","v":0.2873013380418255},{"$f":"IF(ROW()>$E$3+1,('Calcul courbes'!$C$8*LOG(B205)+'Calcul courbes'!$C$9),NA())","v":{"$error":"#N/A"}},8.9125093813366293E-2,{"$error":"#N/A"},{"$f":"IF(ROW()<$E$3+1,'Calcul courbes'!$C$10,NA())","v":0.29940684993084954},{"$error":"#N/A"},{"$error":"#N/A"}]
[-1.04000000000004,9.1201083935582572E-2,{"$f":"4*ATAN(-'Calcul courbes'!$C$2*B206+SQRT(('Calcul courbes'!$C$2)^2*B206^2+'Calcul courbes'!$C$3))","v":0.28703843170202775},{"$f":"IF(ROW()>$E$3+1,('Calcul courbes'!$C$8*LOG(B206)+'Calcul courbes'!$C$9),NA())","v":{"$error":"#N/A"}},9.1201083935582572E-2,{"$error":"#N/A"},{"$f":"IF(ROW()<$E$3+1,'Calcul courbes'!$C$10,NA())","v":0.29940684993084954},{"$error":"#N/A"},{"$error":"#N/A"}]
[-1.03000000000004,9.3325430079690491E-2,{"$f":"4*ATAN(-'Calcul courbes'!$C$2*B207+SQRT(('Calcul courbes'!$C$2)^2*B207^2+'Calcul courbes'!$C$3))","v":0.28676965890605155},{"$f":"IF(ROW()>$E$3+1,('Calcul courbes'!$C$8*LOG(B207)+'Calcul courbes'!$C$9),NA())","v":{"$error":"#N/A"}},9.3325430079690491E-2,{"$error":"#N/A"},{"$f":"IF(ROW()<$E$3+1,'Calcul courbes'!$C$10,NA())","v":0.29940684993084954},{"$error":"#N/A"},{"$error":"#N/A"}]
[-1.02000000000004,9.5499258602134776E-2,{"$f":"4*ATAN(-'Calcul courbes'!$C$2*B208+SQRT(('Calcul courbes'!$C$2)^2*B208^2+'Calcul courbes'!$C$3))","v":0.28649489511737397},{"$f":"IF(ROW()>$E$3+1,('Calcul courbes'!$C$8*LOG(B208)+'Calcul courbes'!$C$9),NA())","v":{"$error":"#N/A"}},9.5499258602134776E-2,{"$error":"#N/A"},{"$f":"IF(ROW()<$E$3+1,'Calcul courbes'!$C$10,NA())","v":0.29940684993084954},{"$error":"#N/A"},{"$error":"#N/A"}]
[-1.01000000000004,9.7723722095572077E-2,{"$f":"4*ATAN(-'Calcul courbes'!$C$2*B209+SQRT(('Calcul courbes'!$C$2)^2*B209^2+'Calcul courbes'!$C$3))","v":0.28621401346710573},{"$f":"IF(ROW()>$E$3+1,('Calcul courbes'!$C$8*LOG(B209)+'Calcul courbes'!$C$9),NA())","v":{"$error":"#N/A"}},9.7723722095572077E-2,{"$error":"#N/A"},{"$f":"IF(ROW()<$E$3+1,'Calcul courbes'!$C$10,NA())","v":0.29940684993084954},{"$error":"#N/A"},{"$error":"#N/A"}]
[-1.00000000000004,9.9999999999990777E-2,{"$f":"4*ATAN(-'Calcul courbes'!$C$2*B210+SQRT(('Calcul courbes'!$C$2)^2*B210^2+'Calcul courbes'!$C$3))","v":0.28592688472621197},{"$f":"IF(ROW()>$E$3+1,('Calcul courbes'!$C$8*LOG(B210)+'Calcul courbes'!$C$9),NA())","v":{"$error":"#N/A"}},9.9999999999990777E-2,{"$error":"#N/A"},{"$f":"IF(ROW()<$E$3+1,'Calcul courbes'!$C$10,NA())","v":0.29940684993084954},{"$error":"#N/A"},{"$error":"#N/A"}]
[-0.99000000000003996,0.10232929922806597,{"$f":"4*ATAN(-'Calcul courbes'!$C$2*B211+SQRT(('Calcul courbes'!$C$2)^2*B211^2+'Calcul courbes'!$C$3))","v":0.28563337727831384},{"$f":"IF(ROW()>$E$3+1,('Calcul courbes'!$C$8*LOG(B211)+'Calcul courbes'!$C$9),NA())","v":{"$error":"#N/A"}},0.10232929922806597,{"$error":"#N/A"},{"$f":"IF(ROW()<$E$3+1,'Calcul courbes'!$C$10,NA())","v":0.29940684993084954},{"$error":"#N/A"},{"$error":"#N/A"}]
[-0.98000000000003995,0.10471285480508029,{"$f":"4*ATAN(-'Calcul courbes'!$C$2*B212+SQRT(('Calcul courbes'!$C$2)^2*B212^2+'Calcul courbes'!$C$3))","v":0.28533335709313784},{"$f":"IF(ROW()>$E$3+1,('Calcul courbes'!$C$8*LOG(B212)+'Calcul courbes'!$C$9),NA())","v":{"$error":"#N/A"}},0.10471285480508029,{"$error":"#N/A"},{"$f":"IF(ROW()<$E$3+1,'Calcul courbes'!$C$10,NA())","v":0.29940684993084954},{"$error":"#N/A"},{"$error":"#N/A"}]
[-0.97000000000004005,0.10715193052375073,{"$f":"4*ATAN(-'Calcul courbes'!$C$2*B213+SQRT(('Calcul courbes'!$C$2)^2*B213^2+'Calcul courbes'!$C$3))","v":0.28502668770068634},{"$f":"IF(ROW()>$E$3+1,('Calcul courbes'!$C$8*LOG(B213)+'Calcul courbes'!$C$9),NA())","v":{"$error":"#N/A"}},0.10715193052375073,{"$error":"#N/A"},{"$f":"IF(ROW()<$E$3+1,'Calcul courbes'!$C$10,NA())","v":0.29940684993084954},{"$error":"#N/A"},{"$error":"#N/A"}]
[-0.96000000000004004,0.10964781961430835,{"$f":"4*ATAN(-'Calcul courbes'!$C$2*B214+SQRT(('Calcul courbes'!$C$2)^2*B214^2+'Calcul courbes'!$C$3))","v":0.28471323016620748},{"$f":"IF(ROW()>$E$3+1,('Calcul courbes'!$C$8*LOG(B214)+'Calcul courbes'!$C$9),NA())","v":{"$error":"#N/A"}},0.10964781961430835,{"$error":"#N/A"},{"$f":"IF(ROW()<$E$3+1,'Calcul courbes'!$C$10,NA())","v":0.29940684993084954},{"$error":"#N/A"},{"$error":"#N/A"}]
[-0.95000000000004003,0.11220184543018601,{"$f":"4*ATAN(-'Calcul courbes'!$C$2*B215+SQRT(('Calcul courbes'!$C$2)^2*B215^2+'Calcul courbes'!$C$3))","v":0.28439284306604279},{"$f":"IF(ROW()>$E$3+1,('Calcul courbes'!$C$8*LOG(B215)+'Calcul courbes'!$C$9),NA())","v":{"$error":"#N/A"}},0.11220184543018601,{"$error":"#N/A"},{"$f":"IF(ROW()<$E$3+1,'Calcul courbes'!$C$10,NA())","v":0.29940684993084954},{"$error":"#N/A"},{"$error":"#N/A"}]
[-0.94000000000004003,0.11481536214967769,{"$f":"4*ATAN(-'Calcul courbes'!$C$2*B216+SQRT(('Calcul courbes'!$C$2)^2*B216^2+'Calcul courbes'!$C$3))","v":0.28406538246444185},{"$f":"IF(ROW()>$E$3+1,('Calcul courbes'!$C$8*LOG(B216)+'Calcul courbes'!$C$9),NA())","v":{"$error":"#N/A"}},0.11481536214967769,{"$error":"#N/A"},{"$f":"IF(ROW()<$E$3+1,'Calcul courbes'!$C$10,NA())","v":0.29940684993084954},{"$error":"#N/A"},{"$error":"#N/A"}]
[-0.93000000000004002,0.1174897554939421,{"$f":"4*ATAN(-'Calcul courbes'!$C$2*B217+SQRT(('Calcul courbes'!$C$2)^2*B217^2+'Calcul courbes'!$C$3))","v":0.28373070189143207},{"$f":"IF(ROW()>$E$3+1,('Calcul courbes'!$C$8*LOG(B217)+'Calcul courbes'!$C$9),NA())","v":{"$error":"#N/A"}},0.1174897554939421,{"$error":"#N/A"},{"$f":"IF(ROW()<$E$3+1,'Calcul courbes'!$C$10,NA())","v":0.29940684993084954},{"$error":"#N/A"},{"$error":"#N/A"}]
[-0.92000000000004001,0.12022644346173016,{"$f":"4*ATAN(-'Calcul courbes'!$C$2*B218+SQRT(('Calcul courbes'!$C$2)^2*B218^2+'Calcul courbes'!$C$3))","v":0.2833886523218403},{"$f":"IF(ROW()>$E$3+1,('Calcul courbes'!$C$8*LOG(B218)+'Calcul courbes'!$C$9),NA())","v":{"$error":"#N/A"}},0.12022644346173016,{"$error":"#N/A"},{"$f":"IF(ROW()<$E$3+1,'Calcul courbes'!$C$10,NA())","v":0.29940684993084954},{"$error":"#N/A"},{"$error":"#N/A"}]
[-0.91000000000004,0.12302687708122682,{"$f":"4*ATAN(-'Calcul courbes'!$C$2*B219+SQRT(('Calcul courbes'!$C$2)^2*B219^2+'Calcul courbes'!$C$3))","v":0.28303908215556656},{"$f":"IF(ROW()>$E$3+1,('Calcul courbes'!$C$8*LOG(B219)+'Calcul courbes'!$C$9),NA())","v":{"$error":"#N/A"}},0.12302687708122682,{"$error":"#N/A"},{"$f":"IF(ROW()<$E$3+1,'Calcul courbes'!$C$10,NA())","v":0.29940684993084954},{"$error":"#N/A"},{"$error":"#N/A"}]
[-0.90000000000003999,0.1258925411794051,{"$f":"4*ATAN(-'Calcul courbes'!$C$2*B220+SQRT(('Calcul courbes'!$C$2)^2*B220^2+'Calcul courbes'!$C$3))","v":0.28268183719921613},{"$f":"IF(ROW()>$E$3+1,('Calcul courbes'!$C$8*LOG(B220)+'Calcul courbes'!$C$9),NA())","v":{"$error":"#N/A"}},0.1258925411794051,{"$error":"#N/A"},{"$f":"IF(ROW()<$E$3+1,'Calcul courbes'!$C$10,NA())","v":0.29940684993084954},{"$error":"#N/A"},{"$error":"#N/A"}]
[-0.89000000000003998,0.12882495516930151,{"$f":"4*ATAN(-'Calcul courbes'!$C$2*B221+SQRT(('Calcul courbes'!$C$2)^2*B221^2+'Calcul courbes'!$C$3))","v":0.28231676064920108},{"$f":"IF(ROW()>$E$3+1,('Calcul courbes'!$C$8*LOG(B221)+'Calcul courbes'!$C$9),NA())","v":{"$error":"#N/A"}},0.12882495516930151,{"$error":"#N/A"},{"$f":"IF(ROW()<$E$3+1,'Calcul courbes'!$C$10,NA())","v":0.29940684993084954},{"$error":"#N/A"},{"$error":"#N/A"}]
[-0.88000000000004996,0.13182567385562555,{"$f":"4*ATAN(-'Calcul courbes'!$C$2*B222+SQRT(('Calcul courbes'!$C$2)^2*B222^2+'Calcul courbes'!$C$3))","v":0.2819436930764298},{"$f":"IF(ROW()>$E$3+1,('Calcul courbes'!$C$8*LOG(B222)+'Calcul courbes'!$C$9),NA())","v":{"$error":"#N/A"}},0.13182567385562555,{"$error":"#N/A"},{"$f":"IF(ROW()<$E$3+1,'Calcul courbes'!$C$10,NA())","v":0.29940684993084954},{"$error":"#N/A"},{"$error":"#N/A"}]
[-0.87000000000004996,0.13489628825914982,{"$f":"4*ATAN(-'Calcul courbes'!$C$2*B223+SQRT(('Calcul courbes'!$C$2)^2*B223^2+'Calcul courbes'!$C$3))","v":0.28156247241270571},{"$f":"IF(ROW()>$E$3+1,('Calcul courbes'!$C$8*LOG(B223)+'Calcul courbes'!$C$9),NA())","v":{"$error":"#N/A"}},0.13489628825914982,{"$error":"#N/A"},{"$f":"IF(ROW()<$E$3+1,'Calcul courbes'!$C$10,NA())","v":0.29940684993084954},{"$error":"#N/A"},{"$error":"#N/A"}]
[-0.86000000000004995,0.13803842646027256,{"$f":"4*ATAN(-'Calcul courbes'!$C$2*B224+SQRT(('Calcul courbes'!$C$2)^2*B224^2+'Calcul courbes'!$C$3))","v":0.28117293393896936},{"$f":"IF(ROW()>$E$3+1,('Calcul courbes'!$C$8*LOG(B224)+'Calcul courbes'!$C$9),NA())","v":{"$error":"#N/A"}},0.13803842646027256,{"$error":"#N/A"},{"$f":"IF(ROW()<$E$3+1,'Calcul courbes'!$C$10,NA())","v":0.29940684993084954},{"$error":"#N/A"},{"$error":"#N/A"}]
[-0.85000000000005005,0.14125375446225913,{"$f":"4*ATAN(-'Calcul courbes'!$C$2*B225+SQRT(('Calcul courbes'!$C$2)^2*B225^2+'Calcul courbes'!$C$3))","v":0.28077491027551477},{"$f":"IF(ROW()>$E$3+1,('Calcul courbes'!$C$8*LOG(B225)+'Calcul courbes'!$C$9),NA())","v":{"$error":"#N/A"}},0.14125375446225913,{"$error":"#N/A"},{"$f":"IF(ROW()<$E$3+1,'Calcul courbes'!$C$10,NA())","v":0.29940684993084954},{"$error":"#N/A"},{"$error":"#N/A"}]
[-0.84000000000005004,0.14454397707457606,{"$f":"4*ATAN(-'Calcul courbes'!$C$2*B226+SQRT(('Calcul courbes'!$C$2)^2*B226^2+'Calcul courbes'!$C$3))","v":0.28036823137432726},{"$f":"IF(ROW()>$E$3+1,('Calcul courbes'!$C$8*LOG(B226)+'Calcul courbes'!$C$9),NA())","v":{"$error":"#N/A"}},0.14454397707457606,{"$error":"#N/A"},{"$f":"IF(ROW()<$E$3+1,'Calcul courbes'!$C$10,NA())","v":0.29940684993084954},{"$error":"#N/A"},{"$error":"#N/A"}]
[-0.83000000000005003,0.1479108388168037,{"$f":"4*ATAN(-'Calcul courbes'!$C$2*B227+SQRT(('Calcul courbes'!$C$2)^2*B227^2+'Calcul courbes'!$C$3))","v":0.27995272451369052},{"$f":"IF(ROW()>$E$3+1,('Calcul courbes'!$C$8*LOG(B227)+'Calcul courbes'!$C$9),NA())","v":{"$error":"#N/A"}},0.1479108388168037,{"$error":"#N/A"},{"$f":"IF(ROW()<$E$3+1,'Calcul courbes'!$C$10,NA())","v":0.29940684993084954},{"$error":"#N/A"},{"$error":"#N/A"}]
[-0.82000000000005002,0.15135612484360336,{"$f":"4*ATAN(-'Calcul courbes'!$C$2*B228+SQRT(('Calcul courbes'!$C$2)^2*B228^2+'Calcul courbes'!$C$3))","v":0.27952821429522251},{"$f":"IF(ROW()>$E$3+1,('Calcul courbes'!$C$8*LOG(B228)+'Calcul courbes'!$C$9),NA())","v":{"$error":"#N/A"}},0.15135612484360336,{"$error":"#N/A"},{"$f":"IF(ROW()<$E$3+1,'Calcul courbes'!$C$10,NA())","v":0.29940684993084954},{"$error":"#N/A"},{"$error":"#N/A"}]
[-0.81000000000005001,0.15488166189123026,{"$f":"4*ATAN(-'Calcul courbes'!$C$2*B229+SQRT(('Calcul courbes'!$C$2)^2*B229^2+'Calcul courbes'!$C$3))","v":0.27909452264350287},{"$f":"IF(ROW()>$E$3+1,('Calcul courbes'!$C$8*LOG(B229)+'Calcul courbes'!$C$9),NA())","v":{"$error":"#N/A"}},0.15488166189123026,{"$error":"#N/A"},{"$f":"IF(ROW()<$E$3+1,'Calcul courbes'!$C$10,NA())","v":0.29940684993084954},{"$error":"#N/A"},{"$error":"#N/A"}]
[-0.80000000000005,0.15848931924609305,{"$f":"4*ATAN(-'Calcul courbes'!$C$2*B230+SQRT(('Calcul courbes'!$C$2)^2*B230^2+'Calcul courbes'!$C$3))","v":0.27865146880846653},{"$f":"IF(ROW()>$E$3+1,('Calcul courbes'!$C$8*LOG(B230)+'Calcul courbes'!$C$9),NA())","v":{"$error":"#N/A"}},0.15848931924609305,{"$error":"#N/A"},{"$f":"IF(ROW()<$E$3+1,'Calcul courbes'!$C$10,NA())","v":0.29940684993084954},{"$error":"#N/A"},{"$error":"#N/A"}]
[-0.79000000000005,0.16218100973587432,{"$f":"4*ATAN(-'Calcul courbes'!$C$2*B231+SQRT(('Calcul courbes'!$C$2)^2*B231^2+'Calcul courbes'!$C$3))","v":0.27819886937074378},{"$f":"IF(ROW()>$E$3+1,('Calcul courbes'!$C$8*LOG(B231)+'Calcul courbes'!$C$9),NA())","v":{"$error":"#N/A"}},0.16218100973587432,{"$error":"#N/A"},{"$f":"IF(ROW()<$E$3+1,'Calcul courbes'!$C$10,NA())","v":0.29940684993084954},{"$error":"#N/A"},{"$error":"#N/A"}]
[-0.78000000000004999,0.16595869074373693,{"$f":"4*ATAN(-'Calcul courbes'!$C$2*B232+SQRT(('Calcul courbes'!$C$2)^2*B232^2+'Calcul courbes'!$C$3))","v":0.27773653825013594},{"$f":"IF(ROW()>$E$3+1,('Calcul courbes'!$C$8*LOG(B232)+'Calcul courbes'!$C$9),NA())","v":{"$error":"#N/A"}},0.16595869074373693,{"$error":"#N/A"},{"$f":"IF(ROW()<$E$3+1,'Calcul courbes'!$C$10,NA())","v":0.29940684993084954},{"$error":"#N/A"},{"$error":"#N/A"}]
[-0.77000000000004998,0.16982436524615488,{"$f":"4*ATAN(-'Calcul courbes'!$C$2*B233+SQRT(('Calcul courbes'!$C$2)^2*B233^2+'Calcul courbes'!$C$3))","v":0.27726428671742387},{"$f":"IF(ROW()>$E$3+1,('Calcul courbes'!$C$8*LOG(B233)+'Calcul courbes'!$C$9),NA())","v":{"$error":"#N/A"}},0.16982436524615488,{"$error":"#N/A"},{"$f":"IF(ROW()<$E$3+1,'Calcul courbes'!$C$10,NA())","v":0.29940684993084954},{"$error":"#N/A"},{"$error":"#N/A"}]
[-0.76000000000004997,0.1737800828749175,{"$f":"4*ATAN(-'Calcul courbes'!$C$2*B234+SQRT(('Calcul courbes'!$C$2)^2*B234^2+'Calcul courbes'!$C$3))","v":0.27678192340971869},{"$f":"IF(ROW()>$E$3+1,('Calcul courbes'!$C$8*LOG(B234)+'Calcul courbes'!$C$9),NA())","v":{"$error":"#N/A"}},0.1737800828749175,{"$error":"#N/A"},{"$f":"IF(ROW()<$E$3+1,'Calcul courbes'!$C$10,NA())","v":0.29940684993084954},{"$error":"#N/A"},{"$error":"#N/A"}]
[-0.75000000000004996,0.17782794100387178,{"$f":"4*ATAN(-'Calcul courbes'!$C$2*B235+SQRT(('Calcul courbes'!$C$2)^2*B235^2+'Calcul courbes'!$C$3))","v":0.27628925434956675},{"$f":"IF(ROW()>$E$3+1,('Calcul courbes'!$C$8*LOG(B235)+'Calcul courbes'!$C$9),NA())","v":{"$error":"#N/A"}},0.17782794100387178,{"$error":"#N/A"},{"$f":"IF(ROW()<$E$3+1,'Calcul courbes'!$C$10,NA())","v":0.29940684993084954},{"$error":"#N/A"},{"$error":"#N/A"}]
[-0.74000000000004995,0.18197008586097738,{"$f":"4*ATAN(-'Calcul courbes'!$C$2*B236+SQRT(('Calcul courbes'!$C$2)^2*B236^2+'Calcul courbes'!$C$3))","v":0.27578608296803742},{"$f":"IF(ROW()>$E$3+1,('Calcul courbes'!$C$8*LOG(B236)+'Calcul courbes'!$C$9),NA())","v":{"$error":"#N/A"}},0.18197008586097738,{"$error":"#N/A"},{"$f":"IF(ROW()<$E$3+1,'Calcul courbes'!$C$10,NA())","v":0.29940684993084954},{"$error":"#N/A"},{"$error":"#N/A"}]
[-0.73000000000005005,0.18620871366626526,{"$f":"4*ATAN(-'Calcul courbes'!$C$2*B237+SQRT(('Calcul courbes'!$C$2)^2*B237^2+'Calcul courbes'!$C$3))","v":0.27527221013202685},{"$f":"IF(ROW()>$E$3+1,('Calcul courbes'!$C$8*LOG(B237)+'Calcul courbes'!$C$9),NA())","v":{"$error":"#N/A"}},0.18620871366626526,{"$error":"#N/A"},{"$f":"IF(ROW()<$E$3+1,'Calcul courbes'!$C$10,NA())","v":0.29940684993084954},{"$error":"#N/A"},{"$error":"#N/A"}]
[-0.72000000000005004,0.1905460717963027,{"$f":"4*ATAN(-'Calcul courbes'!$C$2*B238+SQRT(('Calcul courbes'!$C$2)^2*B238^2+'Calcul courbes'!$C$3))","v":0.27474743417602265},{"$f":"IF(ROW()>$E$3+1,('Calcul courbes'!$C$8*LOG(B238)+'Calcul courbes'!$C$9),NA())","v":{"$error":"#N/A"}},0.1905460717963027,{"$error":"#N/A"},{"$f":"IF(ROW()<$E$3+1,'Calcul courbes'!$C$10,NA())","v":0.29940684993084954},{"$error":"#N/A"},{"$error":"#N/A"}]
[-0.71000000000005004,0.19498445997578204,{"$f":"4*ATAN(-'Calcul courbes'!$C$2*B239+SQRT(('Calcul courbes'!$C$2)^2*B239^2+'Calcul courbes'!$C$3))","v":0.27421155093858535},{"$f":"IF(ROW()>$E$3+1,('Calcul courbes'!$C$8*LOG(B239)+'Calcul courbes'!$C$9),NA())","v":{"$error":"#N/A"}},0.19498445997578204,{"$error":"#N/A"},{"$f":"IF(ROW()<$E$3+1,'Calcul courbes'!$C$10,NA())","v":0.29940684993084954},{"$error":"#N/A"},{"$error":"#N/A"}]
[-0.70000000000005003,0.19952623149686494,{"$f":"4*ATAN(-'Calcul courbes'!$C$2*B240+SQRT(('Calcul courbes'!$C$2)^2*B240^2+'Calcul courbes'!$C$3))","v":0.27366435380380999},{"$f":"IF(ROW()>$E$3+1,('Calcul courbes'!$C$8*LOG(B240)+'Calcul courbes'!$C$9),NA())","v":{"$error":"#N/A"}},0.19952623149686494,{"$error":"#N/A"},{"$f":"IF(ROW()<$E$3+1,'Calcul courbes'!$C$10,NA())","v":0.29940684993084954},{"$error":"#N/A"},{"$error":"#N/A"}]
[-0.69000000000005002,0.2041737944669294,{"$f":"4*ATAN(-'Calcul courbes'!$C$2*B241+SQRT(('Calcul courbes'!$C$2)^2*B241^2+'Calcul courbes'!$C$3))","v":0.27310563374804547},{"$f":"IF(ROW()>$E$3+1,('Calcul courbes'!$C$8*LOG(B241)+'Calcul courbes'!$C$9),NA())","v":{"$error":"#N/A"}},0.2041737944669294,{"$error":"#N/A"},{"$f":"IF(ROW()<$E$3+1,'Calcul courbes'!$C$10,NA())","v":0.29940684993084954},{"$error":"#N/A"},{"$error":"#N/A"}]
[-0.68000000000005001,0.20892961308537986,{"$f":"4*ATAN(-'Calcul courbes'!$C$2*B242+SQRT(('Calcul courbes'!$C$2)^2*B242^2+'Calcul courbes'!$C$3))","v":0.27253517939215638},{"$f":"IF(ROW()>$E$3+1,('Calcul courbes'!$C$8*LOG(B242)+'Calcul courbes'!$C$9),NA())","v":{"$error":"#N/A"}},0.20892961308537986,{"$error":"#N/A"},{"$f":"IF(ROW()<$E$3+1,'Calcul courbes'!$C$10,NA())","v":0.29940684993084954},{"$error":"#N/A"},{"$error":"#N/A"}]
[-0.67000000000005,0.21379620895019857,{"$f":"4*ATAN(-'Calcul courbes'!$C$2*B243+SQRT(('Calcul courbes'!$C$2)^2*B243^2+'Calcul courbes'!$C$3))","v":0.27195277705962512},{"$f":"IF(ROW()>$E$3+1,('Calcul courbes'!$C$8*LOG(B243)+'Calcul courbes'!$C$9),NA())","v":{"$error":"#N/A"}},0.21379620895019857,{"$error":"#N/A"},{"$f":"IF(ROW()<$E$3+1,'Calcul courbes'!$C$10,NA())","v":0.29940684993084954},{"$error":"#N/A"},{"$error":"#N/A"}]
[-0.66000000000004999,0.21877616239493006,{"$f":"4*ATAN(-'Calcul courbes'!$C$2*B244+SQRT(('Calcul courbes'!$C$2)^2*B244^2+'Calcul courbes'!$C$3))","v":0.27135821084080269},{"$f":"IF(ROW()>$E$3+1,('Calcul courbes'!$C$8*LOG(B244)+'Calcul courbes'!$C$9),NA())","v":{"$error":"#N/A"}},0.21877616239493006,{"$error":"#N/A"},{"$f":"IF(ROW()<$E$3+1,'Calcul courbes'!$C$10,NA())","v":0.29940684993084954},{"$error":"#N/A"},{"$error":"#N/A"}]
[-0.65000000000004998,0.22387211385680816,{"$f":"4*ATAN(-'Calcul courbes'!$C$2*B245+SQRT(('Calcul courbes'!$C$2)^2*B245^2+'Calcul courbes'!$C$3))","v":0.27075126266362654},{"$f":"IF(ROW()>$E$3+1,('Calcul courbes'!$C$8*LOG(B245)+'Calcul courbes'!$C$9),NA())","v":{"$error":"#N/A"}},0.22387211385680816,{"$error":"#N/A"},{"$f":"IF(ROW()<$E$3+1,'Calcul courbes'!$C$10,NA())","v":0.29940684993084954},{"$error":"#N/A"},{"$error":"#N/A"}]
[-0.64000000000004997,0.22908676527675095,{"$f":"4*ATAN(-'Calcul courbes'!$C$2*B246+SQRT(('Calcul courbes'!$C$2)^2*B246^2+'Calcul courbes'!$C$3))","v":0.27013171237113615},{"$f":"IF(ROW()>$E$3+1,('Calcul courbes'!$C$8*LOG(B246)+'Calcul courbes'!$C$9),NA())","v":{"$error":"#N/A"}},0.22908676527675095,{"$error":"#N/A"},{"$f":"IF(ROW()<$E$3+1,'Calcul courbes'!$C$10,NA())","v":0.29940684993084954},{"$error":"#N/A"},{"$error":"#N/A"}]
[-0.63000000000004996,0.23442288153196519,{"$f":"4*ATAN(-'Calcul courbes'!$C$2*B247+SQRT(('Calcul courbes'!$C$2)^2*B247^2+'Calcul courbes'!$C$3))","v":0.26949933780612784},{"$f":"IF(ROW()>$E$3+1,('Calcul courbes'!$C$8*LOG(B247)+'Calcul courbes'!$C$9),NA())","v":{"$error":"#N/A"}},0.23442288153196519,{"$error":"#N/A"},{"$f":"IF(ROW()<$E$3+1,'Calcul courbes'!$C$10,NA())","v":0.29940684993084954},{"$error":"#N/A"},{"$error":"#N/A"}]
[-0.62000000000004996,0.23988329190192145,{"$f":"4*ATAN(-'Calcul courbes'!$C$2*B248+SQRT(('Calcul courbes'!$C$2)^2*B248^2+'Calcul courbes'!$C$3))","v":0.26885391490330091},{"$f":"IF(ROW()>$E$3+1,('Calcul courbes'!$C$8*LOG(B248)+'Calcul courbes'!$C$9),NA())","v":{"$error":"#N/A"}},0.23988329190192145,{"$error":"#N/A"},{"$f":"IF(ROW()<$E$3+1,'Calcul courbes'!$C$10,NA())","v":0.29940684993084954},{"$error":"#N/A"},{"$error":"#N/A"}]
[-0.61000000000004995,0.24547089156847479,{"$f":"4*ATAN(-'Calcul courbes'!$C$2*B249+SQRT(('Calcul courbes'!$C$2)^2*B249^2+'Calcul courbes'!$C$3))","v":0.26819521778925914},{"$f":"IF(ROW()>$E$3+1,('Calcul courbes'!$C$8*LOG(B249)+'Calcul courbes'!$C$9),NA())","v":{"$error":"#N/A"}},0.24547089156847479,{"$error":"#N/A"},{"$f":"IF(ROW()<$E$3+1,'Calcul courbes'!$C$10,NA())","v":0.29940684993084954},{"$error":"#N/A"},{"$error":"#N/A"}]
[-0.60000000000005005,0.25118864315092904,{"$f":"4*ATAN(-'Calcul courbes'!$C$2*B250+SQRT(('Calcul courbes'!$C$2)^2*B250^2+'Calcul courbes'!$C$3))","v":0.26752301889074154},{"$f":"IF(ROW()>$E$3+1,('Calcul courbes'!$C$8*LOG(B250)+'Calcul courbes'!$C$9),NA())","v":{"$error":"#N/A"}},0.25118864315092904,{"$error":"#N/A"},{"$f":"IF(ROW()<$E$3+1,'Calcul courbes'!$C$10,NA())","v":0.29940684993084954},{"$error":"#N/A"},{"$error":"#N/A"}]
[-0.59000000000005004,0.25703957827685675,{"$f":"4*ATAN(-'Calcul courbes'!$C$2*B251+SQRT(('Calcul courbes'!$C$2)^2*B251^2+'Calcul courbes'!$C$3))","v":0.2668370890514678},{"$f":"IF(ROW()>$E$3+1,('Calcul courbes'!$C$8*LOG(B251)+'Calcul courbes'!$C$9),NA())","v":{"$error":"#N/A"}},0.25703957827685675,{"$error":"#N/A"},{"$f":"IF(ROW()<$E$3+1,'Calcul courbes'!$C$10,NA())","v":0.29940684993084954},{"$error":"#N/A"},{"$error":"#N/A"}]
[-0.58000000000005003,0.26302679918950789,{"$f":"4*ATAN(-'Calcul courbes'!$C$2*B252+SQRT(('Calcul courbes'!$C$2)^2*B252^2+'Calcul courbes'!$C$3))","v":0.26613719765799398},{"$f":"IF(ROW()>$E$3+1,('Calcul courbes'!$C$8*LOG(B252)+'Calcul courbes'!$C$9),NA())","v":{"$error":"#N/A"}},0.26302679918950789,{"$error":"#N/A"},{"$f":"IF(ROW()<$E$3+1,'Calcul courbes'!$C$10,NA())","v":0.29940684993084954},{"$error":"#N/A"},{"$error":"#N/A"}]
[-0.57000000000005002,0.26915348039266052,{"$f":"4*ATAN(-'Calcul courbes'!$C$2*B253+SQRT(('Calcul courbes'!$C$2)^2*B253^2+'Calcul courbes'!$C$3))","v":0.26542311277498465},{"$f":"IF(ROW()>$E$3+1,('Calcul courbes'!$C$8*LOG(B253)+'Calcul courbes'!$C$9),NA())","v":{"$error":"#N/A"}},0.26915348039266052,{"$error":"#N/A"},{"$f":"IF(ROW()<$E$3+1,'Calcul courbes'!$C$10,NA())","v":0.29940684993084954},{"$error":"#N/A"},{"$error":"#N/A"}]
[-0.56000000000005001,0.27542287033378487,{"$f":"4*ATAN(-'Calcul courbes'!$C$2*B254+SQRT(('Calcul courbes'!$C$2)^2*B254^2+'Calcul courbes'!$C$3))","v":0.2646946012903163},{"$f":"IF(ROW()>$E$3+1,('Calcul courbes'!$C$8*LOG(B254)+'Calcul courbes'!$C$9),NA())","v":{"$error":"#N/A"}},0.27542287033378487,{"$error":"#N/A"},{"$f":"IF(ROW()<$E$3+1,'Calcul courbes'!$C$10,NA())","v":0.29940684993084954},{"$error":"#N/A"},{"$error":"#N/A"}]
[-0.55000000000005,0.2818382931264129,{"$f":"4*ATAN(-'Calcul courbes'!$C$2*B255+SQRT(('Calcul courbes'!$C$2)^2*B255^2+'Calcul courbes'!$C$3))","v":0.26395142907043651},{"$f":"IF(ROW()>$E$3+1,('Calcul courbes'!$C$8*LOG(B255)+'Calcul courbes'!$C$9),NA())","v":{"$error":"#N/A"}},0.2818382931264129,{"$error":"#N/A"},{"$f":"IF(ROW()<$E$3+1,'Calcul courbes'!$C$10,NA())","v":0.29940684993084954},{"$error":"#N/A"},{"$error":"#N/A"}]
[-0.54000000000005,0.28840315031262737,{"$f":"4*ATAN(-'Calcul courbes'!$C$2*B256+SQRT(('Calcul courbes'!$C$2)^2*B256^2+'Calcul courbes'!$C$3))","v":0.26319336112641312},{"$f":"IF(ROW()>$E$3+1,('Calcul courbes'!$C$8*LOG(B256)+'Calcul courbes'!$C$9),NA())","v":{"$error":"#N/A"}},0.28840315031262737,{"$error":"#N/A"},{"$f":"IF(ROW()<$E$3+1,'Calcul courbes'!$C$10,NA())","v":0.29940684993084954},{"$error":"#N/A"},{"$error":"#N/A"}]
[-0.53000000000004999,0.29512092266660456,{"$f":"4*ATAN(-'Calcul courbes'!$C$2*B257+SQRT(('Calcul courbes'!$C$2)^2*B257^2+'Calcul courbes'!$C$3))","v":0.26242016179111333},{"$f":"IF(ROW()>$E$3+1,('Calcul courbes'!$C$8*LOG(B257)+'Calcul courbes'!$C$9),NA())","v":{"$error":"#N/A"}},0.29512092266660456,{"$error":"#N/A"},{"$f":"IF(ROW()<$E$3+1,'Calcul courbes'!$C$10,NA())","v":0.29940684993084954},{"$error":"#N/A"},{"$error":"#N/A"}]
[-0.52000000000004998,0.30199517204016685,{"$f":"4*ATAN(-'Calcul courbes'!$C$2*B258+SQRT(('Calcul courbes'!$C$2)^2*B258^2+'Calcul courbes'!$C$3))","v":0.26163159490796095},{"$f":"IF(ROW()>$E$3+1,('Calcul courbes'!$C$8*LOG(B258)+'Calcul courbes'!$C$9),NA())","v":{"$error":"#N/A"}},0.30199517204016685,{"$error":"#N/A"},{"$f":"IF(ROW()<$E$3+1,'Calcul courbes'!$C$10,NA())","v":{"$error":"#N/A"}},{"$error":"#N/A"},{"$error":"#N/A"}]
[-0.51000000000004997,0.30902954325132342,{"$f":"4*ATAN(-'Calcul courbes'!$C$2*B259+SQRT(('Calcul courbes'!$C$2)^2*B259^2+'Calcul courbes'!$C$3))","v":0.26082742403172576},{"$f":"IF(ROW()>$E$3+1,('Calcul courbes'!$C$8*LOG(B259)+'Calcul courbes'!$C$9),NA())","v":0.29763524359969262},0.30902954325132342,0.30902954325132342,{"$f":"IF(ROW()<$E$3+1,'Calcul courbes'!$C$10,NA())","v":{"$error":"#N/A"}},{"$error":"#N/A"},{"$error":"#N/A"}]
[-0.50000000000004996,0.31622776601680153,{"$f":"4*ATAN(-'Calcul courbes'!$C$2*B260+SQRT(('Calcul courbes'!$C$2)^2*B260^2+'Calcul courbes'!$C$3))","v":0.26000741264180438},{"$f":"IF(ROW()>$E$3+1,('Calcul courbes'!$C$8*LOG(B260)+'Calcul courbes'!$C$9),NA())","v":0.29563752950685307},0.31622776601680153,0.31622776601680153,{"$f":"IF(ROW()<$E$3+1,'Calcul courbes'!$C$10,NA())","v":{"$error":"#N/A"}},{"$error":"#N/A"},{"$error":"#N/A"}]
[-0.49000000000005001,0.32359365692959097,{"$f":"4*ATAN(-'Calcul courbes'!$C$2*B261+SQRT(('Calcul courbes'!$C$2)^2*B261^2+'Calcul courbes'!$C$3))","v":0.2591713243684528},{"$f":"IF(ROW()>$E$3+1,('Calcul courbes'!$C$8*LOG(B261)+'Calcul courbes'!$C$9),NA())","v":0.29363981541401363},0.32359365692959097,0.32359365692959097,{"$f":"IF(ROW()<$E$3+1,'Calcul courbes'!$C$10,NA())","v":{"$error":"#N/A"}},{"$error":"#N/A"},{"$error":"#N/A"}]
[-0.48000000000005,0.33113112148255291,{"$f":"4*ATAN(-'Calcul courbes'!$C$2*B262+SQRT(('Calcul courbes'!$C$2)^2*B262^2+'Calcul courbes'!$C$3))","v":0.25831892323243721},{"$f":"IF(ROW()>$E$3+1,('Calcul courbes'!$C$8*LOG(B262)+'Calcul courbes'!$C$9),NA())","v":0.29164210132117413},0.33113112148255291,0.33113112148255291,{"$f":"IF(ROW()<$E$3+1,'Calcul courbes'!$C$10,NA())","v":{"$error":"#N/A"}},{"$error":"#N/A"},{"$error":"#N/A"}]
[-0.47000000000004999,0.33884415613916352,{"$f":"4*ATAN(-'Calcul courbes'!$C$2*B263+SQRT(('Calcul courbes'!$C$2)^2*B263^2+'Calcul courbes'!$C$3))","v":0.25744997389856528},{"$f":"IF(ROW()>$E$3+1,('Calcul courbes'!$C$8*LOG(B263)+'Calcul courbes'!$C$9),NA())","v":0.28964438722833463},0.33884415613916352,0.33884415613916352,{"$f":"IF(ROW()<$E$3+1,'Calcul courbes'!$C$10,NA())","v":{"$error":"#N/A"}},{"$error":"#N/A"},{"$error":"#N/A"}]
[-0.46000000000004998,0.34673685045249164,{"$f":"4*ATAN(-'Calcul courbes'!$C$2*B264+SQRT(('Calcul courbes'!$C$2)^2*B264^2+'Calcul courbes'!$C$3))","v":0.25656424194356275},{"$f":"IF(ROW()>$E$3+1,('Calcul courbes'!$C$8*LOG(B264)+'Calcul courbes'!$C$9),NA())","v":0.28764667313549519},0.34673685045249164,0.34673685045249164,{"$f":"IF(ROW()<$E$3+1,'Calcul courbes'!$C$10,NA())","v":{"$error":"#N/A"}},{"$error":"#N/A"},{"$error":"#N/A"}]
[-0.45000000000005003,0.3548133892335345,{"$f":"4*ATAN(-'Calcul courbes'!$C$2*B265+SQRT(('Calcul courbes'!$C$2)^2*B265^2+'Calcul courbes'!$C$3))","v":0.25566149413875244},{"$f":"IF(ROW()>$E$3+1,('Calcul courbes'!$C$8*LOG(B265)+'Calcul courbes'!$C$9),NA())","v":0.28564895904265569},0.3548133892335345,0.3548133892335345,{"$f":"IF(ROW()<$E$3+1,'Calcul courbes'!$C$10,NA())","v":{"$error":"#N/A"}},{"$error":"#N/A"},{"$error":"#N/A"}]
[-0.44000000000005002,0.3630780547700595,{"$f":"4*ATAN(-'Calcul courbes'!$C$2*B266+SQRT(('Calcul courbes'!$C$2)^2*B266^2+'Calcul courbes'!$C$3))","v":0.25474149874799062},{"$f":"IF(ROW()>$E$3+1,('Calcul courbes'!$C$8*LOG(B266)+'Calcul courbes'!$C$9),NA())","v":0.28365124494981619},0.3630780547700595,0.3630780547700595,{"$f":"IF(ROW()<$E$3+1,'Calcul courbes'!$C$10,NA())","v":{"$error":"#N/A"}},{"$error":"#N/A"},{"$error":"#N/A"}]
[-0.43000000000005001,{"$f":"10^A267","v":0.37153522909712972},{"$f":"4*ATAN(-'Calcul courbes'!$C$2*B267+SQRT(('Calcul courbes'!$C$2)^2*B267^2+'Calcul courbes'!$C$3))","v":0.25380402584130396},{"$f":"IF(ROW()>$E$3+1,('Calcul courbes'!$C$8*LOG(B267)+'Calcul courbes'!$C$9),NA())","v":0.28165353085697675},{"$f":"IF(ROW()<$F$3+1,B267,NA())","v":0.37153522909712972},{"$f":"IF(ROW()>$E$3+1,E267,NA())","v":0.37153522909712972},{"$f":"IF(ROW()<$E$3+1,'Calcul courbes'!$C$10,NA())","v":{"$error":"#N/A"}},{"$f":"IF(ROW()>$F$3-1,0,NA())","v":{"$error":"#N/A"}},{"$f":"IF(ROW()=$F$3-1,0,NA())","v":{"$error":"#N/A"}}]
[-0.42000000000005,0.3801893963205174,{"$f":"4*ATAN(-'Calcul courbes'!$C$2*B268+SQRT(('Calcul courbes'!$C$2)^2*B268^2+'Calcul courbes'!$C$3))","v":0.25284884762466098},{"$f":"IF(ROW()>$E$3+1,('Calcul courbes'!$C$8*LOG(B268)+'Calcul courbes'!$C$9),NA())","v":0.2796558167641372},0.3801893963205174,0.3801893963205174,{"$f":"IF(ROW()<$E$3+1,'Calcul courbes'!$C$10,NA())","v":{"$error":"#N/A"}},{"$error":"#N/A"},{"$error":"#N/A"}]
[-0.41000000000005998,0.38904514499422682,{"$f":"4*ATAN(-'Calcul courbes'!$C$2*B269+SQRT(('Calcul courbes'!$C$2)^2*B269^2+'Calcul courbes'!$C$3))","v":0.25187573878629582},{"$f":"IF(ROW()>$E$3+1,('Calcul courbes'!$C$8*LOG(B269)+'Calcul courbes'!$C$9),NA())","v":0.27765810267129976},0.38904514499422682,0.38904514499422682,{"$f":"IF(ROW()<$E$3+1,'Calcul courbes'!$C$10,NA())","v":{"$error":"#N/A"}},{"$error":"#N/A"},{"$error":"#N/A"}]
[-0.40000000000005997,0.39810717055344219,{"$f":"4*ATAN(-'Calcul courbes'!$C$2*B270+SQRT(('Calcul courbes'!$C$2)^2*B270^2+'Calcul courbes'!$C$3))","v":0.25088447685998094},{"$f":"IF(ROW()>$E$3+1,('Calcul courbes'!$C$8*LOG(B270)+'Calcul courbes'!$C$9),NA())","v":0.27566038857846026},0.39810717055344219,0.39810717055344219,{"$f":"IF(ROW()<$E$3+1,'Calcul courbes'!$C$10,NA())","v":{"$error":"#N/A"}},{"$error":"#N/A"},{"$error":"#N/A"}]
[-0.39000000000006002,0.40738027780405639,{"$f":"4*ATAN(-'Calcul courbes'!$C$2*B271+SQRT(('Calcul courbes'!$C$2)^2*B271^2+'Calcul courbes'!$C$3))","v":0.24987484260563961},{"$f":"IF(ROW()>$E$3+1,('Calcul courbes'!$C$8*LOG(B271)+'Calcul courbes'!$C$9),NA())","v":0.27366267448562076},0.40738027780405639,0.40738027780405639,{"$f":"IF(ROW()<$E$3+1,'Calcul courbes'!$C$10,NA())","v":{"$error":"#N/A"}},{"$error":"#N/A"},{"$error":"#N/A"}]
[-0.38000000000006001,0.41686938347027774,{"$f":"4*ATAN(-'Calcul courbes'!$C$2*B272+SQRT(('Calcul courbes'!$C$2)^2*B272^2+'Calcul courbes'!$C$3))","v":0.24884662040763281},{"$f":"IF(ROW()>$E$3+1,('Calcul courbes'!$C$8*LOG(B272)+'Calcul courbes'!$C$9),NA())","v":0.27166496039278132},0.41686938347027774,0.41686938347027774,{"$f":"IF(ROW()<$E$3+1,'Calcul courbes'!$C$10,NA())","v":{"$error":"#N/A"}},{"$error":"#N/A"},{"$error":"#N/A"}]
[-0.37000000000006,0.42657951880153366,{"$f":"4*ATAN(-'Calcul courbes'!$C$2*B273+SQRT(('Calcul courbes'!$C$2)^2*B273^2+'Calcul courbes'!$C$3))","v":0.24779959869105531},{"$f":"IF(ROW()>$E$3+1,('Calcul courbes'!$C$8*LOG(B273)+'Calcul courbes'!$C$9),NA())","v":0.26966724629994182},0.42657951880153366,0.42657951880153366,{"$f":"IF(ROW()<$E$3+1,'Calcul courbes'!$C$10,NA())","v":{"$error":"#N/A"}},{"$error":"#N/A"},{"$error":"#N/A"}]
[-0.36000000000005999,0.43651583224010559,{"$f":"4*ATAN(-'Calcul courbes'!$C$2*B274+SQRT(('Calcul courbes'!$C$2)^2*B274^2+'Calcul courbes'!$C$3))","v":0.24673357035632423},{"$f":"IF(ROW()>$E$3+1,('Calcul courbes'!$C$8*LOG(B274)+'Calcul courbes'!$C$9),NA())","v":0.26766953220710232},0.43651583224010559,0.43651583224010559,{"$f":"IF(ROW()<$E$3+1,'Calcul courbes'!$C$10,NA())","v":{"$error":"#N/A"}},{"$error":"#N/A"},{"$error":"#N/A"}]
[-0.35000000000005999,0.44668359215090142,{"$f":"4*ATAN(-'Calcul courbes'!$C$2*B275+SQRT(('Calcul courbes'!$C$2)^2*B275^2+'Calcul courbes'!$C$3))","v":0.24564833323230548},{"$f":"IF(ROW()>$E$3+1,('Calcul courbes'!$C$8*LOG(B275)+'Calcul courbes'!$C$9),NA())","v":0.26567181811426283},0.44668359215090142,0.44668359215090142,{"$f":"IF(ROW()<$E$3+1,'Calcul courbes'!$C$10,NA())","v":{"$error":"#N/A"}},{"$error":"#N/A"},{"$error":"#N/A"}]
[-0.34000000000005998,0.45708818961481185,{"$f":"4*ATAN(-'Calcul courbes'!$C$2*B276+SQRT(('Calcul courbes'!$C$2)^2*B276^2+'Calcul courbes'!$C$3))","v":0.24454369054817965},{"$f":"IF(ROW()>$E$3+1,('Calcul courbes'!$C$8*LOG(B276)+'Calcul courbes'!$C$9),NA())","v":0.26367410402142333},0.45708818961481185,0.45708818961481185,{"$f":"IF(ROW()<$E$3+1,'Calcul courbes'!$C$10,NA())","v":{"$error":"#N/A"}},{"$error":"#N/A"},{"$error":"#N/A"}]
[-0.33000000000006002,0.46773514128713345,{"$f":"4*ATAN(-'Calcul courbes'!$C$2*B277+SQRT(('Calcul courbes'!$C$2)^2*B277^2+'Calcul courbes'!$C$3))","v":0.24341945142419499},{"$f":"IF(ROW()>$E$3+1,('Calcul courbes'!$C$8*LOG(B277)+'Calcul courbes'!$C$9),NA())","v":0.26167638992858389},0.46773514128713345,0.46773514128713345,{"$f":"IF(ROW()<$E$3+1,'Calcul courbes'!$C$10,NA())","v":{"$error":"#N/A"}},{"$error":"#N/A"},{"$error":"#N/A"}]
[-0.32000000000006001,0.4786300923225722,{"$f":"4*ATAN(-'Calcul courbes'!$C$2*B278+SQRT(('Calcul courbes'!$C$2)^2*B278^2+'Calcul courbes'!$C$3))","v":0.24227543138139918},{"$f":"IF(ROW()>$E$3+1,('Calcul courbes'!$C$8*LOG(B278)+'Calcul courbes'!$C$9),NA())","v":0.25967867583574439},0.4786300923225722,0.4786300923225722,{"$f":"IF(ROW()<$E$3+1,'Calcul courbes'!$C$10,NA())","v":{"$error":"#N/A"}},{"$error":"#N/A"},{"$error":"#N/A"}]
[-0.31000000000006001,0.48977881936837847,{"$f":"4*ATAN(-'Calcul courbes'!$C$2*B279+SQRT(('Calcul courbes'!$C$2)^2*B279^2+'Calcul courbes'!$C$3))","v":0.24111145287037333},{"$f":"IF(ROW()>$E$3+1,('Calcul courbes'!$C$8*LOG(B279)+'Calcul courbes'!$C$9),NA())","v":0.25768096174290489},0.48977881936837847,0.48977881936837847,{"$f":"IF(ROW()<$E$3+1,'Calcul courbes'!$C$10,NA())","v":{"$error":"#N/A"}},{"$error":"#N/A"},{"$error":"#N/A"}]
[-0.30000000000006,0.50118723362720297,{"$f":"4*ATAN(-'Calcul courbes'!$C$2*B280+SQRT(('Calcul courbes'!$C$2)^2*B280^2+'Calcul courbes'!$C$3))","v":0.23992734581892264},{"$f":"IF(ROW()>$E$3+1,('Calcul courbes'!$C$8*LOG(B280)+'Calcul courbes'!$C$9),NA())","v":0.25568324765006539},0.50118723362720297,0.50118723362720297,{"$f":"IF(ROW()<$E$3+1,'Calcul courbes'!$C$10,NA())","v":{"$error":"#N/A"}},{"$error":"#N/A"},{"$error":"#N/A"}]
[-0.29000000000005999,0.512861383991294,{"$f":"4*ATAN(-'Calcul courbes'!$C$2*B281+SQRT(('Calcul courbes'!$C$2)^2*B281^2+'Calcul courbes'!$C$3))","v":0.2387229481985958},{"$f":"IF(ROW()>$E$3+1,('Calcul courbes'!$C$8*LOG(B281)+'Calcul courbes'!$C$9),NA())","v":0.2536855335572259},0.512861383991294,0.512861383991294,{"$f":"IF(ROW()<$E$3+1,'Calcul courbes'!$C$10,NA())","v":{"$error":"#N/A"}},{"$error":"#N/A"},{"$error":"#N/A"}]
[-0.28000000000005998,0.52480746024970004,{"$f":"4*ATAN(-'Calcul courbes'!$C$2*B282+SQRT(('Calcul courbes'!$C$2)^2*B282^2+'Calcul courbes'!$C$3))","v":0.23749810660981993},{"$f":"IF(ROW()>$E$3+1,('Calcul courbes'!$C$8*LOG(B282)+'Calcul courbes'!$C$9),NA())","v":0.25168781946438645},0.52480746024970004,0.52480746024970004,{"$f":"IF(ROW()<$E$3+1,'Calcul courbes'!$C$10,NA())","v":{"$error":"#N/A"}},{"$error":"#N/A"},{"$error":"#N/A"}]
[-0.27000000000006003,0.53703179637017839,{"$f":"4*ATAN(-'Calcul courbes'!$C$2*B283+SQRT(('Calcul courbes'!$C$2)^2*B283^2+'Calcul courbes'!$C$3))","v":0.23625267688533927},{"$f":"IF(ROW()>$E$3+1,('Calcul courbes'!$C$8*LOG(B283)+'Calcul courbes'!$C$9),NA())","v":0.24969010537154698},0.53703179637017839,0.53703179637017839,{"$f":"IF(ROW()<$E$3+1,'Calcul courbes'!$C$10,NA())","v":{"$error":"#N/A"}},{"$error":"#N/A"},{"$error":"#N/A"}]
[-0.26000000000006002,0.54954087385754857,{"$f":"4*ATAN(-'Calcul courbes'!$C$2*B284+SQRT(('Calcul courbes'!$C$2)^2*B284^2+'Calcul courbes'!$C$3))","v":0.23498652471154372},{"$f":"IF(ROW()>$E$3+1,('Calcul courbes'!$C$8*LOG(B284)+'Calcul courbes'!$C$9),NA())","v":0.24769239127870749},0.54954087385754857,0.54954087385754857,{"$f":"IF(ROW()<$E$3+1,'Calcul courbes'!$C$10,NA())","v":{"$error":"#N/A"}},{"$error":"#N/A"},{"$error":"#N/A"}]
[-0.25000000000006001,0.56234132519027125,{"$f":"4*ATAN(-'Calcul courbes'!$C$2*B285+SQRT(('Calcul courbes'!$C$2)^2*B285^2+'Calcul courbes'!$C$3))","v":0.23369952626715751},{"$f":"IF(ROW()>$E$3+1,('Calcul courbes'!$C$8*LOG(B285)+'Calcul courbes'!$C$9),NA())","v":0.24569467718586802},0.56234132519027125,0.56234132519027125,{"$f":"IF(ROW()<$E$3+1,'Calcul courbes'!$C$10,NA())","v":{"$error":"#N/A"}},{"$error":"#N/A"},{"$error":"#N/A"}]
[-0.24000000000006,0.57543993733707743,{"$f":"4*ATAN(-'Calcul courbes'!$C$2*B286+SQRT(('Calcul courbes'!$C$2)^2*B286^2+'Calcul courbes'!$C$3))","v":0.23239156887863716},{"$f":"IF(ROW()>$E$3+1,('Calcul courbes'!$C$8*LOG(B286)+'Calcul courbes'!$C$9),NA())","v":0.24369696309302849},0.57543993733707743,0.57543993733707743,{"$f":"IF(ROW()<$E$3+1,'Calcul courbes'!$C$10,NA())","v":{"$error":"#N/A"}},{"$error":"#N/A"},{"$error":"#N/A"}]
[-0.23000000000005999,0.58884365535550764,{"$f":"4*ATAN(-'Calcul courbes'!$C$2*B287+SQRT(('Calcul courbes'!$C$2)^2*B287^2+'Calcul courbes'!$C$3))","v":0.2310625516914947},{"$f":"IF(ROW()>$E$3+1,('Calcul courbes'!$C$8*LOG(B287)+'Calcul courbes'!$C$9),NA())","v":0.24169924900018902},0.58884365535550764,0.58884365535550764,{"$f":"IF(ROW()<$E$3+1,'Calcul courbes'!$C$10,NA())","v":{"$error":"#N/A"}},{"$error":"#N/A"},{"$error":"#N/A"}]
[-0.22000000000006001,0.60255958607427451,{"$f":"4*ATAN(-'Calcul courbes'!$C$2*B288+SQRT(('Calcul courbes'!$C$2)^2*B288^2+'Calcul courbes'!$C$3))","v":0.2297123863566207},{"$f":"IF(ROW()>$E$3+1,('Calcul courbes'!$C$8*LOG(B288)+'Calcul courbes'!$C$9),NA())","v":0.23970153490734952},0.60255958607427451,0.60255958607427451,{"$f":"IF(ROW()<$E$3+1,'Calcul courbes'!$C$10,NA())","v":{"$error":"#N/A"}},{"$error":"#N/A"},{"$error":"#N/A"}]
[-0.21000000000006,0.61659500186139693,{"$f":"4*ATAN(-'Calcul courbes'!$C$2*B289+SQRT(('Calcul courbes'!$C$2)^2*B289^2+'Calcul courbes'!$C$3))","v":0.22834099773052993},{"$f":"IF(ROW()>$E$3+1,('Calcul courbes'!$C$8*LOG(B289)+'Calcul courbes'!$C$9),NA())","v":0.23770382081451003},0.61659500186139693,0.61659500186139693,{"$f":"IF(ROW()<$E$3+1,'Calcul courbes'!$C$10,NA())","v":{"$error":"#N/A"}},{"$error":"#N/A"},{"$error":"#N/A"}]
[-0.20000000000005999,0.6309573444801061,{"$f":"4*ATAN(-'Calcul courbes'!$C$2*B290+SQRT(('Calcul courbes'!$C$2)^2*B290^2+'Calcul courbes'!$C$3))","v":0.22694832458829167},{"$f":"IF(ROW()>$E$3+1,('Calcul courbes'!$C$8*LOG(B290)+'Calcul courbes'!$C$9),NA())","v":0.23570610672167056},0.6309573444801061,0.6309573444801061,{"$f":"IF(ROW()<$E$3+1,'Calcul courbes'!$C$10,NA())","v":{"$error":"#N/A"}},{"$error":"#N/A"},{"$error":"#N/A"}]
[-0.19000000000006001,0.64565422903456626,{"$f":"4*ATAN(-'Calcul courbes'!$C$2*B291+SQRT(('Calcul courbes'!$C$2)^2*B291^2+'Calcul courbes'!$C$3))","v":0.22553432034773543},{"$f":"IF(ROW()>$E$3+1,('Calcul courbes'!$C$8*LOG(B291)+'Calcul courbes'!$C$9),NA())","v":0.23370839262883109},0.64565422903456626,0.64565422903456626,{"$f":"IF(ROW()<$E$3+1,'Calcul courbes'!$C$10,NA())","v":{"$error":"#N/A"}},{"$error":"#N/A"},{"$error":"#N/A"}]
[-0.18000000000006,0.66069344800750474,{"$f":"4*ATAN(-'Calcul courbes'!$C$2*B292+SQRT(('Calcul courbes'!$C$2)^2*B292^2+'Calcul courbes'!$C$3))","v":0.22409895380334363},{"$f":"IF(ROW()>$E$3+1,('Calcul courbes'!$C$8*LOG(B292)+'Calcul courbes'!$C$9),NA())","v":0.23171067853599159},0.66069344800750474,0.66069344800750474,{"$f":"IF(ROW()<$E$3+1,'Calcul courbes'!$C$10,NA())","v":{"$error":"#N/A"}},{"$error":"#N/A"},{"$error":"#N/A"}]
[-0.17000000000005999,0.67608297539188844,{"$f":"4*ATAN(-'Calcul courbes'!$C$2*B293+SQRT(('Calcul courbes'!$C$2)^2*B293^2+'Calcul courbes'!$C$3))","v":0.22264220986805311},{"$f":"IF(ROW()>$E$3+1,('Calcul courbes'!$C$8*LOG(B293)+'Calcul courbes'!$C$9),NA())","v":0.22971296444315209},0.67608297539188844,0.67608297539188844,{"$f":"IF(ROW()<$E$3+1,'Calcul courbes'!$C$10,NA())","v":{"$error":"#N/A"}},{"$error":"#N/A"},{"$error":"#N/A"}]
[-0.16000000000006001,0.69183097091884083,{"$f":"4*ATAN(-'Calcul courbes'!$C$2*B294+SQRT(('Calcul courbes'!$C$2)^2*B294^2+'Calcul courbes'!$C$3))","v":0.22116409032099016},{"$f":"IF(ROW()>$E$3+1,('Calcul courbes'!$C$8*LOG(B294)+'Calcul courbes'!$C$9),NA())","v":0.22771525035031262},0.69183097091884083,0.69183097091884083,{"$f":"IF(ROW()<$E$3+1,'Calcul courbes'!$C$10,NA())","v":{"$error":"#N/A"}},{"$error":"#N/A"},{"$error":"#N/A"}]
[-0.15000000000006,0.7079457843840401,{"$f":"4*ATAN(-'Calcul courbes'!$C$2*B295+SQRT(('Calcul courbes'!$C$2)^2*B295^2+'Calcul courbes'!$C$3))","v":0.21966461455895861},{"$f":"IF(ROW()>$E$3+1,('Calcul courbes'!$C$8*LOG(B295)+'Calcul courbes'!$C$9),NA())","v":0.22571753625747312},0.7079457843840401,0.7079457843840401,{"$f":"IF(ROW()<$E$3+1,'Calcul courbes'!$C$10,NA())","v":{"$error":"#N/A"}},{"$error":"#N/A"},{"$error":"#N/A"}]
[-0.14000000000005999,0.72443596007488997,{"$f":"4*ATAN(-'Calcul courbes'!$C$2*B296+SQRT(('Calcul courbes'!$C$2)^2*B296^2+'Calcul courbes'!$C$3))","v":0.2181438203492882},{"$f":"IF(ROW()>$E$3+1,('Calcul courbes'!$C$8*LOG(B296)+'Calcul courbes'!$C$9),NA())","v":0.22371982216463365},0.72443596007488997,0.72443596007488997,{"$f":"IF(ROW()<$E$3+1,'Calcul courbes'!$C$10,NA())","v":{"$error":"#N/A"}},{"$error":"#N/A"},{"$error":"#N/A"}]
[-0.13000000000006001,0.74131024130081502,{"$f":"4*ATAN(-'Calcul courbes'!$C$2*B297+SQRT(('Calcul courbes'!$C$2)^2*B297^2+'Calcul courbes'!$C$3))","v":0.21660176458143154},{"$f":"IF(ROW()>$E$3+1,('Calcul courbes'!$C$8*LOG(B297)+'Calcul courbes'!$C$9),NA())","v":0.22172210807179416},0.74131024130081502,0.74131024130081502,{"$f":"IF(ROW()<$E$3+1,'Calcul courbes'!$C$10,NA())","v":{"$error":"#N/A"}},{"$error":"#N/A"},{"$error":"#N/A"}]
[-0.12000000000006,0.75857757502907897,{"$f":"4*ATAN(-'Calcul courbes'!$C$2*B298+SQRT(('Calcul courbes'!$C$2)^2*B298^2+'Calcul courbes'!$C$3))","v":0.21503852401447709},{"$f":"IF(ROW()>$E$3+1,('Calcul courbes'!$C$8*LOG(B298)+'Calcul courbes'!$C$9),NA())","v":0.21972439397895466},0.75857757502907897,0.75857757502907897,{"$f":"IF(ROW()<$E$3+1,'Calcul courbes'!$C$10,NA())","v":{"$error":"#N/A"}},{"$error":"#N/A"},{"$error":"#N/A"}]
[-0.11000000000005999,0.77624711662858448,{"$f":"4*ATAN(-'Calcul courbes'!$C$2*B299+SQRT(('Calcul courbes'!$C$2)^2*B299^2+'Calcul courbes'!$C$3))","v":0.21345419601751667},{"$f":"IF(ROW()>$E$3+1,('Calcul courbes'!$C$8*LOG(B299)+'Calcul courbes'!$C$9),NA())","v":0.21772667988611519},0.77624711662858448,0.77624711662858448,{"$f":"IF(ROW()<$E$3+1,'Calcul courbes'!$C$10,NA())","v":{"$error":"#N/A"}},{"$error":"#N/A"},{"$error":"#N/A"}]
[-0.10000000000006,0.7943282347241718,{"$f":"4*ATAN(-'Calcul courbes'!$C$2*B300+SQRT(('Calcul courbes'!$C$2)^2*B300^2+'Calcul courbes'!$C$3))","v":0.21184889929958078},{"$f":"IF(ROW()>$E$3+1,('Calcul courbes'!$C$8*LOG(B300)+'Calcul courbes'!$C$9),NA())","v":0.21572896579327569},0.7943282347241718,0.7943282347241718,{"$f":"IF(ROW()<$E$3+1,'Calcul courbes'!$C$10,NA())","v":{"$error":"#N/A"}},{"$error":"#N/A"},{"$error":"#N/A"}]
[-9.0000000000059796E-2,0.81283051616398727,{"$f":"4*ATAN(-'Calcul courbes'!$C$2*B301+SQRT(('Calcul courbes'!$C$2)^2*B301^2+'Calcul courbes'!$C$3))","v":0.21022277462562641},{"$f":"IF(ROW()>$E$3+1,('Calcul courbes'!$C$8*LOG(B301)+'Calcul courbes'!$C$9),NA())","v":0.21373125170043616},0.81283051616398727,0.81283051616398727,{"$f":"IF(ROW()<$E$3+1,'Calcul courbes'!$C$10,NA())","v":{"$error":"#N/A"}},{"$error":"#N/A"},{"$error":"#N/A"}]
[-8.0000000000059995E-2,0.83176377110255606,{"$f":"4*ATAN(-'Calcul courbes'!$C$2*B302+SQRT(('Calcul courbes'!$C$2)^2*B302^2+'Calcul courbes'!$C$3))","v":0.20857598551483808},{"$f":"IF(ROW()>$E$3+1,('Calcul courbes'!$C$8*LOG(B302)+'Calcul courbes'!$C$9),NA())","v":0.21173353760759672},0.83176377110255606,0.83176377110255606,{"$f":"IF(ROW()<$E$3+1,'Calcul courbes'!$C$10,NA())","v":{"$error":"#N/A"}},{"$error":"#N/A"},{"$error":"#N/A"}]
[-7.0000000000059806E-2,0.8511380382022592,{"$f":"4*ATAN(-'Calcul courbes'!$C$2*B303+SQRT(('Calcul courbes'!$C$2)^2*B303^2+'Calcul courbes'!$C$3))","v":0.2069087189172823},{"$f":"IF(ROW()>$E$3+1,('Calcul courbes'!$C$8*LOG(B303)+'Calcul courbes'!$C$9),NA())","v":0.20973582351475722},0.8511380382022592,0.8511380382022592,{"$f":"IF(ROW()<$E$3+1,'Calcul courbes'!$C$10,NA())","v":{"$error":"#N/A"}},{"$error":"#N/A"},{"$error":"#N/A"}]
[-6.0000000000059998E-2,0.87096358995596035,{"$f":"4*ATAN(-'Calcul courbes'!$C$2*B304+SQRT(('Calcul courbes'!$C$2)^2*B304^2+'Calcul courbes'!$C$3))","v":0.20522118586474683},{"$f":"IF(ROW()>$E$3+1,('Calcul courbes'!$C$8*LOG(B304)+'Calcul courbes'!$C$9),NA())","v":0.20773810942191775},0.87096358995596035,0.87096358995596035,{"$f":"IF(ROW()<$E$3+1,'Calcul courbes'!$C$10,NA())","v":{"$error":"#N/A"}},{"$error":"#N/A"},{"$error":"#N/A"}]
[-5.0000000000060198E-2,0.89125093813362199,{"$f":"4*ATAN(-'Calcul courbes'!$C$2*B305+SQRT(('Calcul courbes'!$C$2)^2*B305^2+'Calcul courbes'!$C$3))","v":0.20351362209139082},{"$f":"IF(ROW()>$E$3+1,('Calcul courbes'!$C$8*LOG(B305)+'Calcul courbes'!$C$9),NA())","v":0.20574039532907831},0.89125093813362199,0.89125093813362199,{"$f":"IF(ROW()<$E$3+1,'Calcul courbes'!$C$10,NA())","v":{"$error":"#N/A"}},{"$error":"#N/A"},{"$error":"#N/A"}]
[-4.0000000000060001E-2,0.91201083935578375,{"$f":"4*ATAN(-'Calcul courbes'!$C$2*B306+SQRT(('Calcul courbes'!$C$2)^2*B306^2+'Calcul courbes'!$C$3))","v":0.20178628861964992},{"$f":"IF(ROW()>$E$3+1,('Calcul courbes'!$C$8*LOG(B306)+'Calcul courbes'!$C$9),NA())","v":0.20374268123623879},0.91201083935578375,0.91201083935578375,{"$f":"IF(ROW()<$E$3+1,'Calcul courbes'!$C$10,NA())","v":{"$error":"#N/A"}},{"$error":"#N/A"},{"$error":"#N/A"}]
[-3.0000000000060201E-2,0.93325430079686167,{"$f":"4*ATAN(-'Calcul courbes'!$C$2*B307+SQRT(('Calcul courbes'!$C$2)^2*B307^2+'Calcul courbes'!$C$3))","v":0.20003947230666833},{"$f":"IF(ROW()>$E$3+1,('Calcul courbes'!$C$8*LOG(B307)+'Calcul courbes'!$C$9),NA())","v":0.20174496714339935},0.93325430079686167,0.93325430079686167,{"$f":"IF(ROW()<$E$3+1,'Calcul courbes'!$C$10,NA())","v":{"$error":"#N/A"}},{"$error":"#N/A"},{"$error":"#N/A"}]
[-2.0000000000060001E-2,0.9549925860213041,{"$f":"4*ATAN(-'Calcul courbes'!$C$2*B308+SQRT(('Calcul courbes'!$C$2)^2*B308^2+'Calcul courbes'!$C$3))","v":0.19827348634638287},{"$f":"IF(ROW()>$E$3+1,('Calcul courbes'!$C$8*LOG(B308)+'Calcul courbes'!$C$9),NA())","v":0.19974725305055982},0.9549925860213041,0.9549925860213041,{"$f":"IF(ROW()<$E$3+1,'Calcul courbes'!$C$10,NA())","v":{"$error":"#N/A"}},{"$error":"#N/A"},{"$error":"#N/A"}]
[-1.00000000000602E-2,0.97723722095567522,{"$f":"4*ATAN(-'Calcul courbes'!$C$2*B309+SQRT(('Calcul courbes'!$C$2)^2*B309^2+'Calcul courbes'!$C$3))","v":0.19648867072226339},{"$f":"IF(ROW()>$E$3+1,('Calcul courbes'!$C$8*LOG(B309)+'Calcul courbes'!$C$9),NA())","v":0.19774953895772038},0.97723722095567522,0.97723722095567522,{"$f":"IF(ROW()<$E$3+1,'Calcul courbes'!$C$10,NA())","v":{"$error":"#N/A"}},{"$error":"#N/A"},{"$error":"#N/A"}]
[-5.9952043329758504E-14,0.99999999999986189,{"$f":"4*ATAN(-'Calcul courbes'!$C$2*B310+SQRT(('Calcul courbes'!$C$2)^2*B310^2+'Calcul courbes'!$C$3))","v":0.19468539260561632},{"$f":"IF(ROW()>$E$3+1,('Calcul courbes'!$C$8*LOG(B310)+'Calcul courbes'!$C$9),NA())","v":0.19575182486488085},0.99999999999986189,0.99999999999986189,{"$f":"IF(ROW()<$E$3+1,'Calcul courbes'!$C$10,NA())","v":{"$error":"#N/A"}},{"$error":"#N/A"},{"$error":"#N/A"}]
[9.9999999999398296E-3,1.0232929922806124,{"$f":"4*ATAN(-'Calcul courbes'!$C$2*B311+SQRT(('Calcul courbes'!$C$2)^2*B311^2+'Calcul courbes'!$C$3))","v":0.1928640466943041},{"$f":"IF(ROW()>$E$3+1,('Calcul courbes'!$C$8*LOG(B311)+'Calcul courbes'!$C$9),NA())","v":0.19375411077204138},1.0232929922806124,1.0232929922806124,{"$f":"IF(ROW()<$E$3+1,'Calcul courbes'!$C$10,NA())","v":{"$error":"#N/A"}},{"$error":"#N/A"},{"$error":"#N/A"}]
[1.99999999999401E-2,1.0471285480507551,{"$f":"4*ATAN(-'Calcul courbes'!$C$2*B312+SQRT(('Calcul courbes'!$C$2)^2*B312^2+'Calcul courbes'!$C$3))","v":0.19102505548670495},{"$f":"IF(ROW()>$E$3+1,('Calcul courbes'!$C$8*LOG(B312)+'Calcul courbes'!$C$9),NA())","v":0.19175639667920186},1.0471285480507551,1.0471285480507551,{"$f":"IF(ROW()<$E$3+1,'Calcul courbes'!$C$10,NA())","v":{"$error":"#N/A"}},{"$error":"#N/A"},{"$error":"#N/A"}]
[2.9999999999939901E-2,1.0715193052374581,{"$f":"4*ATAN(-'Calcul courbes'!$C$2*B313+SQRT(('Calcul courbes'!$C$2)^2*B313^2+'Calcul courbes'!$C$3))","v":0.18916886948576256},{"$f":"IF(ROW()>$E$3+1,('Calcul courbes'!$C$8*LOG(B313)+'Calcul courbes'!$C$9),NA())","v":0.18975868258636241},1.0715193052374581,1.0715193052374581,{"$f":"IF(ROW()<$E$3+1,'Calcul courbes'!$C$10,NA())","v":{"$error":"#N/A"}},{"$error":"#N/A"},{"$error":"#N/A"}]
[3.9999999999940097E-2,1.0964781961430339,{"$f":"4*ATAN(-'Calcul courbes'!$C$2*B314+SQRT(('Calcul courbes'!$C$2)^2*B314^2+'Calcul courbes'!$C$3))","v":0.18729596732803513},{"$f":"IF(ROW()>$E$3+1,('Calcul courbes'!$C$8*LOG(B314)+'Calcul courbes'!$C$9),NA())","v":0.18776096849352289},1.0964781961430339,1.0964781961430339,{"$f":"IF(ROW()<$E$3+1,'Calcul courbes'!$C$10,NA())","v":{"$error":"#N/A"}},{"$error":"#N/A"},{"$error":"#N/A"}]
[4.99999999999301E-2,1.1220184543017828,{"$f":"4*ATAN(-'Calcul courbes'!$C$2*B315+SQRT(('Calcul courbes'!$C$2)^2*B315^2+'Calcul courbes'!$C$3))","v":0.18540685583277508},{"$f":"IF(ROW()>$E$3+1,('Calcul courbes'!$C$8*LOG(B315)+'Calcul courbes'!$C$9),NA())","v":0.18576325440068539},1.1220184543017828,1.1220184543017828,{"$f":"IF(ROW()<$E$3+1,'Calcul courbes'!$C$10,NA())","v":{"$error":"#N/A"}},{"$error":"#N/A"},{"$error":"#N/A"}]
[5.9999999999929901E-2,1.1481536214966974,{"$f":"4*ATAN(-'Calcul courbes'!$C$2*B316+SQRT(('Calcul courbes'!$C$2)^2*B316^2+'Calcul courbes'!$C$3))","v":0.18350206996622134},{"$f":"IF(ROW()>$E$3+1,('Calcul courbes'!$C$8*LOG(B316)+'Calcul courbes'!$C$9),NA())","v":0.18376554030784595},1.1481536214966974,1.1481536214966974,{"$f":"IF(ROW()<$E$3+1,'Calcul courbes'!$C$10,NA())","v":{"$error":"#N/A"}},{"$error":"#N/A"},{"$error":"#N/A"}]
[6.9999999999930104E-2,1.1748975549393406,{"$f":"4*ATAN(-'Calcul courbes'!$C$2*B317+SQRT(('Calcul courbes'!$C$2)^2*B317^2+'Calcul courbes'!$C$3))","v":0.18158217271655441},{"$f":"IF(ROW()>$E$3+1,('Calcul courbes'!$C$8*LOG(B317)+'Calcul courbes'!$C$9),NA())","v":0.18176782621500642},1.1748975549393406,1.1748975549393406,{"$f":"IF(ROW()<$E$3+1,'Calcul courbes'!$C$10,NA())","v":{"$error":"#N/A"}},{"$error":"#N/A"},{"$error":"#N/A"}]
[7.9999999999929905E-2,1.2022644346172189,{"$f":"4*ATAN(-'Calcul courbes'!$C$2*B318+SQRT(('Calcul courbes'!$C$2)^2*B318^2+'Calcul courbes'!$C$3))","v":0.17964775487517951},{"$f":"IF(ROW()>$E$3+1,('Calcul courbes'!$C$8*LOG(B318)+'Calcul courbes'!$C$9),NA())","v":0.17977011212216698},1.2022644346172189,1.2022644346172189,{"$f":"IF(ROW()<$E$3+1,'Calcul courbes'!$C$10,NA())","v":{"$error":"#N/A"}},{"$error":"#N/A"},{"$error":"#N/A"}]
[8.9999999999930094E-2,1.2302687708121836,{"$f":"4*ATAN(-'Calcul courbes'!$C$2*B319+SQRT(('Calcul courbes'!$C$2)^2*B319^2+'Calcul courbes'!$C$3))","v":0.17769943472041502},{"$f":"IF(ROW()>$E$3+1,('Calcul courbes'!$C$8*LOG(B319)+'Calcul courbes'!$C$9),NA())","v":0.17777239802932746},1.2302687708121836,1.2302687708121836,{"$f":"IF(ROW()<$E$3+1,'Calcul courbes'!$C$10,NA())","v":{"$error":"#N/A"}},{"$error":"#N/A"},{"$error":"#N/A"}]
[9.9999999999929895E-2,1.2589254117939641,{"$f":"4*ATAN(-'Calcul courbes'!$C$2*B320+SQRT(('Calcul courbes'!$C$2)^2*B320^2+'Calcul courbes'!$C$3))","v":0.17573785760003524},{"$f":"IF(ROW()>$E$3+1,('Calcul courbes'!$C$8*LOG(B320)+'Calcul courbes'!$C$9),NA())","v":0.17577468393648801},1.2589254117939641,1.2589254117939641,{"$f":"IF(ROW()<$E$3+1,'Calcul courbes'!$C$10,NA())","v":{"$error":"#N/A"}},{"$error":"#N/A"},{"$error":"#N/A"}]
[0.10999999999993,1.2882495516929264,{"$f":"4*ATAN(-'Calcul courbes'!$C$2*B321+SQRT(('Calcul courbes'!$C$2)^2*B321^2+'Calcul courbes'!$C$3))","v":0.17376369540959655},{"$f":"IF(ROW()>$E$3+1,('Calcul courbes'!$C$8*LOG(B321)+'Calcul courbes'!$C$9),NA())","v":0.17377696984364849},1.2882495516929264,1.2882495516929264,{"$f":"IF(ROW()<$E$3+1,'Calcul courbes'!$C$10,NA())","v":{"$error":"#N/A"}},{"$error":"#N/A"},{"$error":"#N/A"}]
[0.11999999999993,1.3182567385561945,{"$f":"4*ATAN(-'Calcul courbes'!$C$2*B322+SQRT(('Calcul courbes'!$C$2)^2*B322^2+'Calcul courbes'!$C$3))","v":0.17177764596401426},{"$f":"IF(ROW()>$E$3+1,('Calcul courbes'!$C$8*LOG(B322)+'Calcul courbes'!$C$9),NA())","v":0.17177925575080905},1.3182567385561945,1.3182567385561945,{"$f":"IF(ROW()<$E$3+1,'Calcul courbes'!$C$10,NA())","v":{"$error":"#N/A"}},{"$error":"#N/A"},{"$error":"#N/A"}]
[0.12999999999993,1.3489628825914364,{"$f":"4*ATAN(-'Calcul courbes'!$C$2*B323+SQRT(('Calcul courbes'!$C$2)^2*B323^2+'Calcul courbes'!$C$3))","v":0.16978043226045147},{"$f":"IF(ROW()>$E$3+1,('Calcul courbes'!$C$8*LOG(B323)+'Calcul courbes'!$C$9),NA())","v":0.16978154165796952},1.3489628825914364,1.3489628825914364,{"$f":"IF(ROW()<$E$3+1,'Calcul courbes'!$C$10,NA())","v":{"$error":"#N/A"}},{"$error":"#N/A"},{"$error":"#N/A"}]
[0.13999999999993001,1.3803842646026625,{"$f":"4*ATAN(-'Calcul courbes'!$C$2*B324+SQRT(('Calcul courbes'!$C$2)^2*B324^2+'Calcul courbes'!$C$3))","v":0.16777280163124042},{"$f":"IF(ROW()>$E$3+1,('Calcul courbes'!$C$8*LOG(B324)+'Calcul courbes'!$C$9),NA())","v":0.16778382756513005},1.3803842646026625,1.3803842646026625,{"$f":"IF(ROW()<$E$3+1,'Calcul courbes'!$C$10,NA())","v":{"$error":"#N/A"}},{"$error":"#N/A"},{"$error":"#N/A"}]
[0.14999999999992999,1.4125375446225268,{"$f":"4*ATAN(-'Calcul courbes'!$C$2*B325+SQRT(('Calcul courbes'!$C$2)^2*B325^2+'Calcul courbes'!$C$3))","v":0.1657555247862687},{"$f":"IF(ROW()>$E$3+1,('Calcul courbes'!$C$8*LOG(B325)+'Calcul courbes'!$C$9),NA())","v":0.16578611347229055},1.4125375446225268,1.4125375446225268,{"$f":"IF(ROW()<$E$3+1,'Calcul courbes'!$C$10,NA())","v":{"$error":"#N/A"}},{"$error":"#N/A"},{"$error":"#N/A"}]
[0.15999999999993,1.4454397707456945,{"$f":"4*ATAN(-'Calcul courbes'!$C$2*B326+SQRT(('Calcul courbes'!$C$2)^2*B326^2+'Calcul courbes'!$C$3))","v":0.16372939474502826},{"$f":"IF(ROW()>$E$3+1,('Calcul courbes'!$C$8*LOG(B326)+'Calcul courbes'!$C$9),NA())","v":0.16378839937945108},1.4454397707456945,1.4454397707456945,{"$f":"IF(ROW()<$E$3+1,'Calcul courbes'!$C$10,NA())","v":{"$error":"#N/A"}},{"$error":"#N/A"},{"$error":"#N/A"}]
[0.16999999999993001,1.4791083881679692,{"$f":"4*ATAN(-'Calcul courbes'!$C$2*B327+SQRT(('Calcul courbes'!$C$2)^2*B327^2+'Calcul courbes'!$C$3))","v":0.16169522565933522},{"$f":"IF(ROW()>$E$3+1,('Calcul courbes'!$C$8*LOG(B327)+'Calcul courbes'!$C$9),NA())","v":0.16179068528661159},1.4791083881679692,1.4791083881679692,{"$f":"IF(ROW()<$E$3+1,'Calcul courbes'!$C$10,NA())","v":{"$error":"#N/A"}},{"$error":"#N/A"},{"$error":"#N/A"}]
[0.17999999999992999,1.5135612484359642,{"$f":"4*ATAN(-'Calcul courbes'!$C$2*B328+SQRT(('Calcul courbes'!$C$2)^2*B328^2+'Calcul courbes'!$C$3))","v":0.15965385152857853},{"$f":"IF(ROW()>$E$3+1,('Calcul courbes'!$C$8*LOG(B328)+'Calcul courbes'!$C$9),NA())","v":0.15979297119377212},1.5135612484359642,1.5135612484359642,{"$f":"IF(ROW()<$E$3+1,'Calcul courbes'!$C$10,NA())","v":{"$error":"#N/A"}},{"$error":"#N/A"},{"$error":"#N/A"}]
[0.18999999999993,1.5488166189122319,{"$f":"4*ATAN(-'Calcul courbes'!$C$2*B329+SQRT(('Calcul courbes'!$C$2)^2*B329^2+'Calcul courbes'!$C$3))","v":0.15760612481023042},{"$f":"IF(ROW()>$E$3+1,('Calcul courbes'!$C$8*LOG(B329)+'Calcul courbes'!$C$9),NA())","v":0.15779525710093262},1.5488166189122319,1.5488166189122319,{"$f":"IF(ROW()<$E$3+1,'Calcul courbes'!$C$10,NA())","v":{"$error":"#N/A"}},{"$error":"#N/A"},{"$error":"#N/A"}]
[0.19999999999993001,1.584893192460858,{"$f":"4*ATAN(-'Calcul courbes'!$C$2*B330+SQRT(('Calcul courbes'!$C$2)^2*B330^2+'Calcul courbes'!$C$3))","v":0.15555291492925835},{"$f":"IF(ROW()>$E$3+1,('Calcul courbes'!$C$8*LOG(B330)+'Calcul courbes'!$C$9),NA())","v":0.15579754300809315},1.584893192460858,1.584893192460858,{"$f":"IF(ROW()<$E$3+1,'Calcul courbes'!$C$10,NA())","v":{"$error":"#N/A"}},{"$error":"#N/A"},{"$error":"#N/A"}]
[0.20999999999992999,{"$f":"10^A331","v":1.6218100973586687},{"$f":"4*ATAN(-'Calcul courbes'!$C$2*B331+SQRT(('Calcul courbes'!$C$2)^2*B331^2+'Calcul courbes'!$C$3))","v":0.15349510669097935},{"$f":"IF(ROW()>$E$3+1,('Calcul courbes'!$C$8*LOG(B331)+'Calcul courbes'!$C$9),NA())","v":0.15379982891525365},{"$f":"IF(ROW()<$F$3+1,B331,NA())","v":1.6218100973586687},{"$f":"IF(ROW()>$E$3+1,E331,NA())","v":1.6218100973586687},{"$f":"IF(ROW()<$E$3+1,'Calcul courbes'!$C$10,NA())","v":{"$error":"#N/A"}},{"$f":"IF(ROW()>$F$3-1,0,NA())","v":{"$error":"#N/A"}},{"$f":"IF(ROW()=$F$3-1,0,NA())","v":{"$error":"#N/A"}}]
[0.21999999999993,1.6595869074372933,{"$f":"4*ATAN(-'Calcul courbes'!$C$2*B332+SQRT(('Calcul courbes'!$C$2)^2*B332^2+'Calcul courbes'!$C$3))","v":0.15143359860281275},{"$f":"IF(ROW()>$E$3+1,('Calcul courbes'!$C$8*LOG(B332)+'Calcul courbes'!$C$9),NA())","v":0.15180211482241415},1.6595869074372933,1.6595869074372933,{"$f":"IF(ROW()<$E$3+1,'Calcul courbes'!$C$10,NA())","v":{"$error":"#N/A"}},{"$error":"#N/A"},{"$error":"#N/A"}]
[0.22999999999993001,1.6982436524614708,{"$f":"4*ATAN(-'Calcul courbes'!$C$2*B333+SQRT(('Calcul courbes'!$C$2)^2*B333^2+'Calcul courbes'!$C$3))","v":0.14936930111127908},{"$f":"IF(ROW()>$E$3+1,('Calcul courbes'!$C$8*LOG(B333)+'Calcul courbes'!$C$9),NA())","v":0.14980440072957468},1.6982436524614708,1.6982436524614708,{"$f":"IF(ROW()<$E$3+1,'Calcul courbes'!$C$10,NA())","v":{"$error":"#N/A"}},{"$error":"#N/A"},{"$error":"#N/A"}]
[0.23999999999992999,1.7378008287490954,{"$f":"4*ATAN(-'Calcul courbes'!$C$2*B334+SQRT(('Calcul courbes'!$C$2)^2*B334^2+'Calcul courbes'!$C$3))","v":0.14730313476146184},{"$f":"IF(ROW()>$E$3+1,('Calcul courbes'!$C$8*LOG(B334)+'Calcul courbes'!$C$9),NA())","v":0.14780668663673521},1.7378008287490954,1.7378008287490954,{"$f":"IF(ROW()<$E$3+1,'Calcul courbes'!$C$10,NA())","v":{"$error":"#N/A"}},{"$error":"#N/A"},{"$error":"#N/A"}]
[0.24999999999993,1.7782794100386363,{"$f":"4*ATAN(-'Calcul courbes'!$C$2*B335+SQRT(('Calcul courbes'!$C$2)^2*B335^2+'Calcul courbes'!$C$3))","v":0.14523602828698007},{"$f":"IF(ROW()>$E$3+1,('Calcul courbes'!$C$8*LOG(B335)+'Calcul courbes'!$C$9),NA())","v":0.14580897254389572},1.7782794100386363,1.7782794100386363,{"$f":"IF(ROW()<$E$3+1,'Calcul courbes'!$C$10,NA())","v":{"$error":"#N/A"}},{"$error":"#N/A"},{"$error":"#N/A"}]
[0.25999999999993001,1.8197008586096903,{"$f":"4*ATAN(-'Calcul courbes'!$C$2*B336+SQRT(('Calcul courbes'!$C$2)^2*B336^2+'Calcul courbes'!$C$3))","v":0.14316891663929759},{"$f":"IF(ROW()>$E$3+1,('Calcul courbes'!$C$8*LOG(B336)+'Calcul courbes'!$C$9),NA())","v":0.14381125845105622},1.8197008586096903,1.8197008586096903,{"$f":"IF(ROW()<$E$3+1,'Calcul courbes'!$C$10,NA())","v":{"$error":"#N/A"}},{"$error":"#N/A"},{"$error":"#N/A"}]
[0.26999999999993002,1.8620871366625675,{"$f":"4*ATAN(-'Calcul courbes'!$C$2*B337+SQRT(('Calcul courbes'!$C$2)^2*B337^2+'Calcul courbes'!$C$3))","v":0.14110273896590614},{"$f":"IF(ROW()>$E$3+1,('Calcul courbes'!$C$8*LOG(B337)+'Calcul courbes'!$C$9),NA())","v":0.14181354435821675},1.8620871366625675,1.8620871366625675,{"$f":"IF(ROW()<$E$3+1,'Calcul courbes'!$C$10,NA())","v":{"$error":"#N/A"}},{"$error":"#N/A"},{"$error":"#N/A"}]
[0.27999999999993003,1.9054607179629401,{"$f":"4*ATAN(-'Calcul courbes'!$C$2*B338+SQRT(('Calcul courbes'!$C$2)^2*B338^2+'Calcul courbes'!$C$3))","v":0.13903843654755962},{"$f":"IF(ROW()>$E$3+1,('Calcul courbes'!$C$8*LOG(B338)+'Calcul courbes'!$C$9),NA())","v":0.13981583026537725},1.9054607179629401,1.9054607179629401,{"$f":"IF(ROW()<$E$3+1,'Calcul courbes'!$C$10,NA())","v":{"$error":"#N/A"}},{"$error":"#N/A"},{"$error":"#N/A"}]
[0.28999999999992998,1.9498445997577309,{"$f":"4*ATAN(-'Calcul courbes'!$C$2*B339+SQRT(('Calcul courbes'!$C$2)^2*B339^2+'Calcul courbes'!$C$3))","v":0.13697695070528093},{"$f":"IF(ROW()>$E$3+1,('Calcul courbes'!$C$8*LOG(B339)+'Calcul courbes'!$C$9),NA())","v":0.13781811617253778},1.9498445997577309,1.9498445997577309,{"$f":"IF(ROW()<$E$3+1,'Calcul courbes'!$C$10,NA())","v":{"$error":"#N/A"}},{"$error":"#N/A"},{"$error":"#N/A"}]
[0.29999999999992999,1.995262314968558,{"$f":"4*ATAN(-'Calcul courbes'!$C$2*B340+SQRT(('Calcul courbes'!$C$2)^2*B340^2+'Calcul courbes'!$C$3))","v":0.13491922068831452},{"$f":"IF(ROW()>$E$3+1,('Calcul courbes'!$C$8*LOG(B340)+'Calcul courbes'!$C$9),NA())","v":0.13582040207969831},1.995262314968558,1.995262314968558,{"$f":"IF(ROW()<$E$3+1,'Calcul courbes'!$C$10,NA())","v":{"$error":"#N/A"}},{"$error":"#N/A"},{"$error":"#N/A"}]
[0.30999999999993,2.0417379446692001,{"$f":"4*ATAN(-'Calcul courbes'!$C$2*B341+SQRT(('Calcul courbes'!$C$2)^2*B341^2+'Calcul courbes'!$C$3))","v":0.13286618155453925},{"$f":"IF(ROW()>$E$3+1,('Calcul courbes'!$C$8*LOG(B341)+'Calcul courbes'!$C$9),NA())","v":0.13382268798685881},2.0417379446692001,2.0417379446692001,{"$f":"IF(ROW()<$E$3+1,'Calcul courbes'!$C$10,NA())","v":{"$error":"#N/A"}},{"$error":"#N/A"},{"$error":"#N/A"}]
[0.31999999999993001,2.089296130853703,{"$f":"4*ATAN(-'Calcul courbes'!$C$2*B342+SQRT(('Calcul courbes'!$C$2)^2*B342^2+'Calcul courbes'!$C$3))","v":0.13081876205508047},{"$f":"IF(ROW()>$E$3+1,('Calcul courbes'!$C$8*LOG(B342)+'Calcul courbes'!$C$9),NA())","v":0.13182497389401931},2.089296130853703,2.089296130853703,{"$f":"IF(ROW()<$E$3+1,'Calcul courbes'!$C$10,NA())","v":{"$error":"#N/A"}},{"$error":"#N/A"},{"$error":"#N/A"}]
[0.32999999999993002,2.137962089501888,{"$f":"4*ATAN(-'Calcul courbes'!$C$2*B343+SQRT(('Calcul courbes'!$C$2)^2*B343^2+'Calcul courbes'!$C$3))","v":0.12877788253496761},{"$f":"IF(ROW()>$E$3+1,('Calcul courbes'!$C$8*LOG(B343)+'Calcul courbes'!$C$9),NA())","v":0.12982725980117982},2.137962089501888,2.137962089501888,{"$f":"IF(ROW()<$E$3+1,'Calcul courbes'!$C$10,NA())","v":{"$error":"#N/A"}},{"$error":"#N/A"},{"$error":"#N/A"}]
[0.33999999999993002,2.1877616239492004,{"$f":"4*ATAN(-'Calcul courbes'!$C$2*B344+SQRT(('Calcul courbes'!$C$2)^2*B344^2+'Calcul courbes'!$C$3))","v":0.12674445286166355},{"$f":"IF(ROW()>$E$3+1,('Calcul courbes'!$C$8*LOG(B344)+'Calcul courbes'!$C$9),NA())","v":0.12782954570834032},2.1877616239492004,2.1877616239492004,{"$f":"IF(ROW()<$E$3+1,'Calcul courbes'!$C$10,NA())","v":{"$error":"#N/A"}},{"$error":"#N/A"},{"$error":"#N/A"}]
[0.34999999999992998,2.2387211385679788,{"$f":"4*ATAN(-'Calcul courbes'!$C$2*B345+SQRT(('Calcul courbes'!$C$2)^2*B345^2+'Calcul courbes'!$C$3))","v":0.12471937039314578},{"$f":"IF(ROW()>$E$3+1,('Calcul courbes'!$C$8*LOG(B345)+'Calcul courbes'!$C$9),NA())","v":0.12583183161550088},2.2387211385679788,2.2387211385679788,{"$f":"IF(ROW()<$E$3+1,'Calcul courbes'!$C$10,NA())","v":{"$error":"#N/A"}},{"$error":"#N/A"},{"$error":"#N/A"}]
[0.35999999999992999,2.2908676527674041,{"$f":"4*ATAN(-'Calcul courbes'!$C$2*B346+SQRT(('Calcul courbes'!$C$2)^2*B346^2+'Calcul courbes'!$C$3))","v":0.12270351799695012},{"$f":"IF(ROW()>$E$3+1,('Calcul courbes'!$C$8*LOG(B346)+'Calcul courbes'!$C$9),NA())","v":0.12383411752266137},2.2908676527674041,2.2908676527674041,{"$f":"IF(ROW()<$E$3+1,'Calcul courbes'!$C$10,NA())","v":{"$error":"#N/A"}},{"$error":"#N/A"},{"$error":"#N/A"}]
[0.36999999999993,2.3442288153195445,{"$f":"4*ATAN(-'Calcul courbes'!$C$2*B347+SQRT(('Calcul courbes'!$C$2)^2*B347^2+'Calcul courbes'!$C$3))","v":0.12069776213119264},{"$f":"IF(ROW()>$E$3+1,('Calcul courbes'!$C$8*LOG(B347)+'Calcul courbes'!$C$9),NA())","v":0.12183640342982188},2.3442288153195445,2.3442288153195445,{"$f":"IF(ROW()<$E$3+1,'Calcul courbes'!$C$10,NA())","v":{"$error":"#N/A"}},{"$error":"#N/A"},{"$error":"#N/A"}]
[0.37999999999993,2.398832919019104,{"$f":"4*ATAN(-'Calcul courbes'!$C$2*B348+SQRT(('Calcul courbes'!$C$2)^2*B348^2+'Calcul courbes'!$C$3))","v":0.11870295099807483},{"$f":"IF(ROW()>$E$3+1,('Calcul courbes'!$C$8*LOG(B348)+'Calcul courbes'!$C$9),NA())","v":0.1198386893369824},2.398832919019104,2.398832919019104,{"$f":"IF(ROW()<$E$3+1,'Calcul courbes'!$C$10,NA())","v":{"$error":"#N/A"}},{"$error":"#N/A"},{"$error":"#N/A"}]
[0.38999999999993001,2.4547089156846349,{"$f":"4*ATAN(-'Calcul courbes'!$C$2*B349+SQRT(('Calcul courbes'!$C$2)^2*B349^2+'Calcul courbes'!$C$3))","v":0.11671991277975353},{"$f":"IF(ROW()>$E$3+1,('Calcul courbes'!$C$8*LOG(B349)+'Calcul courbes'!$C$9),NA())","v":0.11784097524414293},2.4547089156846349,2.4547089156846349,{"$f":"IF(ROW()<$E$3+1,'Calcul courbes'!$C$10,NA())","v":{"$error":"#N/A"}},{"$error":"#N/A"},{"$error":"#N/A"}]
[0.39999999999993002,2.5118864315091756,{"$f":"4*ATAN(-'Calcul courbes'!$C$2*B350+SQRT(('Calcul courbes'!$C$2)^2*B350^2+'Calcul courbes'!$C$3))","v":0.1147494539657356},{"$f":"IF(ROW()>$E$3+1,('Calcul courbes'!$C$8*LOG(B350)+'Calcul courbes'!$C$9),NA())","v":0.11584326115130343},2.5118864315091756,2.5118864315091756,{"$f":"IF(ROW()<$E$3+1,'Calcul courbes'!$C$10,NA())","v":{"$error":"#N/A"}},{"$error":"#N/A"},{"$error":"#N/A"}]
[0.40999999999992998,2.5703957827684496,{"$f":"4*ATAN(-'Calcul courbes'!$C$2*B351+SQRT(('Calcul courbes'!$C$2)^2*B351^2+'Calcul courbes'!$C$3))","v":0.1127923577801395},{"$f":"IF(ROW()>$E$3+1,('Calcul courbes'!$C$8*LOG(B351)+'Calcul courbes'!$C$9),NA())","v":0.11384554705846395},2.5703957827684496,2.5703957827684496,{"$f":"IF(ROW()<$E$3+1,'Calcul courbes'!$C$10,NA())","v":{"$error":"#N/A"}},{"$error":"#N/A"},{"$error":"#N/A"}]
[0.41999999999992998,2.6302679918949581,{"$f":"4*ATAN(-'Calcul courbes'!$C$2*B352+SQRT(('Calcul courbes'!$C$2)^2*B352^2+'Calcul courbes'!$C$3))","v":0.11084938271627319},{"$f":"IF(ROW()>$E$3+1,('Calcul courbes'!$C$8*LOG(B352)+'Calcul courbes'!$C$9),NA())","v":0.11184783296562446},2.6302679918949581,2.6302679918949581,{"$f":"IF(ROW()<$E$3+1,'Calcul courbes'!$C$10,NA())","v":{"$error":"#N/A"}},{"$error":"#N/A"},{"$error":"#N/A"}]
[0.42999999999992999,2.6915348039264821,{"$f":"4*ATAN(-'Calcul courbes'!$C$2*B353+SQRT(('Calcul courbes'!$C$2)^2*B353^2+'Calcul courbes'!$C$3))","v":0.10892126118501887},{"$f":"IF(ROW()>$E$3+1,('Calcul courbes'!$C$8*LOG(B353)+'Calcul courbes'!$C$9),NA())","v":0.10985011887278498},2.6915348039264821,2.6915348039264821,{"$f":"IF(ROW()<$E$3+1,'Calcul courbes'!$C$10,NA())","v":{"$error":"#N/A"}},{"$error":"#N/A"},{"$error":"#N/A"}]
[0.43999999999993,2.7542287033377226,{"$f":"4*ATAN(-'Calcul courbes'!$C$2*B354+SQRT(('Calcul courbes'!$C$2)^2*B354^2+'Calcul courbes'!$C$3))","v":0.1070086982825022},{"$f":"IF(ROW()>$E$3+1,('Calcul courbes'!$C$8*LOG(B354)+'Calcul courbes'!$C$9),NA())","v":0.1078524047799455},2.7542287033377226,2.7542287033377226,{"$f":"IF(ROW()<$E$3+1,'Calcul courbes'!$C$10,NA())","v":{"$error":"#N/A"}},{"$error":"#N/A"},{"$error":"#N/A"}]
[0.44999999999993001,2.8183829312639999,{"$f":"4*ATAN(-'Calcul courbes'!$C$2*B355+SQRT(('Calcul courbes'!$C$2)^2*B355^2+'Calcul courbes'!$C$3))","v":0.10511237068148001},{"$f":"IF(ROW()>$E$3+1,('Calcul courbes'!$C$8*LOG(B355)+'Calcul courbes'!$C$9),NA())","v":0.105854690687106},2.8183829312639999,2.8183829312639999,{"$f":"IF(ROW()<$E$3+1,'Calcul courbes'!$C$10,NA())","v":{"$error":"#N/A"}},{"$error":"#N/A"},{"$error":"#N/A"}]
[0.45999999999993002,2.8840315031261419,{"$f":"4*ATAN(-'Calcul courbes'!$C$2*B356+SQRT(('Calcul courbes'!$C$2)^2*B356^2+'Calcul courbes'!$C$3))","v":0.10323292564980734},{"$f":"IF(ROW()>$E$3+1,('Calcul courbes'!$C$8*LOG(B356)+'Calcul courbes'!$C$9),NA())","v":0.1038569765942665},2.8840315031261419,2.8840315031261419,{"$f":"IF(ROW()<$E$3+1,'Calcul courbes'!$C$10,NA())","v":{"$error":"#N/A"}},{"$error":"#N/A"},{"$error":"#N/A"}]
[0.46999999999992997,2.9512092266659105,{"$f":"4*ATAN(-'Calcul courbes'!$C$2*B357+SQRT(('Calcul courbes'!$C$2)^2*B357^2+'Calcul courbes'!$C$3))","v":0.1013709801982754},{"$f":"IF(ROW()>$E$3+1,('Calcul courbes'!$C$8*LOG(B357)+'Calcul courbes'!$C$9),NA())","v":0.10185926250142703},2.9512092266659105,2.9512092266659105,{"$f":"IF(ROW()<$E$3+1,'Calcul courbes'!$C$10,NA())","v":{"$error":"#N/A"}},{"$error":"#N/A"},{"$error":"#N/A"}]
[0.47999999999992998,3.0199517204015298,{"$f":"4*ATAN(-'Calcul courbes'!$C$2*B358+SQRT(('Calcul courbes'!$C$2)^2*B358^2+'Calcul courbes'!$C$3))","v":9.9527120359041849E-2},{"$f":"IF(ROW()>$E$3+1,('Calcul courbes'!$C$8*LOG(B358)+'Calcul courbes'!$C$9),NA())","v":9.9861548408587547E-2},3.0199517204015298,3.0199517204015298,{"$f":"IF(ROW()<$E$3+1,'Calcul courbes'!$C$10,NA())","v":{"$error":"#N/A"}},{"$error":"#N/A"},{"$error":"#N/A"}]
[0.48999999999992999,3.0902954325130931,{"$f":"4*ATAN(-'Calcul courbes'!$C$2*B359+SQRT(('Calcul courbes'!$C$2)^2*B359^2+'Calcul courbes'!$C$3))","v":9.7701900594835175E-2},{"$f":"IF(ROW()>$E$3+1,('Calcul courbes'!$C$8*LOG(B359)+'Calcul courbes'!$C$9),NA())","v":9.7863834315748049E-2},3.0902954325130931,3.0902954325130931,{"$f":"IF(ROW()<$E$3+1,'Calcul courbes'!$C$10,NA())","v":{"$error":"#N/A"}},{"$error":"#N/A"},{"$error":"#N/A"}]
[0.49999999999993,3.1622776601678697,{"$f":"4*ATAN(-'Calcul courbes'!$C$2*B360+SQRT(('Calcul courbes'!$C$2)^2*B360^2+'Calcul courbes'!$C$3))","v":9.5895843338103887E-2},{"$f":"IF(ROW()>$E$3+1,('Calcul courbes'!$C$8*LOG(B360)+'Calcul courbes'!$C$9),NA())","v":9.5866120222908593E-2},3.1622776601678697,3.1622776601678697,{"$f":"IF(ROW()<$E$3+1,'Calcul courbes'!$C$10,NA())","v":{"$error":"#N/A"}},{"$error":"#N/A"},{"$error":"#N/A"}]
[0.50999999999992995,3.2359365692957609,{"$f":"4*ATAN(-'Calcul courbes'!$C$2*B361+SQRT(('Calcul courbes'!$C$2)^2*B361^2+'Calcul courbes'!$C$3))","v":9.4109438658325398E-2},{"$f":"IF(ROW()>$E$3+1,('Calcul courbes'!$C$8*LOG(B361)+'Calcul courbes'!$C$9),NA())","v":9.386840613006911E-2},3.2359365692957609,3.2359365692957609,{"$f":"IF(ROW()<$E$3+1,'Calcul courbes'!$C$10,NA())","v":{"$error":"#N/A"}},{"$error":"#N/A"},{"$error":"#N/A"}]
[0.51999999999991997,3.311311214825301,{"$f":"4*ATAN(-'Calcul courbes'!$C$2*B362+SQRT(('Calcul courbes'!$C$2)^2*B362^2+'Calcul courbes'!$C$3))","v":9.2343144054785053E-2},{"$f":"IF(ROW()>$E$3+1,('Calcul courbes'!$C$8*LOG(B362)+'Calcul courbes'!$C$9),NA())","v":9.1870692037231624E-2},3.311311214825301,3.311311214825301,{"$f":"IF(ROW()<$E$3+1,'Calcul courbes'!$C$10,NA())","v":{"$error":"#N/A"}},{"$error":"#N/A"},{"$error":"#N/A"}]
[0.52999999999991998,3.3884415613914021,{"$f":"4*ATAN(-'Calcul courbes'!$C$2*B363+SQRT(('Calcul courbes'!$C$2)^2*B363^2+'Calcul courbes'!$C$3))","v":9.0597384371292888E-2},{"$f":"IF(ROW()>$E$3+1,('Calcul courbes'!$C$8*LOG(B363)+'Calcul courbes'!$C$9),NA())","v":8.9872977944392113E-2},3.3884415613914021,3.3884415613914021,{"$f":"IF(ROW()<$E$3+1,'Calcul courbes'!$C$10,NA())","v":{"$error":"#N/A"}},{"$error":"#N/A"},{"$error":"#N/A"}]
[0.53999999999991999,3.467368504524678,{"$f":"4*ATAN(-'Calcul courbes'!$C$2*B364+SQRT(('Calcul courbes'!$C$2)^2*B364^2+'Calcul courbes'!$C$3))","v":8.8872551828581337E-2},{"$f":"IF(ROW()>$E$3+1,('Calcul courbes'!$C$8*LOG(B364)+'Calcul courbes'!$C$9),NA())","v":8.7875263851552629E-2},3.467368504524678,3.467368504524678,{"$f":"IF(ROW()<$E$3+1,'Calcul courbes'!$C$10,NA())","v":{"$error":"#N/A"}},{"$error":"#N/A"},{"$error":"#N/A"}]
[0.54999999999992,3.5481338923351018,{"$f":"4*ATAN(-'Calcul courbes'!$C$2*B365+SQRT(('Calcul courbes'!$C$2)^2*B365^2+'Calcul courbes'!$C$3))","v":8.716900616938604E-2},{"$f":"IF(ROW()>$E$3+1,('Calcul courbes'!$C$8*LOG(B365)+'Calcul courbes'!$C$9),NA())","v":8.5877549758713145E-2},3.5481338923351018,3.5481338923351018,{"$f":"IF(ROW()<$E$3+1,'Calcul courbes'!$C$10,NA())","v":{"$error":"#N/A"}},{"$error":"#N/A"},{"$error":"#N/A"}]
[0.55999999999992001,3.6307805477003452,{"$f":"4*ATAN(-'Calcul courbes'!$C$2*B366+SQRT(('Calcul courbes'!$C$2)^2*B366^2+'Calcul courbes'!$C$3))","v":8.5487074910680014E-2},{"$f":"IF(ROW()>$E$3+1,('Calcul courbes'!$C$8*LOG(B366)+'Calcul courbes'!$C$9),NA())","v":8.3879835665873648E-2},3.6307805477003452,3.6307805477003452,{"$f":"IF(ROW()<$E$3+1,'Calcul courbes'!$C$10,NA())","v":{"$error":"#N/A"}},{"$error":"#N/A"},{"$error":"#N/A"}]
[0.56999999999992002,3.7153522909710417,{"$f":"4*ATAN(-'Calcul courbes'!$C$2*B367+SQRT(('Calcul courbes'!$C$2)^2*B367^2+'Calcul courbes'!$C$3))","v":8.382705369698773E-2},{"$f":"IF(ROW()>$E$3+1,('Calcul courbes'!$C$8*LOG(B367)+'Calcul courbes'!$C$9),NA())","v":8.1882121573034164E-2},3.7153522909710417,3.7153522909710417,{"$f":"IF(ROW()<$E$3+1,'Calcul courbes'!$C$10,NA())","v":{"$error":"#N/A"}},{"$error":"#N/A"},{"$error":"#N/A"}]
[0.57999999999992002,3.801893963204912,{"$f":"4*ATAN(-'Calcul courbes'!$C$2*B368+SQRT(('Calcul courbes'!$C$2)^2*B368^2+'Calcul courbes'!$C$3))","v":8.218920674829841E-2},{"$f":"IF(ROW()>$E$3+1,('Calcul courbes'!$C$8*LOG(B368)+'Calcul courbes'!$C$9),NA())","v":7.9884407480194694E-2},3.801893963204912,3.801893963204912,{"$f":"IF(ROW()<$E$3+1,'Calcul courbes'!$C$10,NA())","v":{"$error":"#N/A"}},{"$error":"#N/A"},{"$error":"#N/A"}]
[0.58999999999992003,3.8904514499420904,{"$f":"4*ATAN(-'Calcul courbes'!$C$2*B369+SQRT(('Calcul courbes'!$C$2)^2*B369^2+'Calcul courbes'!$C$3))","v":8.057376739576548E-2},{"$f":"IF(ROW()>$E$3+1,('Calcul courbes'!$C$8*LOG(B369)+'Calcul courbes'!$C$9),NA())","v":7.7886693387355196E-2},3.8904514499420904,3.8904514499420904,{"$f":"IF(ROW()<$E$3+1,'Calcul courbes'!$C$10,NA())","v":{"$error":"#N/A"}},{"$error":"#N/A"},{"$error":"#N/A"}]
[0.59999999999992004,3.9810717055342399,{"$f":"4*ATAN(-'Calcul courbes'!$C$2*B370+SQRT(('Calcul courbes'!$C$2)^2*B370^2+'Calcul courbes'!$C$3))","v":7.8980938698135689E-2},{"$f":"IF(ROW()>$E$3+1,('Calcul courbes'!$C$8*LOG(B370)+'Calcul courbes'!$C$9),NA())","v":7.5888979294515727E-2},3.9810717055342399,3.9810717055342399,{"$f":"IF(ROW()<$E$3+1,'Calcul courbes'!$C$10,NA())","v":{"$error":"#N/A"}},{"$error":"#N/A"},{"$error":"#N/A"}]
[0.60999999999992005,4.0738027780403785,{"$f":"4*ATAN(-'Calcul courbes'!$C$2*B371+SQRT(('Calcul courbes'!$C$2)^2*B371^2+'Calcul courbes'!$C$3))","v":7.7410894131685934E-2},{"$f":"IF(ROW()>$E$3+1,('Calcul courbes'!$C$8*LOG(B371)+'Calcul courbes'!$C$9),NA())","v":7.3891265201676215E-2},4.0738027780403785,4.0738027780403785,{"$f":"IF(ROW()<$E$3+1,'Calcul courbes'!$C$10,NA())","v":{"$error":"#N/A"}},{"$error":"#N/A"},{"$error":"#N/A"}]
[0.61999999999991995,4.1686938347025864,{"$f":"4*ATAN(-'Calcul courbes'!$C$2*B372+SQRT(('Calcul courbes'!$C$2)^2*B372^2+'Calcul courbes'!$C$3))","v":7.5863778346367622E-2},{"$f":"IF(ROW()>$E$3+1,('Calcul courbes'!$C$8*LOG(B372)+'Calcul courbes'!$C$9),NA())","v":7.1893551108836759E-2},4.1686938347025864,4.1686938347025864,{"$f":"IF(ROW()<$E$3+1,'Calcul courbes'!$C$10,NA())","v":{"$error":"#N/A"}},{"$error":"#N/A"},{"$error":"#N/A"}]
[0.62999999999991996,4.265795188015141,{"$f":"4*ATAN(-'Calcul courbes'!$C$2*B373+SQRT(('Calcul courbes'!$C$2)^2*B373^2+'Calcul courbes'!$C$3))","v":7.4339707980844508E-2},{"$f":"IF(ROW()>$E$3+1,('Calcul courbes'!$C$8*LOG(B373)+'Calcul courbes'!$C$9),NA())","v":6.9895837015997275E-2},4.265795188015141,4.265795188015141,{"$f":"IF(ROW()<$E$3+1,'Calcul courbes'!$C$10,NA())","v":{"$error":"#N/A"}},{"$error":"#N/A"},{"$error":"#N/A"}]
[0.63999999999991997,4.3651583224008554,{"$f":"4*ATAN(-'Calcul courbes'!$C$2*B374+SQRT(('Calcul courbes'!$C$2)^2*B374^2+'Calcul courbes'!$C$3))","v":7.2838772529172285E-2},{"$f":"IF(ROW()>$E$3+1,('Calcul courbes'!$C$8*LOG(B374)+'Calcul courbes'!$C$9),NA())","v":6.7898122923157805E-2},4.3651583224008554,4.3651583224008554,{"$f":"IF(ROW()<$E$3+1,'Calcul courbes'!$C$10,NA())","v":{"$error":"#N/A"}},{"$error":"#N/A"},{"$error":"#N/A"}]
[0.64999999999991998,4.4668359215088094,{"$f":"4*ATAN(-'Calcul courbes'!$C$2*B375+SQRT(('Calcul courbes'!$C$2)^2*B375^2+'Calcul courbes'!$C$3))","v":7.1361035251989571E-2},{"$f":"IF(ROW()>$E$3+1,('Calcul courbes'!$C$8*LOG(B375)+'Calcul courbes'!$C$9),NA())","v":6.590040883031828E-2},4.4668359215088094,4.4668359215088094,{"$f":"IF(ROW()<$E$3+1,'Calcul courbes'!$C$10,NA())","v":{"$error":"#N/A"}},{"$error":"#N/A"},{"$error":"#N/A"}]
[0.65999999999991998,4.5708818961479087,{"$f":"4*ATAN(-'Calcul courbes'!$C$2*B376+SQRT(('Calcul courbes'!$C$2)^2*B376^2+'Calcul courbes'!$C$3))","v":6.9906534125262418E-2},{"$f":"IF(ROW()>$E$3+1,('Calcul courbes'!$C$8*LOG(B376)+'Calcul courbes'!$C$9),NA())","v":6.390269473747881E-2},4.5708818961479087,4.5708818961479087,{"$f":"IF(ROW()<$E$3+1,'Calcul courbes'!$C$10,NA())","v":{"$error":"#N/A"}},{"$error":"#N/A"},{"$error":"#N/A"}]
[0.66999999999991999,4.6773514128711211,{"$f":"4*ATAN(-'Calcul courbes'!$C$2*B377+SQRT(('Calcul courbes'!$C$2)^2*B377^2+'Calcul courbes'!$C$3))","v":6.8475282819858152E-2},{"$f":"IF(ROW()>$E$3+1,('Calcul courbes'!$C$8*LOG(B377)+'Calcul courbes'!$C$9),NA())","v":6.1904980644639312E-2},4.6773514128711211,4.6773514128711211,{"$f":"IF(ROW()<$E$3+1,'Calcul courbes'!$C$10,NA())","v":{"$error":"#N/A"}},{"$error":"#N/A"},{"$error":"#N/A"}]
[0.67999999999992,4.786300923225502,{"$f":"4*ATAN(-'Calcul courbes'!$C$2*B378+SQRT(('Calcul courbes'!$C$2)^2*B378^2+'Calcul courbes'!$C$3))","v":6.7067271705484377E-2},{"$f":"IF(ROW()>$E$3+1,('Calcul courbes'!$C$8*LOG(B378)+'Calcul courbes'!$C$9),NA())","v":5.9907266551799843E-2},4.786300923225502,4.786300923225502,{"$f":"IF(ROW()<$E$3+1,'Calcul courbes'!$C$10,NA())","v":{"$error":"#N/A"}},{"$error":"#N/A"},{"$error":"#N/A"}]
[0.68999999999992001,4.897788193683561,{"$f":"4*ATAN(-'Calcul courbes'!$C$2*B379+SQRT(('Calcul courbes'!$C$2)^2*B379^2+'Calcul courbes'!$C$3))","v":6.5682468872835936E-2},{"$f":"IF(ROW()>$E$3+1,('Calcul courbes'!$C$8*LOG(B379)+'Calcul courbes'!$C$9),NA())","v":5.7909552458960345E-2},4.897788193683561,4.897788193683561,{"$f":"IF(ROW()<$E$3+1,'Calcul courbes'!$C$10,NA())","v":{"$error":"#N/A"}},{"$error":"#N/A"},{"$error":"#N/A"}]
[0.69999999999992002,5.0118723362718001,{"$f":"4*ATAN(-'Calcul courbes'!$C$2*B380+SQRT(('Calcul courbes'!$C$2)^2*B380^2+'Calcul courbes'!$C$3))","v":6.4320821168124931E-2},{"$f":"IF(ROW()>$E$3+1,('Calcul courbes'!$C$8*LOG(B380)+'Calcul courbes'!$C$9),NA())","v":5.5911838366120875E-2},5.0118723362718001,5.0118723362718001,{"$f":"IF(ROW()<$E$3+1,'Calcul courbes'!$C$10,NA())","v":{"$error":"#N/A"}},{"$error":"#N/A"},{"$error":"#N/A"}]
[0.70999999999992003,5.1286138399127053,{"$f":"4*ATAN(-'Calcul courbes'!$C$2*B381+SQRT(('Calcul courbes'!$C$2)^2*B381^2+'Calcul courbes'!$C$3))","v":6.2982255234520682E-2},{"$f":"IF(ROW()>$E$3+1,('Calcul courbes'!$C$8*LOG(B381)+'Calcul courbes'!$C$9),NA())","v":5.3914124273281377E-2},5.1286138399127053,5.1286138399127053,{"$f":"IF(ROW()<$E$3+1,'Calcul courbes'!$C$10,NA())","v":{"$error":"#N/A"}},{"$error":"#N/A"},{"$error":"#N/A"}]
[0.71999999999992004,5.2480746024967599,{"$f":"4*ATAN(-'Calcul courbes'!$C$2*B382+SQRT(('Calcul courbes'!$C$2)^2*B382^2+'Calcul courbes'!$C$3))","v":6.1666678555396807E-2},{"$f":"IF(ROW()>$E$3+1,('Calcul courbes'!$C$8*LOG(B382)+'Calcul courbes'!$C$9),NA())","v":5.1916410180441908E-2},5.2480746024967599,5.2480746024967599,{"$f":"IF(ROW()<$E$3+1,'Calcul courbes'!$C$10,NA())","v":{"$error":"#N/A"}},{"$error":"#N/A"},{"$error":"#N/A"}]
[0.72999999999992005,5.3703179637015399,{"$f":"4*ATAN(-'Calcul courbes'!$C$2*B383+SQRT(('Calcul courbes'!$C$2)^2*B383^2+'Calcul courbes'!$C$3))","v":6.0373980494667183E-2},{"$f":"IF(ROW()>$E$3+1,('Calcul courbes'!$C$8*LOG(B383)+'Calcul courbes'!$C$9),NA())","v":4.991869608760241E-2},5.3703179637015399,5.3703179637015399,{"$f":"IF(ROW()<$E$3+1,'Calcul courbes'!$C$10,NA())","v":{"$error":"#N/A"}},{"$error":"#N/A"},{"$error":"#N/A"}]
[0.73999999999992006,5.495408738575235,{"$f":"4*ATAN(-'Calcul courbes'!$C$2*B384+SQRT(('Calcul courbes'!$C$2)^2*B384^2+'Calcul courbes'!$C$3))","v":5.9104033329875343E-2},{"$f":"IF(ROW()>$E$3+1,('Calcul courbes'!$C$8*LOG(B384)+'Calcul courbes'!$C$9),NA())","v":4.7920981994762912E-2},5.495408738575235,5.495408738575235,{"$f":"IF(ROW()<$E$3+1,'Calcul courbes'!$C$10,NA())","v":{"$error":"#N/A"}},{"$error":"#N/A"},{"$error":"#N/A"}]
[0.74999999999991995,5.6234132519024556,{"$f":"4*ATAN(-'Calcul courbes'!$C$2*B385+SQRT(('Calcul courbes'!$C$2)^2*B385^2+'Calcul courbes'!$C$3))","v":5.7856693274089994E-2},{"$f":"IF(ROW()>$E$3+1,('Calcul courbes'!$C$8*LOG(B385)+'Calcul courbes'!$C$9),NA())","v":4.5923267901923442E-2},5.6234132519024556,5.6234132519024556,{"$f":"IF(ROW()<$E$3+1,'Calcul courbes'!$C$10,NA())","v":{"$error":"#N/A"}},{"$error":"#N/A"},{"$error":"#N/A"}]
[0.75999999999991996,5.754399373370509,{"$f":"4*ATAN(-'Calcul courbes'!$C$2*B386+SQRT(('Calcul courbes'!$C$2)^2*B386^2+'Calcul courbes'!$C$3))","v":5.6631801483047063E-2},{"$f":"IF(ROW()>$E$3+1,('Calcul courbes'!$C$8*LOG(B386)+'Calcul courbes'!$C$9),NA())","v":4.3925553809083973E-2},5.754399373370509,5.754399373370509,{"$f":"IF(ROW()<$E$3+1,'Calcul courbes'!$C$10,NA())","v":{"$error":"#N/A"}},{"$error":"#N/A"},{"$error":"#N/A"}]
[0.76999999999991997,5.888436553554806,{"$f":"4*ATAN(-'Calcul courbes'!$C$2*B387+SQRT(('Calcul courbes'!$C$2)^2*B387^2+'Calcul courbes'!$C$3))","v":5.5429185044351174E-2},{"$f":"IF(ROW()>$E$3+1,('Calcul courbes'!$C$8*LOG(B387)+'Calcul courbes'!$C$9),NA())","v":4.1927839716244475E-2},5.888436553554806,5.888436553554806,{"$f":"IF(ROW()<$E$3+1,'Calcul courbes'!$C$10,NA())","v":{"$error":"#N/A"}},{"$error":"#N/A"},{"$error":"#N/A"}]
[0.77999999999991998,6.0255958607424693,{"$f":"4*ATAN(-'Calcul courbes'!$C$2*B388+SQRT(('Calcul courbes'!$C$2)^2*B388^2+'Calcul courbes'!$C$3))","v":5.4248657945922062E-2},{"$f":"IF(ROW()>$E$3+1,('Calcul courbes'!$C$8*LOG(B388)+'Calcul courbes'!$C$9),NA())","v":3.9930125623404977E-2},6.0255958607424693,6.0255958607424693,{"$f":"IF(ROW()<$E$3+1,'Calcul courbes'!$C$10,NA())","v":{"$error":"#N/A"}},{"$error":"#N/A"},{"$error":"#N/A"}]
[0.78999999999991999,6.1659500186136871,{"$f":"4*ATAN(-'Calcul courbes'!$C$2*B389+SQRT(('Calcul courbes'!$C$2)^2*B389^2+'Calcul courbes'!$C$3))","v":5.3090022021222573E-2},{"$f":"IF(ROW()>$E$3+1,('Calcul courbes'!$C$8*LOG(B389)+'Calcul courbes'!$C$9),NA())","v":3.7932411530565507E-2},6.1659500186136871,6.1659500186136871,{"$f":"IF(ROW()<$E$3+1,'Calcul courbes'!$C$10,NA())","v":{"$error":"#N/A"}},{"$error":"#N/A"},{"$error":"#N/A"}]
[0.79999999999992,6.3095734448007716,{"$f":"4*ATAN(-'Calcul courbes'!$C$2*B390+SQRT(('Calcul courbes'!$C$2)^2*B390^2+'Calcul courbes'!$C$3))","v":5.1953067869145393E-2},{"$f":"IF(ROW()>$E$3+1,('Calcul courbes'!$C$8*LOG(B390)+'Calcul courbes'!$C$9),NA())","v":3.593469743772601E-2},6.3095734448007716,6.3095734448007716,{"$f":"IF(ROW()<$E$3+1,'Calcul courbes'!$C$10,NA())","v":{"$error":"#N/A"}},{"$error":"#N/A"},{"$error":"#N/A"}]
[0.80999999999992001,6.4565422903453671,{"$f":"4*ATAN(-'Calcul courbes'!$C$2*B391+SQRT(('Calcul courbes'!$C$2)^2*B391^2+'Calcul courbes'!$C$3))","v":5.0837575746761503E-2},{"$f":"IF(ROW()>$E$3+1,('Calcul courbes'!$C$8*LOG(B391)+'Calcul courbes'!$C$9),NA())","v":3.3936983344886512E-2},6.4565422903453671,6.4565422903453671,{"$f":"IF(ROW()<$E$3+1,'Calcul courbes'!$C$10,NA())","v":{"$error":"#N/A"}},{"$error":"#N/A"},{"$error":"#N/A"}]
[0.81999999999992002,6.6069344800747452,{"$f":"4*ATAN(-'Calcul courbes'!$C$2*B392+SQRT(('Calcul courbes'!$C$2)^2*B392^2+'Calcul courbes'!$C$3))","v":4.9743316433436435E-2},{"$f":"IF(ROW()>$E$3+1,('Calcul courbes'!$C$8*LOG(B392)+'Calcul courbes'!$C$9),NA())","v":3.1939269252047042E-2},6.6069344800747452,6.6069344800747452,{"$f":"IF(ROW()<$E$3+1,'Calcul courbes'!$C$10,NA())","v":{"$error":"#N/A"}},{"$error":"#N/A"},{"$error":"#N/A"}]
[0.82999999999992002,6.760829753918574,{"$f":"4*ATAN(-'Calcul courbes'!$C$2*B393+SQRT(('Calcul courbes'!$C$2)^2*B393^2+'Calcul courbes'!$C$3))","v":4.8670052065106106E-2},{"$f":"IF(ROW()>$E$3+1,('Calcul courbes'!$C$8*LOG(B393)+'Calcul courbes'!$C$9),NA())","v":2.9941555159207545E-2},6.760829753918574,6.760829753918574,{"$f":"IF(ROW()<$E$3+1,'Calcul courbes'!$C$10,NA())","v":{"$error":"#N/A"}},{"$error":"#N/A"},{"$error":"#N/A"}]
[0.83999999999992003,6.918309709188093,{"$f":"4*ATAN(-'Calcul courbes'!$C$2*B394+SQRT(('Calcul courbes'!$C$2)^2*B394^2+'Calcul courbes'!$C$3))","v":4.7617536937775186E-2},{"$f":"IF(ROW()>$E$3+1,('Calcul courbes'!$C$8*LOG(B394)+'Calcul courbes'!$C$9),NA())","v":2.7943841066368075E-2},6.918309709188093,6.918309709188093,{"$f":"IF(ROW()<$E$3+1,'Calcul courbes'!$C$10,NA())","v":{"$error":"#N/A"}},{"$error":"#N/A"},{"$error":"#N/A"}]
[0.84999999999992004,{"$f":"10^A395","v":7.0794578438400766},{"$f":"4*ATAN(-'Calcul courbes'!$C$2*B395+SQRT(('Calcul courbes'!$C$2)^2*B395^2+'Calcul courbes'!$C$3))","v":4.6585518279541056E-2},{"$f":"IF(ROW()>$E$3+1,('Calcul courbes'!$C$8*LOG(B395)+'Calcul courbes'!$C$9),NA())","v":2.5946126973528605E-2},{"$f":"IF(ROW()<$F$3+1,B395,NA())","v":7.0794578438400766},{"$f":"IF(ROW()>$E$3+1,E395,NA())","v":7.0794578438400766},{"$f":"IF(ROW()<$E$3+1,'Calcul courbes'!$C$10,NA())","v":{"$error":"#N/A"}},{"$f":"IF(ROW()>$F$3-1,0,NA())","v":{"$error":"#N/A"}},{"$f":"IF(ROW()=$F$3-1,0,NA())","v":{"$error":"#N/A"}}]
[0.85999999999992005,7.2443596007485684,{"$f":"4*ATAN(-'Calcul courbes'!$C$2*B396+SQRT(('Calcul courbes'!$C$2)^2*B396^2+'Calcul courbes'!$C$3))","v":4.5573736990682019E-2},{"$f":"IF(ROW()>$E$3+1,('Calcul courbes'!$C$8*LOG(B396)+'Calcul courbes'!$C$9),NA())","v":2.3948412880689079E-2},7.2443596007485684,7.2443596007485684,{"$f":"IF(ROW()<$E$3+1,'Calcul courbes'!$C$10,NA())","v":{"$error":"#N/A"}},{"$error":"#N/A"},{"$error":"#N/A"}]
[0.86999999999991995,7.4131024130078096,{"$f":"4*ATAN(-'Calcul courbes'!$C$2*B397+SQRT(('Calcul courbes'!$C$2)^2*B397^2+'Calcul courbes'!$C$3))","v":4.4581928351548027E-2},{"$f":"IF(ROW()>$E$3+1,('Calcul courbes'!$C$8*LOG(B397)+'Calcul courbes'!$C$9),NA())","v":2.1950698787849637E-2},7.4131024130078096,7.4131024130078096,{"$f":"IF(ROW()<$E$3+1,'Calcul courbes'!$C$10,NA())","v":{"$error":"#N/A"}},{"$error":"#N/A"},{"$error":"#N/A"}]
[0.87999999999991996,7.5857757502904395,{"$f":"4*ATAN(-'Calcul courbes'!$C$2*B398+SQRT(('Calcul courbes'!$C$2)^2*B398^2+'Calcul courbes'!$C$3))","v":4.3609822698185197E-2},{"$f":"IF(ROW()>$E$3+1,('Calcul courbes'!$C$8*LOG(B398)+'Calcul courbes'!$C$9),NA())","v":1.9952984695010167E-2},7.5857757502904395,7.5857757502904395,{"$f":"IF(ROW()<$E$3+1,'Calcul courbes'!$C$10,NA())","v":{"$error":"#N/A"}},{"$error":"#N/A"},{"$error":"#N/A"}]
[0.88999999999991997,7.7624711662854899,{"$f":"4*ATAN(-'Calcul courbes'!$C$2*B399+SQRT(('Calcul courbes'!$C$2)^2*B399^2+'Calcul courbes'!$C$3))","v":4.2657146065794092E-2},{"$f":"IF(ROW()>$E$3+1,('Calcul courbes'!$C$8*LOG(B399)+'Calcul courbes'!$C$9),NA())","v":1.7955270602170614E-2},7.7624711662854899,7.7624711662854899,{"$f":"IF(ROW()<$E$3+1,'Calcul courbes'!$C$10,NA())","v":{"$error":"#N/A"}},{"$error":"#N/A"},{"$error":"#N/A"}]
[0.89999999999991998,7.943282347241353,{"$f":"4*ATAN(-'Calcul courbes'!$C$2*B400+SQRT(('Calcul courbes'!$C$2)^2*B400^2+'Calcul courbes'!$C$3))","v":4.1723620800268625E-2},{"$f":"IF(ROW()>$E$3+1,('Calcul courbes'!$C$8*LOG(B400)+'Calcul courbes'!$C$9),NA())","v":1.5957556509331172E-2},7.943282347241353,7.943282347241353,{"$f":"IF(ROW()<$E$3+1,'Calcul courbes'!$C$10,NA())","v":{"$error":"#N/A"}},{"$error":"#N/A"},{"$error":"#N/A"}]
[0.90999999999991998,8.1283051616394957,{"$f":"4*ATAN(-'Calcul courbes'!$C$2*B401+SQRT(('Calcul courbes'!$C$2)^2*B401^2+'Calcul courbes'!$C$3))","v":4.0808966138205623E-2},{"$f":"IF(ROW()>$E$3+1,('Calcul courbes'!$C$8*LOG(B401)+'Calcul courbes'!$C$9),NA())","v":1.3959842416491702E-2},8.1283051616394957,8.1283051616394957,{"$f":"IF(ROW()<$E$3+1,'Calcul courbes'!$C$10,NA())","v":{"$error":"#N/A"}},{"$error":"#N/A"},{"$error":"#N/A"}]
[0.91999999999991999,8.3176377110251778,{"$f":"4*ATAN(-'Calcul courbes'!$C$2*B402+SQRT(('Calcul courbes'!$C$2)^2*B402^2+'Calcul courbes'!$C$3))","v":3.9912898755878175E-2},{"$f":"IF(ROW()>$E$3+1,('Calcul courbes'!$C$8*LOG(B402)+'Calcul courbes'!$C$9),NA())","v":1.1962128323652205E-2},8.3176377110251778,8.3176377110251778,{"$f":"IF(ROW()<$E$3+1,'Calcul courbes'!$C$10,NA())","v":{"$error":"#N/A"}},{"$error":"#N/A"},{"$error":"#N/A"}]
[0.92999999999992,8.5113803820221996,{"$f":"4*ATAN(-'Calcul courbes'!$C$2*B403+SQRT(('Calcul courbes'!$C$2)^2*B403^2+'Calcul courbes'!$C$3))","v":3.9035133287786086E-2},{"$f":"IF(ROW()>$E$3+1,('Calcul courbes'!$C$8*LOG(B403)+'Calcul courbes'!$C$9),NA())","v":9.9644142308127071E-3},8.5113803820221996,8.5113803820221996,{"$f":"IF(ROW()<$E$3+1,'Calcul courbes'!$C$10,NA())","v":{"$error":"#N/A"}},{"$error":"#N/A"},{"$error":"#N/A"}]
[0.93999999999992001,8.7096358995592045,{"$f":"4*ATAN(-'Calcul courbes'!$C$2*B404+SQRT(('Calcul courbes'!$C$2)^2*B404^2+'Calcul courbes'!$C$3))","v":3.8175382815466737E-2},{"$f":"IF(ROW()>$E$3+1,('Calcul courbes'!$C$8*LOG(B404)+'Calcul courbes'!$C$9),NA())","v":7.9667001379732094E-3},8.7096358995592045,8.7096358995592045,{"$f":"IF(ROW()<$E$3+1,'Calcul courbes'!$C$10,NA())","v":{"$error":"#N/A"}},{"$error":"#N/A"},{"$error":"#N/A"}]
[0.94999999999992002,8.9125093813358145,{"$f":"4*ATAN(-'Calcul courbes'!$C$2*B405+SQRT(('Calcul courbes'!$C$2)^2*B405^2+'Calcul courbes'!$C$3))","v":3.7333359327335197E-2},{"$f":"IF(ROW()>$E$3+1,('Calcul courbes'!$C$8*LOG(B405)+'Calcul courbes'!$C$9),NA())","v":5.9689860451337395E-3},8.9125093813358145,8.9125093813358145,{"$f":"IF(ROW()<$E$3+1,'Calcul courbes'!$C$10,NA())","v":{"$error":"#N/A"}},{"$error":"#N/A"},{"$error":"#N/A"}]
[0.95999999999992003,9.1201083935574179,{"$f":"4*ATAN(-'Calcul courbes'!$C$2*B406+SQRT(('Calcul courbes'!$C$2)^2*B406^2+'Calcul courbes'!$C$3))","v":3.6508774150377767E-2},{"$f":"IF(ROW()>$E$3+1,('Calcul courbes'!$C$8*LOG(B406)+'Calcul courbes'!$C$9),NA())","v":3.9712719522942697E-3},9.1201083935574179,9.1201083935574179,{"$f":"IF(ROW()<$E$3+1,'Calcul courbes'!$C$10,NA())","v":{"$error":"#N/A"}},{"$error":"#N/A"},{"$error":"#N/A"}]
[0.96999999999992004,9.3325430079681944,{"$f":"4*ATAN(-'Calcul courbes'!$C$2*B407+SQRT(('Calcul courbes'!$C$2)^2*B407^2+'Calcul courbes'!$C$3))","v":3.570133835457661E-2},{"$f":"IF(ROW()>$E$3+1,('Calcul courbes'!$C$8*LOG(B407)+'Calcul courbes'!$C$9),NA())","v":1.9735578594547443E-3},9.3325430079681944,9.3325430079681944,{"$f":"IF(ROW()<$E$3+1,'Calcul courbes'!$C$10,NA())","v":{"$error":"#N/A"}},{"$error":"#N/A"},0]
[0.97999999999992005,9.5499258602126034,{"$f":"4*ATAN(-'Calcul courbes'!$C$2*B408+SQRT(('Calcul courbes'!$C$2)^2*B408^2+'Calcul courbes'!$C$3))","v":3.4910763130982056E-2},{"$f":"IF(ROW()>$E$3+1,('Calcul courbes'!$C$8*LOG(B408)+'Calcul courbes'!$C$9),NA())","v":-2.4156233384725612E-5},9.5499258602126034,9.5499258602126034,{"$f":"IF(ROW()<$E$3+1,'Calcul courbes'!$C$10,NA())","v":{"$error":"#N/A"}},0,{"$error":"#N/A"}]
[0.98999999999990995,9.7723722095560834,{"$f":"4*ATAN(-'Calcul courbes'!$C$2*B409+SQRT(('Calcul courbes'!$C$2)^2*B409^2+'Calcul courbes'!$C$3))","v":3.413676014437371E-2},{"$f":"IF(ROW()>$E$3+1,('Calcul courbes'!$C$8*LOG(B409)+'Calcul courbes'!$C$9),NA())","v":-2.0218703262221971E-3},{"$error":"#N/A"},{"$error":"#N/A"},{"$f":"IF(ROW()<$E$3+1,'Calcul courbes'!$C$10,NA())","v":{"$error":"#N/A"}},0,{"$error":"#N/A"}]
[0.99999999999990996,9.9999999999979288,{"$f":"4*ATAN(-'Calcul courbes'!$C$2*B410+SQRT(('Calcul courbes'!$C$2)^2*B410^2+'Calcul courbes'!$C$3))","v":3.3379041861479851E-2},{"$f":"IF(ROW()>$E$3+1,('Calcul courbes'!$C$8*LOG(B410)+'Calcul courbes'!$C$9),NA())","v":-4.0195844190616947E-3},{"$error":"#N/A"},{"$error":"#N/A"},{"$f":"IF(ROW()<$E$3+1,'Calcul courbes'!$C$10,NA())","v":{"$error":"#N/A"}},0,{"$error":"#N/A"}]
[1.0099999999999101,10.232929922805425,{"$f":"4*ATAN(-'Calcul courbes'!$C$2*B411+SQRT(('Calcul courbes'!$C$2)^2*B411^2+'Calcul courbes'!$C$3))","v":3.263732185573695E-2},{"$f":"IF(ROW()>$E$3+1,('Calcul courbes'!$C$8*LOG(B411)+'Calcul courbes'!$C$9),NA())","v":-6.0172985119012201E-3},{"$error":"#N/A"},{"$error":"#N/A"},{"$f":"IF(ROW()<$E$3+1,'Calcul courbes'!$C$10,NA())","v":{"$error":"#N/A"}},0,{"$error":"#N/A"}]
[1.0199999999999101,10.471285480506829,{"$f":"4*ATAN(-'Calcul courbes'!$C$2*B412+SQRT(('Calcul courbes'!$C$2)^2*B412^2+'Calcul courbes'!$C$3))","v":3.1911315089571936E-2},{"$f":"IF(ROW()>$E$3+1,('Calcul courbes'!$C$8*LOG(B412)+'Calcul courbes'!$C$9),NA())","v":-8.0150126047406622E-3},{"$error":"#N/A"},{"$error":"#N/A"},{"$f":"IF(ROW()<$E$3+1,'Calcul courbes'!$C$10,NA())","v":{"$error":"#N/A"}},0,{"$error":"#N/A"}]
[1.0299999999999101,10.71519305237385,{"$f":"4*ATAN(-'Calcul courbes'!$C$2*B413+SQRT(('Calcul courbes'!$C$2)^2*B413^2+'Calcul courbes'!$C$3))","v":3.1200738175188779E-2},{"$f":"IF(ROW()>$E$3+1,('Calcul courbes'!$C$8*LOG(B413)+'Calcul courbes'!$C$9),NA())","v":-1.0012726697580188E-2},{"$error":"#N/A"},{"$error":"#N/A"},{"$f":"IF(ROW()<$E$3+1,'Calcul courbes'!$C$10,NA())","v":{"$error":"#N/A"}},0,{"$error":"#N/A"}]
[1.0399999999999101,10.964781961429583,{"$f":"4*ATAN(-'Calcul courbes'!$C$2*B414+SQRT(('Calcul courbes'!$C$2)^2*B414^2+'Calcul courbes'!$C$3))","v":3.0505309614853753E-2},{"$f":"IF(ROW()>$E$3+1,('Calcul courbes'!$C$8*LOG(B414)+'Calcul courbes'!$C$9),NA())","v":-1.2010440790419685E-2},{"$error":"#N/A"},{"$error":"#N/A"},{"$f":"IF(ROW()<$E$3+1,'Calcul courbes'!$C$10,NA())","v":{"$error":"#N/A"}},0,{"$error":"#N/A"}]
[1.0499999999999099,11.220184543017309,{"$f":"4*ATAN(-'Calcul courbes'!$C$2*B415+SQRT(('Calcul courbes'!$C$2)^2*B415^2+'Calcul courbes'!$C$3))","v":2.9824750021637519E-2},{"$f":"IF(ROW()>$E$3+1,('Calcul courbes'!$C$8*LOG(B415)+'Calcul courbes'!$C$9),NA())","v":-1.4008154883259072E-2},{"$error":"#N/A"},{"$error":"#N/A"},{"$f":"IF(ROW()<$E$3+1,'Calcul courbes'!$C$10,NA())","v":{"$error":"#N/A"}},0,{"$error":"#N/A"}]
[1.0599999999999099,11.481536214966447,{"$f":"4*ATAN(-'Calcul courbes'!$C$2*B416+SQRT(('Calcul courbes'!$C$2)^2*B416^2+'Calcul courbes'!$C$3))","v":2.9158782321574581E-2},{"$f":"IF(ROW()>$E$3+1,('Calcul courbes'!$C$8*LOG(B416)+'Calcul courbes'!$C$9),NA())","v":-1.600586897609857E-2},{"$error":"#N/A"},{"$error":"#N/A"},{"$f":"IF(ROW()<$E$3+1,'Calcul courbes'!$C$10,NA())","v":{"$error":"#N/A"}},0,{"$error":"#N/A"}]
[1.0699999999999099,11.748975549392858,{"$f":"4*ATAN(-'Calcul courbes'!$C$2*B417+SQRT(('Calcul courbes'!$C$2)^2*B417^2+'Calcul courbes'!$C$3))","v":2.8507131938184389E-2},{"$f":"IF(ROW()>$E$3+1,('Calcul courbes'!$C$8*LOG(B417)+'Calcul courbes'!$C$9),NA())","v":-1.8003583068938039E-2},{"$error":"#N/A"},{"$error":"#N/A"},{"$f":"IF(ROW()<$E$3+1,'Calcul courbes'!$C$10,NA())","v":{"$error":"#N/A"}},0,{"$error":"#N/A"}]
[1.0799999999999099,12.02264434617164,{"$f":"4*ATAN(-'Calcul courbes'!$C$2*B418+SQRT(('Calcul courbes'!$C$2)^2*B418^2+'Calcul courbes'!$C$3))","v":2.7869526960263583E-2},{"$f":"IF(ROW()>$E$3+1,('Calcul courbes'!$C$8*LOG(B418)+'Calcul courbes'!$C$9),NA())","v":-2.0001297161777593E-2},{"$error":"#N/A"},{"$error":"#N/A"},{"$f":"IF(ROW()<$E$3+1,'Calcul courbes'!$C$10,NA())","v":{"$error":"#N/A"}},0,{"$error":"#N/A"}]
[1.0899999999999099,12.302687708121267,{"$f":"4*ATAN(-'Calcul courbes'!$C$2*B419+SQRT(('Calcul courbes'!$C$2)^2*B419^2+'Calcul courbes'!$C$3))","v":2.7245698293855033E-2},{"$f":"IF(ROW()>$E$3+1,('Calcul courbes'!$C$8*LOG(B419)+'Calcul courbes'!$C$9),NA())","v":-2.1999011254617062E-2},{"$error":"#N/A"},{"$error":"#N/A"},{"$f":"IF(ROW()<$E$3+1,'Calcul courbes'!$C$10,NA())","v":{"$error":"#N/A"}},0,{"$error":"#N/A"}]
[1.0999999999999099,12.589254117939063,{"$f":"4*ATAN(-'Calcul courbes'!$C$2*B420+SQRT(('Calcul courbes'!$C$2)^2*B420^2+'Calcul courbes'!$C$3))","v":2.6635379799252658E-2},{"$f":"IF(ROW()>$E$3+1,('Calcul courbes'!$C$8*LOG(B420)+'Calcul courbes'!$C$9),NA())","v":-2.3996725347456505E-2},{"$error":"#N/A"},{"$error":"#N/A"},{"$f":"IF(ROW()<$E$3+1,'Calcul courbes'!$C$10,NA())","v":{"$error":"#N/A"}},0,{"$error":"#N/A"}]
[1.1099999999999099,12.882495516928675,{"$f":"4*ATAN(-'Calcul courbes'!$C$2*B421+SQRT(('Calcul courbes'!$C$2)^2*B421^2+'Calcul courbes'!$C$3))","v":2.6038308413897825E-2},{"$f":"IF(ROW()>$E$3+1,('Calcul courbes'!$C$8*LOG(B421)+'Calcul courbes'!$C$9),NA())","v":-2.599443944029603E-2},{"$error":"#N/A"},{"$error":"#N/A"},{"$f":"IF(ROW()<$E$3+1,'Calcul courbes'!$C$10,NA())","v":{"$error":"#N/A"}},0,{"$error":"#N/A"}]
[1.11999999999991,13.182567385561342,{"$f":"4*ATAN(-'Calcul courbes'!$C$2*B422+SQRT(('Calcul courbes'!$C$2)^2*B422^2+'Calcul courbes'!$C$3))","v":2.5454224261972792E-2},{"$f":"IF(ROW()>$E$3+1,('Calcul courbes'!$C$8*LOG(B422)+'Calcul courbes'!$C$9),NA())","v":-2.7992153533135528E-2},{"$error":"#N/A"},{"$error":"#N/A"},{"$f":"IF(ROW()<$E$3+1,'Calcul courbes'!$C$10,NA())","v":{"$error":"#N/A"}},0,{"$error":"#N/A"}]
[1.12999999999991,13.489628825913742,{"$f":"4*ATAN(-'Calcul courbes'!$C$2*B423+SQRT(('Calcul courbes'!$C$2)^2*B423^2+'Calcul courbes'!$C$3))","v":2.488287075148397E-2},{"$f":"IF(ROW()>$E$3+1,('Calcul courbes'!$C$8*LOG(B423)+'Calcul courbes'!$C$9),NA())","v":-2.998986762597497E-2},{"$error":"#N/A"},{"$error":"#N/A"},{"$f":"IF(ROW()<$E$3+1,'Calcul courbes'!$C$10,NA())","v":{"$error":"#N/A"}},0,{"$error":"#N/A"}]
[1.13999999999991,13.803842646025988,{"$f":"4*ATAN(-'Calcul courbes'!$C$2*B424+SQRT(('Calcul courbes'!$C$2)^2*B424^2+'Calcul courbes'!$C$3))","v":2.4323994659589409E-2},{"$f":"IF(ROW()>$E$3+1,('Calcul courbes'!$C$8*LOG(B424)+'Calcul courbes'!$C$9),NA())","v":-3.1987581718814467E-2},{"$error":"#N/A"},{"$error":"#N/A"},{"$f":"IF(ROW()<$E$3+1,'Calcul courbes'!$C$10,NA())","v":{"$error":"#N/A"}},0,{"$error":"#N/A"}]
[1.14999999999991,14.125375446224622,{"$f":"4*ATAN(-'Calcul courbes'!$C$2*B425+SQRT(('Calcul courbes'!$C$2)^2*B425^2+'Calcul courbes'!$C$3))","v":2.3777346206899367E-2},{"$f":"IF(ROW()>$E$3+1,('Calcul courbes'!$C$8*LOG(B425)+'Calcul courbes'!$C$9),NA())","v":-3.3985295811653993E-2},{"$error":"#N/A"},{"$error":"#N/A"},{"$f":"IF(ROW()<$E$3+1,'Calcul courbes'!$C$10,NA())","v":{"$error":"#N/A"}},0,{"$error":"#N/A"}]
[1.15999999999991,14.454397707456284,{"$f":"4*ATAN(-'Calcul courbes'!$C$2*B426+SQRT(('Calcul courbes'!$C$2)^2*B426^2+'Calcul courbes'!$C$3))","v":2.3242679121445686E-2},{"$f":"IF(ROW()>$E$3+1,('Calcul courbes'!$C$8*LOG(B426)+'Calcul courbes'!$C$9),NA())","v":-3.598300990449349E-2},{"$error":"#N/A"},{"$error":"#N/A"},{"$f":"IF(ROW()<$E$3+1,'Calcul courbes'!$C$10,NA())","v":{"$error":"#N/A"}},0,{"$error":"#N/A"}]
[1.16999999999991,14.791083881679013,{"$f":"4*ATAN(-'Calcul courbes'!$C$2*B427+SQRT(('Calcul courbes'!$C$2)^2*B427^2+'Calcul courbes'!$C$3))","v":2.2719750692987113E-2},{"$f":"IF(ROW()>$E$3+1,('Calcul courbes'!$C$8*LOG(B427)+'Calcul courbes'!$C$9),NA())","v":-3.798072399733296E-2},{"$error":"#N/A"},{"$error":"#N/A"},{"$f":"IF(ROW()<$E$3+1,'Calcul courbes'!$C$10,NA())","v":{"$error":"#N/A"}},0,{"$error":"#N/A"}]
[1.17999999999991,15.135612484358948,{"$f":"4*ATAN(-'Calcul courbes'!$C$2*B428+SQRT(('Calcul courbes'!$C$2)^2*B428^2+'Calcul courbes'!$C$3))","v":2.2208321818288752E-2},{"$f":"IF(ROW()>$E$3+1,('Calcul courbes'!$C$8*LOG(B428)+'Calcul courbes'!$C$9),NA())","v":-3.9978438090172402E-2},{"$error":"#N/A"},{"$error":"#N/A"},{"$f":"IF(ROW()<$E$3+1,'Calcul courbes'!$C$10,NA())","v":{"$error":"#N/A"}},0,{"$error":"#N/A"}]
[1.18999999999991,15.48816618912161,{"$f":"4*ATAN(-'Calcul courbes'!$C$2*B429+SQRT(('Calcul courbes'!$C$2)^2*B429^2+'Calcul courbes'!$C$3))","v":2.1708157037982324E-2},{"$f":"IF(ROW()>$E$3+1,('Calcul courbes'!$C$8*LOG(B429)+'Calcul courbes'!$C$9),NA())","v":-4.1976152183011928E-2},{"$error":"#N/A"},{"$error":"#N/A"},{"$f":"IF(ROW()<$E$3+1,'Calcul courbes'!$C$10,NA())","v":{"$error":"#N/A"}},0,{"$error":"#N/A"}]
[1.19999999999991,15.848931924607855,{"$f":"4*ATAN(-'Calcul courbes'!$C$2*B430+SQRT(('Calcul courbes'!$C$2)^2*B430^2+'Calcul courbes'!$C$3))","v":2.1219024565583694E-2},{"$f":"IF(ROW()>$E$3+1,('Calcul courbes'!$C$8*LOG(B430)+'Calcul courbes'!$C$9),NA())","v":-4.3973866275851425E-2},{"$error":"#N/A"},{"$error":"#N/A"},{"$f":"IF(ROW()<$E$3+1,'Calcul courbes'!$C$10,NA())","v":{"$error":"#N/A"}},0,{"$error":"#N/A"}]
[1.20999999999991,16.218100973585944,{"$f":"4*ATAN(-'Calcul courbes'!$C$2*B431+SQRT(('Calcul courbes'!$C$2)^2*B431^2+'Calcul courbes'!$C$3))","v":2.0740696309223382E-2},{"$f":"IF(ROW()>$E$3+1,('Calcul courbes'!$C$8*LOG(B431)+'Calcul courbes'!$C$9),NA())","v":-4.5971580368690868E-2},{"$error":"#N/A"},{"$error":"#N/A"},{"$f":"IF(ROW()<$E$3+1,'Calcul courbes'!$C$10,NA())","v":{"$error":"#N/A"}},0,{"$error":"#N/A"}]
[1.21999999999991,16.595869074372171,{"$f":"4*ATAN(-'Calcul courbes'!$C$2*B432+SQRT(('Calcul courbes'!$C$2)^2*B432^2+'Calcul courbes'!$C$3))","v":2.0272947886604817E-2},{"$f":"IF(ROW()>$E$3+1,('Calcul courbes'!$C$8*LOG(B432)+'Calcul courbes'!$C$9),NA())","v":-4.7969294461530365E-2},{"$error":"#N/A"},{"$error":"#N/A"},{"$f":"IF(ROW()<$E$3+1,'Calcul courbes'!$C$10,NA())","v":{"$error":"#N/A"}},0,{"$error":"#N/A"}]
[1.2299999999999101,16.982436524613934,{"$f":"4*ATAN(-'Calcul courbes'!$C$2*B433+SQRT(('Calcul courbes'!$C$2)^2*B433^2+'Calcul courbes'!$C$3))","v":1.9815558633694427E-2},{"$f":"IF(ROW()>$E$3+1,('Calcul courbes'!$C$8*LOG(B433)+'Calcul courbes'!$C$9),NA())","v":-4.9967008554369891E-2},{"$error":"#N/A"},{"$error":"#N/A"},{"$f":"IF(ROW()<$E$3+1,'Calcul courbes'!$C$10,NA())","v":{"$error":"#N/A"}},0,{"$error":"#N/A"}]
[1.2399999999999101,17.378008287490161,{"$f":"4*ATAN(-'Calcul courbes'!$C$2*B434+SQRT(('Calcul courbes'!$C$2)^2*B434^2+'Calcul courbes'!$C$3))","v":1.9368311607599418E-2},{"$f":"IF(ROW()>$E$3+1,('Calcul courbes'!$C$8*LOG(B434)+'Calcul courbes'!$C$9),NA())","v":-5.196472264720936E-2},{"$error":"#N/A"},{"$error":"#N/A"},{"$f":"IF(ROW()<$E$3+1,'Calcul courbes'!$C$10,NA())","v":{"$error":"#N/A"}},0,{"$error":"#N/A"}]
[1.2499999999999101,17.782794100385548,{"$f":"4*ATAN(-'Calcul courbes'!$C$2*B435+SQRT(('Calcul courbes'!$C$2)^2*B435^2+'Calcul courbes'!$C$3))","v":1.8930993584094044E-2},{"$f":"IF(ROW()>$E$3+1,('Calcul courbes'!$C$8*LOG(B435)+'Calcul courbes'!$C$9),NA())","v":-5.3962436740048803E-2},{"$error":"#N/A"},{"$error":"#N/A"},{"$f":"IF(ROW()<$E$3+1,'Calcul courbes'!$C$10,NA())","v":{"$error":"#N/A"}},0,{"$error":"#N/A"}]
[1.2599999999999101,18.197008586096068,{"$f":"4*ATAN(-'Calcul courbes'!$C$2*B436+SQRT(('Calcul courbes'!$C$2)^2*B436^2+'Calcul courbes'!$C$3))","v":1.8503395050196561E-2},{"$f":"IF(ROW()>$E$3+1,('Calcul courbes'!$C$8*LOG(B436)+'Calcul courbes'!$C$9),NA())","v":-5.59601508328883E-2},{"$error":"#N/A"},{"$error":"#N/A"},{"$f":"IF(ROW()<$E$3+1,'Calcul courbes'!$C$10,NA())","v":{"$error":"#N/A"}},0,{"$error":"#N/A"}]
[1.2699999999999101,18.620871366624826,{"$f":"4*ATAN(-'Calcul courbes'!$C$2*B437+SQRT(('Calcul courbes'!$C$2)^2*B437^2+'Calcul courbes'!$C$3))","v":1.8085310192203944E-2},{"$f":"IF(ROW()>$E$3+1,('Calcul courbes'!$C$8*LOG(B437)+'Calcul courbes'!$C$9),NA())","v":-5.7957864925727853E-2},{"$error":"#N/A"},{"$error":"#N/A"},{"$f":"IF(ROW()<$E$3+1,'Calcul courbes'!$C$10,NA())","v":{"$error":"#N/A"}},0,{"$error":"#N/A"}]
[1.2799999999999101,19.054607179628533,{"$f":"4*ATAN(-'Calcul courbes'!$C$2*B438+SQRT(('Calcul courbes'!$C$2)^2*B438^2+'Calcul courbes'!$C$3))","v":1.767653687954918E-2},{"$f":"IF(ROW()>$E$3+1,('Calcul courbes'!$C$8*LOG(B438)+'Calcul courbes'!$C$9),NA())","v":-5.9955579018567295E-2},{"$error":"#N/A"},{"$error":"#N/A"},{"$f":"IF(ROW()<$E$3+1,'Calcul courbes'!$C$10,NA())","v":{"$error":"#N/A"}},0,{"$error":"#N/A"}]
[1.2899999999999101,19.498445997576422,{"$f":"4*ATAN(-'Calcul courbes'!$C$2*B439+SQRT(('Calcul courbes'!$C$2)^2*B439^2+'Calcul courbes'!$C$3))","v":1.7276876644841031E-2},{"$f":"IF(ROW()>$E$3+1,('Calcul courbes'!$C$8*LOG(B439)+'Calcul courbes'!$C$9),NA())","v":-6.1953293111406738E-2},{"$error":"#N/A"},{"$error":"#N/A"},{"$f":"IF(ROW()<$E$3+1,'Calcul courbes'!$C$10,NA())","v":{"$error":"#N/A"}},0,{"$error":"#N/A"}]
[1.2999999999999099,19.952623149684658,{"$f":"4*ATAN(-'Calcul courbes'!$C$2*B440+SQRT(('Calcul courbes'!$C$2)^2*B440^2+'Calcul courbes'!$C$3))","v":1.6886134660401383E-2},{"$f":"IF(ROW()>$E$3+1,('Calcul courbes'!$C$8*LOG(B440)+'Calcul courbes'!$C$9),NA())","v":-6.395100720424618E-2},{"$error":"#N/A"},{"$error":"#N/A"},{"$f":"IF(ROW()<$E$3+1,'Calcul courbes'!$C$10,NA())","v":{"$error":"#N/A"}},0,{"$error":"#N/A"}]
[1.3099999999999099,20.417379446691065,{"$f":"4*ATAN(-'Calcul courbes'!$C$2*B441+SQRT(('Calcul courbes'!$C$2)^2*B441^2+'Calcul courbes'!$C$3))","v":1.6504119711631952E-2},{"$f":"IF(ROW()>$E$3+1,('Calcul courbes'!$C$8*LOG(B441)+'Calcul courbes'!$C$9),NA())","v":-6.5948721297085733E-2},{"$error":"#N/A"},{"$error":"#N/A"},{"$f":"IF(ROW()<$E$3+1,'Calcul courbes'!$C$10,NA())","v":{"$error":"#N/A"}},0,{"$error":"#N/A"}]
[1.3199999999999099,20.892961308536066,{"$f":"4*ATAN(-'Calcul courbes'!$C$2*B442+SQRT(('Calcul courbes'!$C$2)^2*B442^2+'Calcul courbes'!$C$3))","v":1.6130644167474797E-2},{"$f":"IF(ROW()>$E$3+1,('Calcul courbes'!$C$8*LOG(B442)+'Calcul courbes'!$C$9),NA())","v":-6.7946435389925175E-2},{"$error":"#N/A"},{"$error":"#N/A"},{"$f":"IF(ROW()<$E$3+1,'Calcul courbes'!$C$10,NA())","v":{"$error":"#N/A"}},0,{"$error":"#N/A"}]
[1.3299999999999099,21.37962089501789,{"$f":"4*ATAN(-'Calcul courbes'!$C$2*B443+SQRT(('Calcul courbes'!$C$2)^2*B443^2+'Calcul courbes'!$C$3))","v":1.5765523948267784E-2},{"$f":"IF(ROW()>$E$3+1,('Calcul courbes'!$C$8*LOG(B443)+'Calcul courbes'!$C$9),NA())","v":-6.9944149482764673E-2},{"$error":"#N/A"},{"$error":"#N/A"},{"$f":"IF(ROW()<$E$3+1,'Calcul courbes'!$C$10,NA())","v":{"$error":"#N/A"}},0,{"$error":"#N/A"}]
[1.3399999999999099,21.87761623949099,{"$f":"4*ATAN(-'Calcul courbes'!$C$2*B444+SQRT(('Calcul courbes'!$C$2)^2*B444^2+'Calcul courbes'!$C$3))","v":1.5408578491221084E-2},{"$f":"IF(ROW()>$E$3+1,('Calcul courbes'!$C$8*LOG(B444)+'Calcul courbes'!$C$9),NA())","v":-7.194186357560417E-2},{"$error":"#N/A"},{"$error":"#N/A"},{"$f":"IF(ROW()<$E$3+1,'Calcul courbes'!$C$10,NA())","v":{"$error":"#N/A"}},0,{"$error":"#N/A"}]
[1.3499999999999099,22.387211385678764,{"$f":"4*ATAN(-'Calcul courbes'!$C$2*B445+SQRT(('Calcul courbes'!$C$2)^2*B445^2+'Calcul courbes'!$C$3))","v":1.5059630713783951E-2},{"$f":"IF(ROW()>$E$3+1,('Calcul courbes'!$C$8*LOG(B445)+'Calcul courbes'!$C$9),NA())","v":-7.3939577668443668E-2},{"$error":"#N/A"},{"$error":"#N/A"},{"$f":"IF(ROW()<$E$3+1,'Calcul courbes'!$C$10,NA())","v":{"$error":"#N/A"}},0,{"$error":"#N/A"}]
[1.3599999999999099,22.908676527672988,{"$f":"4*ATAN(-'Calcul courbes'!$C$2*B446+SQRT(('Calcul courbes'!$C$2)^2*B446^2+'Calcul courbes'!$C$3))","v":1.4718506975097965E-2},{"$f":"IF(ROW()>$E$3+1,('Calcul courbes'!$C$8*LOG(B446)+'Calcul courbes'!$C$9),NA())","v":-7.5937291761283165E-2},{"$error":"#N/A"},{"$error":"#N/A"},{"$f":"IF(ROW()<$E$3+1,'Calcul courbes'!$C$10,NA())","v":{"$error":"#N/A"}},0,{"$error":"#N/A"}]
[1.36999999999991,23.442288153194365,{"$f":"4*ATAN(-'Calcul courbes'!$C$2*B447+SQRT(('Calcul courbes'!$C$2)^2*B447^2+'Calcul courbes'!$C$3))","v":1.4385037035765103E-2},{"$f":"IF(ROW()>$E$3+1,('Calcul courbes'!$C$8*LOG(B447)+'Calcul courbes'!$C$9),NA())","v":-7.7935005854122608E-2},{"$error":"#N/A"},{"$error":"#N/A"},{"$f":"IF(ROW()<$E$3+1,'Calcul courbes'!$C$10,NA())","v":{"$error":"#N/A"}},0,{"$error":"#N/A"}]
[1.37999999999991,23.988329190189944,{"$f":"4*ATAN(-'Calcul courbes'!$C$2*B448+SQRT(('Calcul courbes'!$C$2)^2*B448^2+'Calcul courbes'!$C$3))","v":1.405905401611572E-2},{"$f":"IF(ROW()>$E$3+1,('Calcul courbes'!$C$8*LOG(B448)+'Calcul courbes'!$C$9),NA())","v":-7.9932719946962161E-2},{"$error":"#N/A"},{"$error":"#N/A"},{"$f":"IF(ROW()<$E$3+1,'Calcul courbes'!$C$10,NA())","v":{"$error":"#N/A"}},0,{"$error":"#N/A"}]
[1.38999999999991,24.547089156845225,{"$f":"4*ATAN(-'Calcul courbes'!$C$2*B449+SQRT(('Calcul courbes'!$C$2)^2*B449^2+'Calcul courbes'!$C$3))","v":1.3740394353157616E-2},{"$f":"IF(ROW()>$E$3+1,('Calcul courbes'!$C$8*LOG(B449)+'Calcul courbes'!$C$9),NA())","v":-8.1930434039801658E-2},{"$error":"#N/A"},{"$error":"#N/A"},{"$f":"IF(ROW()<$E$3+1,'Calcul courbes'!$C$10,NA())","v":{"$error":"#N/A"}},0,{"$error":"#N/A"}]
[1.39999999999991,25.118864315090601,{"$f":"4*ATAN(-'Calcul courbes'!$C$2*B450+SQRT(('Calcul courbes'!$C$2)^2*B450^2+'Calcul courbes'!$C$3))","v":1.3428897756383297E-2},{"$f":"IF(ROW()>$E$3+1,('Calcul courbes'!$C$8*LOG(B450)+'Calcul courbes'!$C$9),NA())","v":-8.3928148132641101E-2},{"$error":"#N/A"},{"$error":"#N/A"},{"$f":"IF(ROW()<$E$3+1,'Calcul courbes'!$C$10,NA())","v":{"$error":"#N/A"}},0,{"$error":"#N/A"}]
[1.40999999999991,25.703957827683315,{"$f":"4*ATAN(-'Calcul courbes'!$C$2*B451+SQRT(('Calcul courbes'!$C$2)^2*B451^2+'Calcul courbes'!$C$3))","v":1.3124407162580986E-2},{"$f":"IF(ROW()>$E$3+1,('Calcul courbes'!$C$8*LOG(B451)+'Calcul courbes'!$C$9),NA())","v":-8.5925862225480543E-2},{"$error":"#N/A"},{"$error":"#N/A"},{"$f":"IF(ROW()<$E$3+1,'Calcul courbes'!$C$10,NA())","v":{"$error":"#N/A"}},0,{"$error":"#N/A"}]
[1.41999999999991,26.302679918948382,{"$f":"4*ATAN(-'Calcul courbes'!$C$2*B452+SQRT(('Calcul courbes'!$C$2)^2*B452^2+'Calcul courbes'!$C$3))","v":1.2826768689805156E-2},{"$f":"IF(ROW()>$E$3+1,('Calcul courbes'!$C$8*LOG(B452)+'Calcul courbes'!$C$9),NA())","v":-8.7923576318320096E-2},{"$error":"#N/A"},{"$error":"#N/A"},{"$f":"IF(ROW()<$E$3+1,'Calcul courbes'!$C$10,NA())","v":{"$error":"#N/A"}},0,{"$error":"#N/A"}]
[1.42999999999991,26.915348039263591,{"$f":"4*ATAN(-'Calcul courbes'!$C$2*B453+SQRT(('Calcul courbes'!$C$2)^2*B453^2+'Calcul courbes'!$C$3))","v":1.2535831590636586E-2},{"$f":"IF(ROW()>$E$3+1,('Calcul courbes'!$C$8*LOG(B453)+'Calcul courbes'!$C$9),NA())","v":-8.9921290411159593E-2},{"$error":"#N/A"},{"$error":"#N/A"},{"$f":"IF(ROW()<$E$3+1,'Calcul courbes'!$C$10,NA())","v":{"$error":"#N/A"}},0,{"$error":"#N/A"}]
[1.43999999999991,27.542287033375963,{"$f":"4*ATAN(-'Calcul courbes'!$C$2*B454+SQRT(('Calcul courbes'!$C$2)^2*B454^2+'Calcul courbes'!$C$3))","v":1.225144820485876E-2},{"$f":"IF(ROW()>$E$3+1,('Calcul courbes'!$C$8*LOG(B454)+'Calcul courbes'!$C$9),NA())","v":-9.1919004503999036E-2},{"$error":"#N/A"},{"$error":"#N/A"},{"$f":"IF(ROW()<$E$3+1,'Calcul courbes'!$C$10,NA())","v":{"$error":"#N/A"}},0,{"$error":"#N/A"}]
[1.44999999999991,28.183829312638704,{"$f":"4*ATAN(-'Calcul courbes'!$C$2*B455+SQRT(('Calcul courbes'!$C$2)^2*B455^2+'Calcul courbes'!$C$3))","v":1.1973473911666851E-2},{"$f":"IF(ROW()>$E$3+1,('Calcul courbes'!$C$8*LOG(B455)+'Calcul courbes'!$C$9),NA())","v":-9.3916718596838533E-2},{"$error":"#N/A"},{"$error":"#N/A"},{"$f":"IF(ROW()<$E$3+1,'Calcul courbes'!$C$10,NA())","v":{"$error":"#N/A"}},0,{"$error":"#N/A"}]
[1.4599999999999,28.840315031259433,{"$f":"4*ATAN(-'Calcul courbes'!$C$2*B456+SQRT(('Calcul courbes'!$C$2)^2*B456^2+'Calcul courbes'!$C$3))","v":1.1701767081519189E-2},{"$f":"IF(ROW()>$E$3+1,('Calcul courbes'!$C$8*LOG(B456)+'Calcul courbes'!$C$9),NA())","v":-9.5914432689676032E-2},{"$error":"#N/A"},{"$error":"#N/A"},{"$f":"IF(ROW()<$E$3+1,'Calcul courbes'!$C$10,NA())","v":{"$error":"#N/A"}},0,{"$error":"#N/A"}]
[1.4699999999999001,29.512092266657074,{"$f":"4*ATAN(-'Calcul courbes'!$C$2*B457+SQRT(('Calcul courbes'!$C$2)^2*B457^2+'Calcul courbes'!$C$3))","v":1.143618902772341E-2},{"$f":"IF(ROW()>$E$3+1,('Calcul courbes'!$C$8*LOG(B457)+'Calcul courbes'!$C$9),NA())","v":-9.791214678251553E-2},{"$error":"#N/A"},{"$error":"#N/A"},{"$f":"IF(ROW()<$E$3+1,'Calcul courbes'!$C$10,NA())","v":{"$error":"#N/A"}},0,{"$error":"#N/A"}]
[1.4799999999999001,30.199517204013215,{"$f":"4*ATAN(-'Calcul courbes'!$C$2*B458+SQRT(('Calcul courbes'!$C$2)^2*B458^2+'Calcul courbes'!$C$3))","v":1.1176603957857011E-2},{"$f":"IF(ROW()>$E$3+1,('Calcul courbes'!$C$8*LOG(B458)+'Calcul courbes'!$C$9),NA())","v":-9.9909860875354972E-2},{"$error":"#N/A"},{"$error":"#N/A"},{"$f":"IF(ROW()<$E$3+1,'Calcul courbes'!$C$10,NA())","v":{"$error":"#N/A"}},0,{"$error":"#N/A"}]
[1.4899999999999001,{"$f":"10^A459","v":30.90295432512881},{"$f":"4*ATAN(-'Calcul courbes'!$C$2*B459+SQRT(('Calcul courbes'!$C$2)^2*B459^2+'Calcul courbes'!$C$3))","v":1.0922878925102431E-2},{"$f":"IF(ROW()>$E$3+1,('Calcul courbes'!$C$8*LOG(B459)+'Calcul courbes'!$C$9),NA())","v":-0.10190757496819453},{"$f":"IF(ROW()<$F$3+1,B459,NA())","v":{"$error":"#N/A"}},{"$f":"IF(ROW()>$E$3+1,E459,NA())","v":{"$error":"#N/A"}},{"$f":"IF(ROW()<$E$3+1,'Calcul courbes'!$C$10,NA())","v":{"$error":"#N/A"}},{"$f":"IF(ROW()>$F$3-1,0,NA())","v":0},{"$f":"IF(ROW()=$F$3-1,0,NA())","v":{"$error":"#N/A"}}]
[1.4999999999999001,31.622776601676531,{"$f":"4*ATAN(-'Calcul courbes'!$C$2*B460+SQRT(('Calcul courbes'!$C$2)^2*B460^2+'Calcul courbes'!$C$3))","v":1.0674883779572831E-2},{"$f":"IF(ROW()>$E$3+1,('Calcul courbes'!$C$8*LOG(B460)+'Calcul courbes'!$C$9),NA())","v":-0.10390528906103397},{"$error":"#N/A"},{"$error":"#N/A"},{"$f":"IF(ROW()<$E$3+1,'Calcul courbes'!$C$10,NA())","v":{"$error":"#N/A"}},0,{"$error":"#N/A"}]
[1.5099999999999001,32.359365692955393,{"$f":"4*ATAN(-'Calcul courbes'!$C$2*B461+SQRT(('Calcul courbes'!$C$2)^2*B461^2+'Calcul courbes'!$C$3))","v":1.0432491119704245E-2},{"$f":"IF(ROW()>$E$3+1,('Calcul courbes'!$C$8*LOG(B461)+'Calcul courbes'!$C$9),NA())","v":-0.10590300315387347},{"$error":"#N/A"},{"$error":"#N/A"},{"$f":"IF(ROW()<$E$3+1,'Calcul courbes'!$C$10,NA())","v":{"$error":"#N/A"}},0,{"$error":"#N/A"}]
[1.5199999999999001,33.113112148251496,{"$f":"4*ATAN(-'Calcul courbes'!$C$2*B462+SQRT(('Calcul courbes'!$C$2)^2*B462^2+'Calcul courbes'!$C$3))","v":1.0195576243770705E-2},{"$f":"IF(ROW()>$E$3+1,('Calcul courbes'!$C$8*LOG(B462)+'Calcul courbes'!$C$9),NA())","v":-0.10790071724671291},{"$error":"#N/A"},{"$error":"#N/A"},{"$f":"IF(ROW()<$E$3+1,'Calcul courbes'!$C$10,NA())","v":{"$error":"#N/A"}},0,{"$error":"#N/A"}]
[1.5299999999999001,33.884415613912473,{"$f":"4*ATAN(-'Calcul courbes'!$C$2*B463+SQRT(('Calcul courbes'!$C$2)^2*B463^2+'Calcul courbes'!$C$3))","v":9.9640171015944155E-3},{"$f":"IF(ROW()>$E$3+1,('Calcul courbes'!$C$8*LOG(B463)+'Calcul courbes'!$C$9),NA())","v":-0.10989843133955246},{"$error":"#N/A"},{"$error":"#N/A"},{"$f":"IF(ROW()<$E$3+1,'Calcul courbes'!$C$10,NA())","v":{"$error":"#N/A"}},0,{"$error":"#N/A"}]
[1.5399999999998999,34.673685045245186,{"$f":"4*ATAN(-'Calcul courbes'!$C$2*B464+SQRT(('Calcul courbes'!$C$2)^2*B464^2+'Calcul courbes'!$C$3))","v":9.7376942464871604E-3},{"$f":"IF(ROW()>$E$3+1,('Calcul courbes'!$C$8*LOG(B464)+'Calcul courbes'!$C$9),NA())","v":-0.1118961454323919},{"$error":"#N/A"},{"$error":"#N/A"},{"$f":"IF(ROW()<$E$3+1,'Calcul courbes'!$C$10,NA())","v":{"$error":"#N/A"}},0,{"$error":"#N/A"}]
[1.5499999999998999,35.481338923349377,{"$f":"4*ATAN(-'Calcul courbes'!$C$2*B465+SQRT(('Calcul courbes'!$C$2)^2*B465^2+'Calcul courbes'!$C$3))","v":9.5164907875029837E-3},{"$f":"IF(ROW()>$E$3+1,('Calcul courbes'!$C$8*LOG(B465)+'Calcul courbes'!$C$9),NA())","v":-0.11389385952523134},{"$error":"#N/A"},{"$error":"#N/A"},{"$f":"IF(ROW()<$E$3+1,'Calcul courbes'!$C$10,NA())","v":{"$error":"#N/A"}},0,{"$error":"#N/A"}]
[1.5599999999998999,36.307805477001772,{"$f":"4*ATAN(-'Calcul courbes'!$C$2*B466+SQRT(('Calcul courbes'!$C$2)^2*B466^2+'Calcul courbes'!$C$3))","v":9.3002923420014236E-3},{"$f":"IF(ROW()>$E$3+1,('Calcul courbes'!$C$8*LOG(B466)+'Calcul courbes'!$C$9),NA())","v":-0.11589157361807084},{"$error":"#N/A"},{"$error":"#N/A"},{"$f":"IF(ROW()<$E$3+1,'Calcul courbes'!$C$10,NA())","v":{"$error":"#N/A"}},0,{"$error":"#N/A"}]
[1.5699999999998999,37.153522909708713,{"$f":"4*ATAN(-'Calcul courbes'!$C$2*B467+SQRT(('Calcul courbes'!$C$2)^2*B467^2+'Calcul courbes'!$C$3))","v":9.088986988611136E-3},{"$f":"IF(ROW()>$E$3+1,('Calcul courbes'!$C$8*LOG(B467)+'Calcul courbes'!$C$9),NA())","v":-0.11788928771091034},{"$error":"#N/A"},{"$error":"#N/A"},{"$f":"IF(ROW()<$E$3+1,'Calcul courbes'!$C$10,NA())","v":{"$error":"#N/A"}},0,{"$error":"#N/A"}]
[1.5799999999998999,38.01893963204737,{"$f":"4*ATAN(-'Calcul courbes'!$C$2*B468+SQRT(('Calcul courbes'!$C$2)^2*B468^2+'Calcul courbes'!$C$3))","v":8.8824652205878023E-3},{"$f":"IF(ROW()>$E$3+1,('Calcul courbes'!$C$8*LOG(B468)+'Calcul courbes'!$C$9),NA())","v":-0.11988700180374984},{"$error":"#N/A"},{"$error":"#N/A"},{"$f":"IF(ROW()<$E$3+1,'Calcul courbes'!$C$10,NA())","v":{"$error":"#N/A"}},0,{"$error":"#N/A"}]
[1.5899999999998999,38.904514499419108,{"$f":"4*ATAN(-'Calcul courbes'!$C$2*B469+SQRT(('Calcul courbes'!$C$2)^2*B469^2+'Calcul courbes'!$C$3))","v":8.680619899638399E-3},{"$f":"IF(ROW()>$E$3+1,('Calcul courbes'!$C$8*LOG(B469)+'Calcul courbes'!$C$9),NA())","v":-0.12188471589658934},{"$error":"#N/A"},{"$error":"#N/A"},{"$f":"IF(ROW()<$E$3+1,'Calcul courbes'!$C$10,NA())","v":{"$error":"#N/A"}},0,{"$error":"#N/A"}]
[1.5999999999998999,39.810717055340561,{"$f":"4*ATAN(-'Calcul courbes'!$C$2*B470+SQRT(('Calcul courbes'!$C$2)^2*B470^2+'Calcul courbes'!$C$3))","v":8.4833462102030487E-3},{"$f":"IF(ROW()>$E$3+1,('Calcul courbes'!$C$8*LOG(B470)+'Calcul courbes'!$C$9),NA())","v":-0.12388242998942878},{"$error":"#N/A"},{"$error":"#N/A"},{"$f":"IF(ROW()<$E$3+1,'Calcul courbes'!$C$10,NA())","v":{"$error":"#N/A"}},0,{"$error":"#N/A"}]
[1.6099999999999,40.738027780401907,{"$f":"4*ATAN(-'Calcul courbes'!$C$2*B471+SQRT(('Calcul courbes'!$C$2)^2*B471^2+'Calcul courbes'!$C$3))","v":8.2905416142513878E-3},{"$f":"IF(ROW()>$E$3+1,('Calcul courbes'!$C$8*LOG(B471)+'Calcul courbes'!$C$9),NA())","v":-0.12588014408226833},{"$error":"#N/A"},{"$error":"#N/A"},{"$f":"IF(ROW()<$E$3+1,'Calcul courbes'!$C$10,NA())","v":{"$error":"#N/A"}},0,{"$error":"#N/A"}]
[1.6199999999999,41.686938347023954,{"$f":"4*ATAN(-'Calcul courbes'!$C$2*B472+SQRT(('Calcul courbes'!$C$2)^2*B472^2+'Calcul courbes'!$C$3))","v":8.102105806603345E-3},{"$f":"IF(ROW()>$E$3+1,('Calcul courbes'!$C$8*LOG(B472)+'Calcul courbes'!$C$9),NA())","v":-0.12787785817510777},{"$error":"#N/A"},{"$error":"#N/A"},{"$f":"IF(ROW()<$E$3+1,'Calcul courbes'!$C$10,NA())","v":{"$error":"#N/A"}},0,{"$error":"#N/A"}]
[1.6299999999999,42.657951880149454,{"$f":"4*ATAN(-'Calcul courbes'!$C$2*B473+SQRT(('Calcul courbes'!$C$2)^2*B473^2+'Calcul courbes'!$C$3))","v":7.9179406707894934E-3},{"$f":"IF(ROW()>$E$3+1,('Calcul courbes'!$C$8*LOG(B473)+'Calcul courbes'!$C$9),NA())","v":-0.12987557226794727},{"$error":"#N/A"},{"$error":"#N/A"},{"$f":"IF(ROW()<$E$3+1,'Calcul courbes'!$C$10,NA())","v":{"$error":"#N/A"}},0,{"$error":"#N/A"}]
[1.6399999999999,43.651583224006551,{"$f":"4*ATAN(-'Calcul courbes'!$C$2*B474+SQRT(('Calcul courbes'!$C$2)^2*B474^2+'Calcul courbes'!$C$3))","v":7.7379502354857129E-3},{"$f":"IF(ROW()>$E$3+1,('Calcul courbes'!$C$8*LOG(B474)+'Calcul courbes'!$C$9),NA())","v":-0.13187328636078671},{"$error":"#N/A"},{"$error":"#N/A"},{"$f":"IF(ROW()<$E$3+1,'Calcul courbes'!$C$10,NA())","v":{"$error":"#N/A"}},0,{"$error":"#N/A"}]
[1.6499999999999,44.668359215086049,{"$f":"4*ATAN(-'Calcul courbes'!$C$2*B475+SQRT(('Calcul courbes'!$C$2)^2*B475^2+'Calcul courbes'!$C$3))","v":7.5620406315240205E-3},{"$f":"IF(ROW()>$E$3+1,('Calcul courbes'!$C$8*LOG(B475)+'Calcul courbes'!$C$9),NA())","v":-0.13387100045362627},{"$error":"#N/A"},{"$error":"#N/A"},{"$f":"IF(ROW()<$E$3+1,'Calcul courbes'!$C$10,NA())","v":{"$error":"#N/A"}},0,{"$error":"#N/A"}]
[1.6599999999999,45.708818961476993,{"$f":"4*ATAN(-'Calcul courbes'!$C$2*B476+SQRT(('Calcul courbes'!$C$2)^2*B476^2+'Calcul courbes'!$C$3))","v":7.3901200494956229E-3},{"$f":"IF(ROW()>$E$3+1,('Calcul courbes'!$C$8*LOG(B476)+'Calcul courbes'!$C$9),NA())","v":-0.13586871454646576},{"$error":"#N/A"},{"$error":"#N/A"},{"$f":"IF(ROW()<$E$3+1,'Calcul courbes'!$C$10,NA())","v":{"$error":"#N/A"}},0,{"$error":"#N/A"}]
[1.6699999999999,46.77351412870906,{"$f":"4*ATAN(-'Calcul courbes'!$C$2*B477+SQRT(('Calcul courbes'!$C$2)^2*B477^2+'Calcul courbes'!$C$3))","v":7.2220986979640292E-3},{"$f":"IF(ROW()>$E$3+1,('Calcul courbes'!$C$8*LOG(B477)+'Calcul courbes'!$C$9),NA())","v":-0.13786642863930521},{"$error":"#N/A"},{"$error":"#N/A"},{"$f":"IF(ROW()<$E$3+1,'Calcul courbes'!$C$10,NA())","v":{"$error":"#N/A"}},0,{"$error":"#N/A"}]
[1.6799999999999,47.863009232252843,{"$f":"4*ATAN(-'Calcul courbes'!$C$2*B478+SQRT(('Calcul courbes'!$C$2)^2*B478^2+'Calcul courbes'!$C$3))","v":7.0578887622918408E-3},{"$f":"IF(ROW()>$E$3+1,('Calcul courbes'!$C$8*LOG(B478)+'Calcul courbes'!$C$9),NA())","v":-0.1398641427321447},{"$error":"#N/A"},{"$error":"#N/A"},{"$f":"IF(ROW()<$E$3+1,'Calcul courbes'!$C$10,NA())","v":{"$error":"#N/A"}},0,{"$error":"#N/A"}]
[1.6899999999999,48.97788193683337,{"$f":"4*ATAN(-'Calcul courbes'!$C$2*B479+SQRT(('Calcul courbes'!$C$2)^2*B479^2+'Calcul courbes'!$C$3))","v":6.8974043640848363E-3},{"$f":"IF(ROW()>$E$3+1,('Calcul courbes'!$C$8*LOG(B479)+'Calcul courbes'!$C$9),NA())","v":-0.1418618568249842},{"$error":"#N/A"},{"$error":"#N/A"},{"$f":"IF(ROW()<$E$3+1,'Calcul courbes'!$C$10,NA())","v":{"$error":"#N/A"}},0,{"$error":"#N/A"}]
[1.6999999999999,50.118723362715706,{"$f":"4*ATAN(-'Calcul courbes'!$C$2*B480+SQRT(('Calcul courbes'!$C$2)^2*B480^2+'Calcul courbes'!$C$3))","v":6.7405615212800451E-3},{"$f":"IF(ROW()>$E$3+1,('Calcul courbes'!$C$8*LOG(B480)+'Calcul courbes'!$C$9),NA())","v":-0.1438595709178237},{"$error":"#N/A"},{"$error":"#N/A"},{"$f":"IF(ROW()<$E$3+1,'Calcul courbes'!$C$10,NA())","v":{"$error":"#N/A"}},0,{"$error":"#N/A"}]
[1.7099999999999,51.286138399124695,{"$f":"4*ATAN(-'Calcul courbes'!$C$2*B481+SQRT(('Calcul courbes'!$C$2)^2*B481^2+'Calcul courbes'!$C$3))","v":6.5872781088530024E-3},{"$f":"IF(ROW()>$E$3+1,('Calcul courbes'!$C$8*LOG(B481)+'Calcul courbes'!$C$9),NA())","v":-0.1458572850106632},{"$error":"#N/A"},{"$error":"#N/A"},{"$f":"IF(ROW()<$E$3+1,'Calcul courbes'!$C$10,NA())","v":{"$error":"#N/A"}},0,{"$error":"#N/A"}]
[1.7199999999999001,52.480746024965214,{"$f":"4*ATAN(-'Calcul courbes'!$C$2*B482+SQRT(('Calcul courbes'!$C$2)^2*B482^2+'Calcul courbes'!$C$3))","v":6.4374738201717673E-3},{"$f":"IF(ROW()>$E$3+1,('Calcul courbes'!$C$8*LOG(B482)+'Calcul courbes'!$C$9),NA())","v":-0.14785499910350264},{"$error":"#N/A"},{"$error":"#N/A"},{"$f":"IF(ROW()<$E$3+1,'Calcul courbes'!$C$10,NA())","v":{"$error":"#N/A"}},0,{"$error":"#N/A"}]
[1.7299999999999001,53.703179637012937,{"$f":"4*ATAN(-'Calcul courbes'!$C$2*B483+SQRT(('Calcul courbes'!$C$2)^2*B483^2+'Calcul courbes'!$C$3))","v":6.2910701289906447E-3},{"$f":"IF(ROW()>$E$3+1,('Calcul courbes'!$C$8*LOG(B483)+'Calcul courbes'!$C$9),NA())","v":-0.14985271319634214},{"$error":"#N/A"},{"$error":"#N/A"},{"$f":"IF(ROW()<$E$3+1,'Calcul courbes'!$C$10,NA())","v":{"$error":"#N/A"}},0,{"$error":"#N/A"}]
[1.7399999999999001,54.95408738574983,{"$f":"4*ATAN(-'Calcul courbes'!$C$2*B484+SQRT(('Calcul courbes'!$C$2)^2*B484^2+'Calcul courbes'!$C$3))","v":6.1479902520809879E-3},{"$f":"IF(ROW()>$E$3+1,('Calcul courbes'!$C$8*LOG(B484)+'Calcul courbes'!$C$9),NA())","v":-0.15185042728918163},{"$error":"#N/A"},{"$error":"#N/A"},{"$f":"IF(ROW()<$E$3+1,'Calcul courbes'!$C$10,NA())","v":{"$error":"#N/A"}},0,{"$error":"#N/A"}]
[1.7499999999999001,56.234132519021983,{"$f":"4*ATAN(-'Calcul courbes'!$C$2*B485+SQRT(('Calcul courbes'!$C$2)^2*B485^2+'Calcul courbes'!$C$3))","v":6.0081591125097896E-3},{"$f":"IF(ROW()>$E$3+1,('Calcul courbes'!$C$8*LOG(B485)+'Calcul courbes'!$C$9),NA())","v":-0.15384814138202108},{"$error":"#N/A"},{"$error":"#N/A"},{"$f":"IF(ROW()<$E$3+1,'Calcul courbes'!$C$10,NA())","v":{"$error":"#N/A"}},0,{"$error":"#N/A"}]
[1.7599999999999001,57.543993733702457,{"$f":"4*ATAN(-'Calcul courbes'!$C$2*B486+SQRT(('Calcul courbes'!$C$2)^2*B486^2+'Calcul courbes'!$C$3))","v":5.8715033035509874E-3},{"$f":"IF(ROW()>$E$3+1,('Calcul courbes'!$C$8*LOG(B486)+'Calcul courbes'!$C$9),NA())","v":-0.15584585547486057},{"$error":"#N/A"},{"$error":"#N/A"},{"$f":"IF(ROW()<$E$3+1,'Calcul courbes'!$C$10,NA())","v":{"$error":"#N/A"}},0,{"$error":"#N/A"}]
[1.7699999999999001,58.884365535545349,{"$f":"4*ATAN(-'Calcul courbes'!$C$2*B487+SQRT(('Calcul courbes'!$C$2)^2*B487^2+'Calcul courbes'!$C$3))","v":5.7379510532481878E-3},{"$f":"IF(ROW()>$E$3+1,('Calcul courbes'!$C$8*LOG(B487)+'Calcul courbes'!$C$9),NA())","v":-0.15784356956770007},{"$error":"#N/A"},{"$error":"#N/A"},{"$f":"IF(ROW()<$E$3+1,'Calcul courbes'!$C$10,NA())","v":{"$error":"#N/A"}},0,{"$error":"#N/A"}]
[1.7799999999999001,60.25595860742196,{"$f":"4*ATAN(-'Calcul courbes'!$C$2*B488+SQRT(('Calcul courbes'!$C$2)^2*B488^2+'Calcul courbes'!$C$3))","v":5.6074321895986275E-3},{"$f":"IF(ROW()>$E$3+1,('Calcul courbes'!$C$8*LOG(B488)+'Calcul courbes'!$C$9),NA())","v":-0.15984128366053957},{"$error":"#N/A"},{"$error":"#N/A"},{"$f":"IF(ROW()<$E$3+1,'Calcul courbes'!$C$10,NA())","v":{"$error":"#N/A"}},0,{"$error":"#N/A"}]
[1.7899999999998999,61.659500186134018,{"$f":"4*ATAN(-'Calcul courbes'!$C$2*B489+SQRT(('Calcul courbes'!$C$2)^2*B489^2+'Calcul courbes'!$C$3))","v":5.4798781063779582E-3},{"$f":"IF(ROW()>$E$3+1,('Calcul courbes'!$C$8*LOG(B489)+'Calcul courbes'!$C$9),NA())","v":-0.16183899775337895},{"$error":"#N/A"},{"$error":"#N/A"},{"$f":"IF(ROW()<$E$3+1,'Calcul courbes'!$C$10,NA())","v":{"$error":"#N/A"}},0,{"$error":"#N/A"}]
[1.7999999999998999,63.095734448004791,{"$f":"4*ATAN(-'Calcul courbes'!$C$2*B490+SQRT(('Calcul courbes'!$C$2)^2*B490^2+'Calcul courbes'!$C$3))","v":5.3552217296032089E-3},{"$f":"IF(ROW()>$E$3+1,('Calcul courbes'!$C$8*LOG(B490)+'Calcul courbes'!$C$9),NA())","v":-0.16383671184621845},{"$error":"#N/A"},{"$error":"#N/A"},{"$f":"IF(ROW()<$E$3+1,'Calcul courbes'!$C$10,NA())","v":{"$error":"#N/A"}},0,{"$error":"#N/A"}]
[1.8099999999998999,64.565422903450667,{"$f":"4*ATAN(-'Calcul courbes'!$C$2*B491+SQRT(('Calcul courbes'!$C$2)^2*B491^2+'Calcul courbes'!$C$3))","v":5.2333974845993189E-3},{"$f":"IF(ROW()>$E$3+1,('Calcul courbes'!$C$8*LOG(B491)+'Calcul courbes'!$C$9),NA())","v":-0.16583442593905795},{"$error":"#N/A"},{"$error":"#N/A"},{"$f":"IF(ROW()<$E$3+1,'Calcul courbes'!$C$10,NA())","v":{"$error":"#N/A"}},0,{"$error":"#N/A"}]
[1.8199999999998999,66.069344800744432,{"$f":"4*ATAN(-'Calcul courbes'!$C$2*B492+SQRT(('Calcul courbes'!$C$2)^2*B492^2+'Calcul courbes'!$C$3))","v":5.11434126370835E-3},{"$f":"IF(ROW()>$E$3+1,('Calcul courbes'!$C$8*LOG(B492)+'Calcul courbes'!$C$9),NA())","v":-0.1678321400318975},{"$error":"#N/A"},{"$error":"#N/A"},{"$f":"IF(ROW()<$E$3+1,'Calcul courbes'!$C$10,NA())","v":{"$error":"#N/A"}},0,{"$error":"#N/A"}]
[1.8299999999998999,67.608297539182644,{"$f":"4*ATAN(-'Calcul courbes'!$C$2*B493+SQRT(('Calcul courbes'!$C$2)^2*B493^2+'Calcul courbes'!$C$3))","v":4.9979903945863297E-3},{"$f":"IF(ROW()>$E$3+1,('Calcul courbes'!$C$8*LOG(B493)+'Calcul courbes'!$C$9),NA())","v":-0.16982985412473695},{"$error":"#N/A"},{"$error":"#N/A"},{"$f":"IF(ROW()<$E$3+1,'Calcul courbes'!$C$10,NA())","v":{"$error":"#N/A"}},0,{"$error":"#N/A"}]
[1.8399999999998999,69.183097091877741,{"$f":"4*ATAN(-'Calcul courbes'!$C$2*B494+SQRT(('Calcul courbes'!$C$2)^2*B494^2+'Calcul courbes'!$C$3))","v":4.8842836091481413E-3},{"$f":"IF(ROW()>$E$3+1,('Calcul courbes'!$C$8*LOG(B494)+'Calcul courbes'!$C$9),NA())","v":-0.17182756821757644},{"$error":"#N/A"},{"$error":"#N/A"},{"$f":"IF(ROW()<$E$3+1,'Calcul courbes'!$C$10,NA())","v":{"$error":"#N/A"}},0,{"$error":"#N/A"}]
[1.8499999999998999,70.794578438397508,{"$f":"4*ATAN(-'Calcul courbes'!$C$2*B495+SQRT(('Calcul courbes'!$C$2)^2*B495^2+'Calcul courbes'!$C$3))","v":4.7731610130645726E-3},{"$f":"IF(ROW()>$E$3+1,('Calcul courbes'!$C$8*LOG(B495)+'Calcul courbes'!$C$9),NA())","v":-0.17382528231041594},{"$error":"#N/A"},{"$error":"#N/A"},{"$f":"IF(ROW()<$E$3+1,'Calcul courbes'!$C$10,NA())","v":{"$error":"#N/A"}},0,{"$error":"#N/A"}]
[1.8599999999999,72.443596007482341,{"$f":"4*ATAN(-'Calcul courbes'!$C$2*B496+SQRT(('Calcul courbes'!$C$2)^2*B496^2+'Calcul courbes'!$C$3))","v":4.6645640558932375E-3},{"$f":"IF(ROW()>$E$3+1,('Calcul courbes'!$C$8*LOG(B496)+'Calcul courbes'!$C$9),NA())","v":-0.17582299640325544},{"$error":"#N/A"},{"$error":"#N/A"},{"$f":"IF(ROW()<$E$3+1,'Calcul courbes'!$C$10,NA())","v":{"$error":"#N/A"}},0,{"$error":"#N/A"}]
[1.8699999999999,74.131024130074692,{"$f":"4*ATAN(-'Calcul courbes'!$C$2*B497+SQRT(('Calcul courbes'!$C$2)^2*B497^2+'Calcul courbes'!$C$3))","v":4.5584355017830053E-3},{"$f":"IF(ROW()>$E$3+1,('Calcul courbes'!$C$8*LOG(B497)+'Calcul courbes'!$C$9),NA())","v":-0.17782071049609488},{"$error":"#N/A"},{"$error":"#N/A"},{"$f":"IF(ROW()<$E$3+1,'Calcul courbes'!$C$10,NA())","v":{"$error":"#N/A"}},0,{"$error":"#N/A"}]
[1.8799999999999,75.85775750290091,{"$f":"4*ATAN(-'Calcul courbes'!$C$2*B498+SQRT(('Calcul courbes'!$C$2)^2*B498^2+'Calcul courbes'!$C$3))","v":4.4547194007608319E-3},{"$f":"IF(ROW()>$E$3+1,('Calcul courbes'!$C$8*LOG(B498)+'Calcul courbes'!$C$9),NA())","v":-0.17981842458893438},{"$error":"#N/A"},{"$error":"#N/A"},{"$f":"IF(ROW()<$E$3+1,'Calcul courbes'!$C$10,NA())","v":{"$error":"#N/A"}},0,{"$error":"#N/A"}]
[1.8899999999999,77.624711662851297,{"$f":"4*ATAN(-'Calcul courbes'!$C$2*B499+SQRT(('Calcul courbes'!$C$2)^2*B499^2+'Calcul courbes'!$C$3))","v":4.3533610605832433E-3},{"$f":"IF(ROW()>$E$3+1,('Calcul courbes'!$C$8*LOG(B499)+'Calcul courbes'!$C$9),NA())","v":-0.18181613868177388},{"$error":"#N/A"},{"$error":"#N/A"},{"$f":"IF(ROW()<$E$3+1,'Calcul courbes'!$C$10,NA())","v":{"$error":"#N/A"}},0,{"$error":"#N/A"}]
[1.8999999999999,79.432823472409922,{"$f":"4*ATAN(-'Calcul courbes'!$C$2*B500+SQRT(('Calcul courbes'!$C$2)^2*B500^2+'Calcul courbes'!$C$3))","v":4.2543070191720361E-3},{"$f":"IF(ROW()>$E$3+1,('Calcul courbes'!$C$8*LOG(B500)+'Calcul courbes'!$C$9),NA())","v":-0.18381385277461343},{"$error":"#N/A"},{"$error":"#N/A"},{"$f":"IF(ROW()<$E$3+1,'Calcul courbes'!$C$10,NA())","v":{"$error":"#N/A"}},0,{"$error":"#N/A"}]
[1.9099999999999,81.283051616391262,{"$f":"4*ATAN(-'Calcul courbes'!$C$2*B501+SQRT(('Calcul courbes'!$C$2)^2*B501^2+'Calcul courbes'!$C$3))","v":4.1575050175880045E-3},{"$f":"IF(ROW()>$E$3+1,('Calcul courbes'!$C$8*LOG(B501)+'Calcul courbes'!$C$9),NA())","v":-0.18581156686745287},{"$error":"#N/A"},{"$error":"#N/A"},{"$f":"IF(ROW()<$E$3+1,'Calcul courbes'!$C$10,NA())","v":{"$error":"#N/A"}},0,{"$error":"#N/A"}]
[1.9199999999999,83.176377110247998,{"$f":"4*ATAN(-'Calcul courbes'!$C$2*B502+SQRT(('Calcul courbes'!$C$2)^2*B502^2+'Calcul courbes'!$C$3))","v":4.0629039735711522E-3},{"$f":"IF(ROW()>$E$3+1,('Calcul courbes'!$C$8*LOG(B502)+'Calcul courbes'!$C$9),NA())","v":-0.18780928096029237},{"$error":"#N/A"},{"$error":"#N/A"},{"$f":"IF(ROW()<$E$3+1,'Calcul courbes'!$C$10,NA())","v":{"$error":"#N/A"}},0,{"$error":"#N/A"}]
[1.9299999999999,85.113803820218081,{"$f":"4*ATAN(-'Calcul courbes'!$C$2*B503+SQRT(('Calcul courbes'!$C$2)^2*B503^2+'Calcul courbes'!$C$3))","v":3.9704539556065302E-3},{"$f":"IF(ROW()>$E$3+1,('Calcul courbes'!$C$8*LOG(B503)+'Calcul courbes'!$C$9),NA())","v":-0.18980699505313187},{"$error":"#N/A"},{"$error":"#N/A"},{"$f":"IF(ROW()<$E$3+1,'Calcul courbes'!$C$10,NA())","v":{"$error":"#N/A"}},0,{"$error":"#N/A"}]
[1.9399999999999,87.096358995588034,{"$f":"4*ATAN(-'Calcul courbes'!$C$2*B504+SQRT(('Calcul courbes'!$C$2)^2*B504^2+'Calcul courbes'!$C$3))","v":3.8801061575334723E-3},{"$f":"IF(ROW()>$E$3+1,('Calcul courbes'!$C$8*LOG(B504)+'Calcul courbes'!$C$9),NA())","v":-0.19180470914597131},{"$error":"#N/A"},{"$error":"#N/A"},{"$f":"IF(ROW()<$E$3+1,'Calcul courbes'!$C$10,NA())","v":{"$error":"#N/A"}},0,{"$error":"#N/A"}]
[1.9499999999999,89.125093813354056,{"$f":"4*ATAN(-'Calcul courbes'!$C$2*B505+SQRT(('Calcul courbes'!$C$2)^2*B505^2+'Calcul courbes'!$C$3))","v":3.7918128736804907E-3},{"$f":"IF(ROW()>$E$3+1,('Calcul courbes'!$C$8*LOG(B505)+'Calcul courbes'!$C$9),NA())","v":-0.19380242323881075},{"$error":"#N/A"},{"$error":"#N/A"},{"$f":"IF(ROW()<$E$3+1,'Calcul courbes'!$C$10,NA())","v":{"$error":"#N/A"}},0,{"$error":"#N/A"}]
[1.9599999999999,91.201083935569983,{"$f":"4*ATAN(-'Calcul courbes'!$C$2*B506+SQRT(('Calcul courbes'!$C$2)^2*B506^2+'Calcul courbes'!$C$3))","v":3.7055274745116198E-3},{"$f":"IF(ROW()>$E$3+1,('Calcul courbes'!$C$8*LOG(B506)+'Calcul courbes'!$C$9),NA())","v":-0.19580013733165025},{"$error":"#N/A"},{"$error":"#N/A"},{"$f":"IF(ROW()<$E$3+1,'Calcul courbes'!$C$10,NA())","v":{"$error":"#N/A"}},0,{"$error":"#N/A"}]
[1.9699999999999001,93.325430079677702,{"$f":"4*ATAN(-'Calcul courbes'!$C$2*B507+SQRT(('Calcul courbes'!$C$2)^2*B507^2+'Calcul courbes'!$C$3))","v":3.6212043827771093E-3},{"$f":"IF(ROW()>$E$3+1,('Calcul courbes'!$C$8*LOG(B507)+'Calcul courbes'!$C$9),NA())","v":-0.19779785142448986},{"$error":"#N/A"},{"$error":"#N/A"},{"$f":"IF(ROW()<$E$3+1,'Calcul courbes'!$C$10,NA())","v":{"$error":"#N/A"}},0,{"$error":"#N/A"}]
[1.9799999999999001,95.499258602121685,{"$f":"4*ATAN(-'Calcul courbes'!$C$2*B508+SQRT(('Calcul courbes'!$C$2)^2*B508^2+'Calcul courbes'!$C$3))","v":3.5387990501738165E-3},{"$f":"IF(ROW()>$E$3+1,('Calcul courbes'!$C$8*LOG(B508)+'Calcul courbes'!$C$9),NA())","v":-0.1997955655173293},{"$error":"#N/A"},{"$error":"#N/A"},{"$f":"IF(ROW()<$E$3+1,'Calcul courbes'!$C$10,NA())","v":{"$error":"#N/A"}},0,{"$error":"#N/A"}]
[1.9899999999999001,97.723722095558642,{"$f":"4*ATAN(-'Calcul courbes'!$C$2*B509+SQRT(('Calcul courbes'!$C$2)^2*B509^2+'Calcul courbes'!$C$3))","v":3.4582679344904244E-3},{"$f":"IF(ROW()>$E$3+1,('Calcul courbes'!$C$8*LOG(B509)+'Calcul courbes'!$C$9),NA())","v":-0.20179327961016874},{"$error":"#N/A"},{"$error":"#N/A"},{"$f":"IF(ROW()<$E$3+1,'Calcul courbes'!$C$10,NA())","v":{"$error":"#N/A"}},0,{"$error":"#N/A"}]
[1.9999999999999001,99.999999999977035,{"$f":"4*ATAN(-'Calcul courbes'!$C$2*B510+SQRT(('Calcul courbes'!$C$2)^2*B510^2+'Calcul courbes'!$C$3))","v":3.3795684772303975E-3},{"$f":"IF(ROW()>$E$3+1,('Calcul courbes'!$C$8*LOG(B510)+'Calcul courbes'!$C$9),NA())","v":-0.20379099370300824},{"$error":"#N/A"},{"$error":"#N/A"},{"$f":"IF(ROW()<$E$3+1,'Calcul courbes'!$C$10,NA())","v":{"$error":"#N/A"}},0,{"$error":"#N/A"}]
[2.0099999999998999,102.32929922805191,{"$f":"4*ATAN(-'Calcul courbes'!$C$2*B511+SQRT(('Calcul courbes'!$C$2)^2*B511^2+'Calcul courbes'!$C$3))","v":3.3026590817268838E-3},{"$f":"IF(ROW()>$E$3+1,('Calcul courbes'!$C$8*LOG(B511)+'Calcul courbes'!$C$9),NA())","v":-0.20578870779584774},{"$error":"#N/A"},{"$error":"#N/A"},{"$f":"IF(ROW()<$E$3+1,'Calcul courbes'!$C$10,NA())","v":{"$error":"#N/A"}},0,{"$error":"#N/A"}]
[2.0199999999999001,104.71285480506589,{"$f":"4*ATAN(-'Calcul courbes'!$C$2*B512+SQRT(('Calcul courbes'!$C$2)^2*B512^2+'Calcul courbes'!$C$3))","v":3.227499091696289E-3},{"$f":"IF(ROW()>$E$3+1,('Calcul courbes'!$C$8*LOG(B512)+'Calcul courbes'!$C$9),NA())","v":-0.20778642188868718},{"$error":"#N/A"},{"$error":"#N/A"},{"$f":"IF(ROW()<$E$3+1,'Calcul courbes'!$C$10,NA())","v":{"$error":"#N/A"}},0,{"$error":"#N/A"}]
[2.0299999999998999,107.15193052373601,{"$f":"4*ATAN(-'Calcul courbes'!$C$2*B513+SQRT(('Calcul courbes'!$C$2)^2*B513^2+'Calcul courbes'!$C$3))","v":3.1540487702731534E-3},{"$f":"IF(ROW()>$E$3+1,('Calcul courbes'!$C$8*LOG(B513)+'Calcul courbes'!$C$9),NA())","v":-0.20978413598152673},{"$error":"#N/A"},{"$error":"#N/A"},{"$f":"IF(ROW()<$E$3+1,'Calcul courbes'!$C$10,NA())","v":{"$error":"#N/A"}},0,{"$error":"#N/A"}]
[2.0399999999999001,109.64781961429328,{"$f":"4*ATAN(-'Calcul courbes'!$C$2*B514+SQRT(('Calcul courbes'!$C$2)^2*B514^2+'Calcul courbes'!$C$3))","v":3.0822692794801555E-3},{"$f":"IF(ROW()>$E$3+1,('Calcul courbes'!$C$8*LOG(B514)+'Calcul courbes'!$C$9),NA())","v":-0.21178185007436617},{"$error":"#N/A"},{"$error":"#N/A"},{"$f":"IF(ROW()<$E$3+1,'Calcul courbes'!$C$10,NA())","v":{"$error":"#N/A"}},0,{"$error":"#N/A"}]
[2.0499999999998999,112.20184543017052,{"$f":"4*ATAN(-'Calcul courbes'!$C$2*B515+SQRT(('Calcul courbes'!$C$2)^2*B515^2+'Calcul courbes'!$C$3))","v":3.0121226601403563E-3},{"$f":"IF(ROW()>$E$3+1,('Calcul courbes'!$C$8*LOG(B515)+'Calcul courbes'!$C$9),NA())","v":-0.21377956416720562},{"$error":"#N/A"},{"$error":"#N/A"},{"$f":"IF(ROW()<$E$3+1,'Calcul courbes'!$C$10,NA())","v":{"$error":"#N/A"}},0,{"$error":"#N/A"}]
[2.0599999999999001,114.81536214966195,{"$f":"4*ATAN(-'Calcul courbes'!$C$2*B516+SQRT(('Calcul courbes'!$C$2)^2*B516^2+'Calcul courbes'!$C$3))","v":2.9435718122263503E-3},{"$f":"IF(ROW()>$E$3+1,('Calcul courbes'!$C$8*LOG(B516)+'Calcul courbes'!$C$9),NA())","v":-0.21577727826004522},{"$error":"#N/A"},{"$error":"#N/A"},{"$f":"IF(ROW()<$E$3+1,'Calcul courbes'!$C$10,NA())","v":{"$error":"#N/A"}},0,{"$error":"#N/A"}]
[2.0699999999998999,117.4897554939259,{"$f":"4*ATAN(-'Calcul courbes'!$C$2*B517+SQRT(('Calcul courbes'!$C$2)^2*B517^2+'Calcul courbes'!$C$3))","v":2.8765804756392356E-3},{"$f":"IF(ROW()>$E$3+1,('Calcul courbes'!$C$8*LOG(B517)+'Calcul courbes'!$C$9),NA())","v":-0.21777499235288456},{"$error":"#N/A"},{"$error":"#N/A"},{"$f":"IF(ROW()<$E$3+1,'Calcul courbes'!$C$10,NA())","v":{"$error":"#N/A"}},0,{"$error":"#N/A"}]
[2.0799999999999002,120.2264434617137,{"$f":"4*ATAN(-'Calcul courbes'!$C$2*B518+SQRT(('Calcul courbes'!$C$2)^2*B518^2+'Calcul courbes'!$C$3))","v":2.8111132113712101E-3},{"$f":"IF(ROW()>$E$3+1,('Calcul courbes'!$C$8*LOG(B518)+'Calcul courbes'!$C$9),NA())","v":-0.21977270644572411},{"$error":"#N/A"},{"$error":"#N/A"},{"$f":"IF(ROW()<$E$3+1,'Calcul courbes'!$C$10,NA())","v":{"$error":"#N/A"}},0,{"$error":"#N/A"}]
[2.0899999999998999,123.0268770812099,{"$f":"4*ATAN(-'Calcul courbes'!$C$2*B519+SQRT(('Calcul courbes'!$C$2)^2*B519^2+'Calcul courbes'!$C$3))","v":2.7471353831299678E-3},{"$f":"IF(ROW()>$E$3+1,('Calcul courbes'!$C$8*LOG(B519)+'Calcul courbes'!$C$9),NA())","v":-0.22177042053856361},{"$error":"#N/A"},{"$error":"#N/A"},{"$f":"IF(ROW()<$E$3+1,'Calcul courbes'!$C$10,NA())","v":{"$error":"#N/A"}},0,{"$error":"#N/A"}]
[2.0999999999999002,125.89254117938781,{"$f":"4*ATAN(-'Calcul courbes'!$C$2*B520+SQRT(('Calcul courbes'!$C$2)^2*B520^2+'Calcul courbes'!$C$3))","v":2.6846131393076502E-3},{"$f":"IF(ROW()>$E$3+1,('Calcul courbes'!$C$8*LOG(B520)+'Calcul courbes'!$C$9),NA())","v":-0.22376813463140305},{"$error":"#N/A"},{"$error":"#N/A"},{"$f":"IF(ROW()<$E$3+1,'Calcul courbes'!$C$10,NA())","v":{"$error":"#N/A"}},0,{"$error":"#N/A"}]
[2.1099999999999,128.82495516928378,{"$f":"4*ATAN(-'Calcul courbes'!$C$2*B521+SQRT(('Calcul courbes'!$C$2)^2*B521^2+'Calcul courbes'!$C$3))","v":2.623513395376077E-3},{"$f":"IF(ROW()>$E$3+1,('Calcul courbes'!$C$8*LOG(B521)+'Calcul courbes'!$C$9),NA())","v":-0.22576584872424249},{"$error":"#N/A"},{"$error":"#N/A"},{"$f":"IF(ROW()<$E$3+1,'Calcul courbes'!$C$10,NA())","v":{"$error":"#N/A"}},0,{"$error":"#N/A"}]
[2.1199999999999002,131.82567385561052,{"$f":"4*ATAN(-'Calcul courbes'!$C$2*B522+SQRT(('Calcul courbes'!$C$2)^2*B522^2+'Calcul courbes'!$C$3))","v":2.5638038166745027E-3},{"$f":"IF(ROW()>$E$3+1,('Calcul courbes'!$C$8*LOG(B522)+'Calcul courbes'!$C$9),NA())","v":-0.22776356281708215},{"$error":"#N/A"},{"$error":"#N/A"},{"$f":"IF(ROW()<$E$3+1,'Calcul courbes'!$C$10,NA())","v":{"$error":"#N/A"}},0,{"$error":"#N/A"}]
[2.1299999999999,{"$f":"10^A523","v":134.89628825913434},{"$f":"4*ATAN(-'Calcul courbes'!$C$2*B523+SQRT(('Calcul courbes'!$C$2)^2*B523^2+'Calcul courbes'!$C$3))","v":2.5054528015330604E-3},{"$f":"IF(ROW()>$E$3+1,('Calcul courbes'!$C$8*LOG(B523)+'Calcul courbes'!$C$9),NA())","v":-0.22976127690992149},{"$f":"IF(ROW()<$F$3+1,B523,NA())","v":{"$error":"#N/A"}},{"$f":"IF(ROW()>$E$3+1,E523,NA())","v":{"$error":"#N/A"}},{"$f":"IF(ROW()<$E$3+1,'Calcul courbes'!$C$10,NA())","v":{"$error":"#N/A"}},{"$f":"IF(ROW()>$F$3-1,0,NA())","v":0},{"$f":"IF(ROW()=$F$3-1,0,NA())","v":{"$error":"#N/A"}}]
[2.1399999999999002,138.03842646025686,{"$f":"4*ATAN(-'Calcul courbes'!$C$2*B524+SQRT(('Calcul courbes'!$C$2)^2*B524^2+'Calcul courbes'!$C$3))","v":2.4484294647851919E-3},{"$f":"IF(ROW()>$E$3+1,('Calcul courbes'!$C$8*LOG(B524)+'Calcul courbes'!$C$9),NA())","v":-0.23175899100276109},{"$error":"#N/A"},{"$error":"#N/A"},{"$f":"IF(ROW()<$E$3+1,'Calcul courbes'!$C$10,NA())","v":{"$error":"#N/A"}},0,{"$error":"#N/A"}]
[2.1499999999999,141.25375446224291,{"$f":"4*ATAN(-'Calcul courbes'!$C$2*B525+SQRT(('Calcul courbes'!$C$2)^2*B525^2+'Calcul courbes'!$C$3))","v":2.3927036216779348E-3},{"$f":"IF(ROW()>$E$3+1,('Calcul courbes'!$C$8*LOG(B525)+'Calcul courbes'!$C$9),NA())","v":-0.23375670509560048},{"$error":"#N/A"},{"$error":"#N/A"},{"$f":"IF(ROW()<$E$3+1,'Calcul courbes'!$C$10,NA())","v":{"$error":"#N/A"}},0,{"$error":"#N/A"}]
[2.1599999999998998,144.54397707455948,{"$f":"4*ATAN(-'Calcul courbes'!$C$2*B526+SQRT(('Calcul courbes'!$C$2)^2*B526^2+'Calcul courbes'!$C$3))","v":2.3382457720841653E-3},{"$f":"IF(ROW()>$E$3+1,('Calcul courbes'!$C$8*LOG(B526)+'Calcul courbes'!$C$9),NA())","v":-0.23575441918843998},{"$error":"#N/A"},{"$error":"#N/A"},{"$f":"IF(ROW()<$E$3+1,'Calcul courbes'!$C$10,NA())","v":{"$error":"#N/A"}},0,{"$error":"#N/A"}]
[2.1699999999999,147.91083881678679,{"$f":"4*ATAN(-'Calcul courbes'!$C$2*B527+SQRT(('Calcul courbes'!$C$2)^2*B527^2+'Calcul courbes'!$C$3))","v":2.2850270850736233E-3},{"$f":"IF(ROW()>$E$3+1,('Calcul courbes'!$C$8*LOG(B527)+'Calcul courbes'!$C$9),NA())","v":-0.23775213328127953},{"$error":"#N/A"},{"$error":"#N/A"},{"$f":"IF(ROW()<$E$3+1,'Calcul courbes'!$C$10,NA())","v":{"$error":"#N/A"}},0,{"$error":"#N/A"}]
[2.1799999999998998,151.35612484358595,{"$f":"4*ATAN(-'Calcul courbes'!$C$2*B528+SQRT(('Calcul courbes'!$C$2)^2*B528^2+'Calcul courbes'!$C$3))","v":2.2330193838498401E-3},{"$f":"IF(ROW()>$E$3+1,('Calcul courbes'!$C$8*LOG(B528)+'Calcul courbes'!$C$9),NA())","v":-0.23974984737411886},{"$error":"#N/A"},{"$error":"#N/A"},{"$f":"IF(ROW()<$E$3+1,'Calcul courbes'!$C$10,NA())","v":{"$error":"#N/A"}},0,{"$error":"#N/A"}]
[2.1899999999999,154.88166189121256,{"$f":"4*ATAN(-'Calcul courbes'!$C$2*B529+SQRT(('Calcul courbes'!$C$2)^2*B529^2+'Calcul courbes'!$C$3))","v":2.1821951310032292E-3},{"$f":"IF(ROW()>$E$3+1,('Calcul courbes'!$C$8*LOG(B529)+'Calcul courbes'!$C$9),NA())","v":-0.24174756146695842},{"$error":"#N/A"},{"$error":"#N/A"},{"$f":"IF(ROW()<$E$3+1,'Calcul courbes'!$C$10,NA())","v":{"$error":"#N/A"}},0,{"$error":"#N/A"}]
[2.1999999999998998,158.48931924607479,{"$f":"4*ATAN(-'Calcul courbes'!$C$2*B530+SQRT(('Calcul courbes'!$C$2)^2*B530^2+'Calcul courbes'!$C$3))","v":2.1325274140803394E-3},{"$f":"IF(ROW()>$E$3+1,('Calcul courbes'!$C$8*LOG(B530)+'Calcul courbes'!$C$9),NA())","v":-0.24374527555979786},{"$error":"#N/A"},{"$error":"#N/A"},{"$f":"IF(ROW()<$E$3+1,'Calcul courbes'!$C$10,NA())","v":{"$error":"#N/A"}},0,{"$error":"#N/A"}]
[2.2099999999999,162.18100973585572,{"$f":"4*ATAN(-'Calcul courbes'!$C$2*B531+SQRT(('Calcul courbes'!$C$2)^2*B531^2+'Calcul courbes'!$C$3))","v":2.0839899314870403E-3},{"$f":"IF(ROW()>$E$3+1,('Calcul courbes'!$C$8*LOG(B531)+'Calcul courbes'!$C$9),NA())","v":-0.24574298965263741},{"$error":"#N/A"},{"$error":"#N/A"},{"$f":"IF(ROW()<$E$3+1,'Calcul courbes'!$C$10,NA())","v":{"$error":"#N/A"}},0,{"$error":"#N/A"}]
[2.2199999999998998,165.95869074371791,{"$f":"4*ATAN(-'Calcul courbes'!$C$2*B532+SQRT(('Calcul courbes'!$C$2)^2*B532^2+'Calcul courbes'!$C$3))","v":2.0365569786972158E-3},{"$f":"IF(ROW()>$E$3+1,('Calcul courbes'!$C$8*LOG(B532)+'Calcul courbes'!$C$9),NA())","v":-0.24774070374547691},{"$error":"#N/A"},{"$error":"#N/A"},{"$f":"IF(ROW()<$E$3+1,'Calcul courbes'!$C$10,NA())","v":{"$error":"#N/A"}},0,{"$error":"#N/A"}]
[2.2299999999999001,169.82436524613536,{"$f":"4*ATAN(-'Calcul courbes'!$C$2*B533+SQRT(('Calcul courbes'!$C$2)^2*B533^2+'Calcul courbes'!$C$3))","v":1.9902034347776269E-3},{"$f":"IF(ROW()>$E$3+1,('Calcul courbes'!$C$8*LOG(B533)+'Calcul courbes'!$C$9),NA())","v":-0.24973841783831635},{"$error":"#N/A"},{"$error":"#N/A"},{"$f":"IF(ROW()<$E$3+1,'Calcul courbes'!$C$10,NA())","v":{"$error":"#N/A"}},0,{"$error":"#N/A"}]
[2.2399999999998998,173.78008287489754,{"$f":"4*ATAN(-'Calcul courbes'!$C$2*B534+SQRT(('Calcul courbes'!$C$2)^2*B534^2+'Calcul courbes'!$C$3))","v":1.9449047492005264E-3},{"$f":"IF(ROW()>$E$3+1,('Calcul courbes'!$C$8*LOG(B534)+'Calcul courbes'!$C$9),NA())","v":-0.25173613193115579},{"$error":"#N/A"},{"$error":"#N/A"},{"$f":"IF(ROW()<$E$3+1,'Calcul courbes'!$C$10,NA())","v":{"$error":"#N/A"}},0,{"$error":"#N/A"}]
[2.2499999999999001,177.82794100385149,{"$f":"4*ATAN(-'Calcul courbes'!$C$2*B535+SQRT(('Calcul courbes'!$C$2)^2*B535^2+'Calcul courbes'!$C$3))","v":1.9006369289511281E-3},{"$f":"IF(ROW()>$E$3+1,('Calcul courbes'!$C$8*LOG(B535)+'Calcul courbes'!$C$9),NA())","v":-0.2537338460239954},{"$error":"#N/A"},{"$error":"#N/A"},{"$f":"IF(ROW()<$E$3+1,'Calcul courbes'!$C$10,NA())","v":{"$error":"#N/A"}},0,{"$error":"#N/A"}]
[2.2599999999998999,181.97008586095643,{"$f":"4*ATAN(-'Calcul courbes'!$C$2*B536+SQRT(('Calcul courbes'!$C$2)^2*B536^2+'Calcul courbes'!$C$3))","v":1.8573765259334845E-3},{"$f":"IF(ROW()>$E$3+1,('Calcul courbes'!$C$8*LOG(B536)+'Calcul courbes'!$C$9),NA())","v":-0.25573156011683479},{"$error":"#N/A"},{"$error":"#N/A"},{"$f":"IF(ROW()<$E$3+1,'Calcul courbes'!$C$10,NA())","v":{"$error":"#N/A"}},0,{"$error":"#N/A"}]
[2.2699999999999001,186.20871366624399,{"$f":"4*ATAN(-'Calcul courbes'!$C$2*B537+SQRT(('Calcul courbes'!$C$2)^2*B537^2+'Calcul courbes'!$C$3))","v":1.8151006246357E-3},{"$f":"IF(ROW()>$E$3+1,('Calcul courbes'!$C$8*LOG(B537)+'Calcul courbes'!$C$9),NA())","v":-0.25772927420967429},{"$error":"#N/A"},{"$error":"#N/A"},{"$f":"IF(ROW()<$E$3+1,'Calcul courbes'!$C$10,NA())","v":{"$error":"#N/A"}},0,{"$error":"#N/A"}]
[2.2799999999998999,190.54607179628096,{"$f":"4*ATAN(-'Calcul courbes'!$C$2*B538+SQRT(('Calcul courbes'!$C$2)^2*B538^2+'Calcul courbes'!$C$3))","v":1.7737868300971048E-3},{"$f":"IF(ROW()>$E$3+1,('Calcul courbes'!$C$8*LOG(B538)+'Calcul courbes'!$C$9),NA())","v":-0.25972698830251384},{"$error":"#N/A"},{"$error":"#N/A"},{"$f":"IF(ROW()<$E$3+1,'Calcul courbes'!$C$10,NA())","v":{"$error":"#N/A"}},0,{"$error":"#N/A"}]
[2.2899999999999001,194.98445997575973,{"$f":"4*ATAN(-'Calcul courbes'!$C$2*B539+SQRT(('Calcul courbes'!$C$2)^2*B539^2+'Calcul courbes'!$C$3))","v":1.733413256127661E-3},{"$f":"IF(ROW()>$E$3+1,('Calcul courbes'!$C$8*LOG(B539)+'Calcul courbes'!$C$9),NA())","v":-0.26172470239535328},{"$error":"#N/A"},{"$error":"#N/A"},{"$f":"IF(ROW()<$E$3+1,'Calcul courbes'!$C$10,NA())","v":{"$error":"#N/A"}},0,{"$error":"#N/A"}]
[2.2999999999998999,199.52623149684212,{"$f":"4*ATAN(-'Calcul courbes'!$C$2*B540+SQRT(('Calcul courbes'!$C$2)^2*B540^2+'Calcul courbes'!$C$3))","v":1.6939585137831469E-3},{"$f":"IF(ROW()>$E$3+1,('Calcul courbes'!$C$8*LOG(B540)+'Calcul courbes'!$C$9),NA())","v":-0.26372241648819283},{"$error":"#N/A"},{"$error":"#N/A"},{"$f":"IF(ROW()<$E$3+1,'Calcul courbes'!$C$10,NA())","v":{"$error":"#N/A"}},0,{"$error":"#N/A"}]
[2.3099999999999001,204.17379446690617,{"$f":"4*ATAN(-'Calcul courbes'!$C$2*B541+SQRT(('Calcul courbes'!$C$2)^2*B541^2+'Calcul courbes'!$C$3))","v":1.6554017001281017E-3},{"$f":"IF(ROW()>$E$3+1,('Calcul courbes'!$C$8*LOG(B541)+'Calcul courbes'!$C$9),NA())","v":-0.26572013058103233},{"$error":"#N/A"},{"$error":"#N/A"},{"$f":"IF(ROW()<$E$3+1,'Calcul courbes'!$C$10,NA())","v":{"$error":"#N/A"}},0,{"$error":"#N/A"}]
[2.3199999999998999,208.9296130853559,{"$f":"4*ATAN(-'Calcul courbes'!$C$2*B542+SQRT(('Calcul courbes'!$C$2)^2*B542^2+'Calcul courbes'!$C$3))","v":1.6177223872154715E-3},{"$f":"IF(ROW()>$E$3+1,('Calcul courbes'!$C$8*LOG(B542)+'Calcul courbes'!$C$9),NA())","v":-0.26771784467387172},{"$error":"#N/A"},{"$error":"#N/A"},{"$f":"IF(ROW()<$E$3+1,'Calcul courbes'!$C$10,NA())","v":{"$error":"#N/A"}},0,{"$error":"#N/A"}]
[2.3299999999999002,213.79620895017422,{"$f":"4*ATAN(-'Calcul courbes'!$C$2*B543+SQRT(('Calcul courbes'!$C$2)^2*B543^2+'Calcul courbes'!$C$3))","v":1.5809006113255946E-3},{"$f":"IF(ROW()>$E$3+1,('Calcul courbes'!$C$8*LOG(B543)+'Calcul courbes'!$C$9),NA())","v":-0.26971555876671133},{"$error":"#N/A"},{"$error":"#N/A"},{"$f":"IF(ROW()<$E$3+1,'Calcul courbes'!$C$10,NA())","v":{"$error":"#N/A"}},0,{"$error":"#N/A"}]
[2.3399999999998999,218.7761623949049,{"$f":"4*ATAN(-'Calcul courbes'!$C$2*B544+SQRT(('Calcul courbes'!$C$2)^2*B544^2+'Calcul courbes'!$C$3))","v":1.5449168624751797E-3},{"$f":"IF(ROW()>$E$3+1,('Calcul courbes'!$C$8*LOG(B544)+'Calcul courbes'!$C$9),NA())","v":-0.27171327285955066},{"$error":"#N/A"},{"$error":"#N/A"},{"$f":"IF(ROW()<$E$3+1,'Calcul courbes'!$C$10,NA())","v":{"$error":"#N/A"}},0,{"$error":"#N/A"}]
[2.3499999999999002,223.87211385678262,{"$f":"4*ATAN(-'Calcul courbes'!$C$2*B545+SQRT(('Calcul courbes'!$C$2)^2*B545^2+'Calcul courbes'!$C$3))","v":1.509752074107467E-3},{"$f":"IF(ROW()>$E$3+1,('Calcul courbes'!$C$8*LOG(B545)+'Calcul courbes'!$C$9),NA())","v":-0.27371098695239027},{"$error":"#N/A"},{"$error":"#N/A"},{"$f":"IF(ROW()<$E$3+1,'Calcul courbes'!$C$10,NA())","v":{"$error":"#N/A"}},0,{"$error":"#N/A"}]
[2.3599999999999,229.08676527672472,{"$f":"4*ATAN(-'Calcul courbes'!$C$2*B546+SQRT(('Calcul courbes'!$C$2)^2*B546^2+'Calcul courbes'!$C$3))","v":1.4753876130559351E-3},{"$f":"IF(ROW()>$E$3+1,('Calcul courbes'!$C$8*LOG(B546)+'Calcul courbes'!$C$9),NA())","v":-0.27570870104522971},{"$error":"#N/A"},{"$error":"#N/A"},{"$f":"IF(ROW()<$E$3+1,'Calcul courbes'!$C$10,NA())","v":{"$error":"#N/A"}},0,{"$error":"#N/A"}]
[2.3699999999999002,234.4228815319384,{"$f":"4*ATAN(-'Calcul courbes'!$C$2*B547+SQRT(('Calcul courbes'!$C$2)^2*B547^2+'Calcul courbes'!$C$3))","v":1.4418052697282718E-3},{"$f":"IF(ROW()>$E$3+1,('Calcul courbes'!$C$8*LOG(B547)+'Calcul courbes'!$C$9),NA())","v":-0.27770641513806915},{"$error":"#N/A"},{"$error":"#N/A"},{"$f":"IF(ROW()<$E$3+1,'Calcul courbes'!$C$10,NA())","v":{"$error":"#N/A"}},0,{"$error":"#N/A"}]
[2.3799999999999,239.88329190189395,{"$f":"4*ATAN(-'Calcul courbes'!$C$2*B548+SQRT(('Calcul courbes'!$C$2)^2*B548^2+'Calcul courbes'!$C$3))","v":1.4089872484786276E-3},{"$f":"IF(ROW()>$E$3+1,('Calcul courbes'!$C$8*LOG(B548)+'Calcul courbes'!$C$9),NA())","v":-0.2797041292309087},{"$error":"#N/A"},{"$error":"#N/A"},{"$f":"IF(ROW()<$E$3+1,'Calcul courbes'!$C$10,NA())","v":{"$error":"#N/A"}},0,{"$error":"#N/A"}]
[2.3899999999999002,245.47089156844686,{"$f":"4*ATAN(-'Calcul courbes'!$C$2*B549+SQRT(('Calcul courbes'!$C$2)^2*B549^2+'Calcul courbes'!$C$3))","v":1.3769161582498695E-3},{"$f":"IF(ROW()>$E$3+1,('Calcul courbes'!$C$8*LOG(B549)+'Calcul courbes'!$C$9),NA())","v":-0.28170184332374826},{"$error":"#N/A"},{"$error":"#N/A"},{"$f":"IF(ROW()<$E$3+1,'Calcul courbes'!$C$10,NA())","v":{"$error":"#N/A"}},0,{"$error":"#N/A"}]
[2.3999999999999,251.18864315090028,{"$f":"4*ATAN(-'Calcul courbes'!$C$2*B550+SQRT(('Calcul courbes'!$C$2)^2*B550^2+'Calcul courbes'!$C$3))","v":1.3455750033757015E-3},{"$f":"IF(ROW()>$E$3+1,('Calcul courbes'!$C$8*LOG(B550)+'Calcul courbes'!$C$9),NA())","v":-0.28369955741658759},{"$error":"#N/A"},{"$error":"#N/A"},{"$f":"IF(ROW()<$E$3+1,'Calcul courbes'!$C$10,NA())","v":{"$error":"#N/A"}},0,{"$error":"#N/A"}]
[2.4099999999998998,257.03957827682729,{"$f":"4*ATAN(-'Calcul courbes'!$C$2*B551+SQRT(('Calcul courbes'!$C$2)^2*B551^2+'Calcul courbes'!$C$3))","v":1.3149471746385711E-3},{"$f":"IF(ROW()>$E$3+1,('Calcul courbes'!$C$8*LOG(B551)+'Calcul courbes'!$C$9),NA())","v":-0.28569727150942714},{"$error":"#N/A"},{"$error":"#N/A"},{"$f":"IF(ROW()<$E$3+1,'Calcul courbes'!$C$10,NA())","v":{"$error":"#N/A"}},0,{"$error":"#N/A"}]
[2.4199999999999,263.02679918947769,{"$f":"4*ATAN(-'Calcul courbes'!$C$2*B552+SQRT(('Calcul courbes'!$C$2)^2*B552^2+'Calcul courbes'!$C$3))","v":1.2850164404448125E-3},{"$f":"IF(ROW()>$E$3+1,('Calcul courbes'!$C$8*LOG(B552)+'Calcul courbes'!$C$9),NA())","v":-0.28769498560226658},{"$error":"#N/A"},{"$error":"#N/A"},{"$f":"IF(ROW()<$E$3+1,'Calcul courbes'!$C$10,NA())","v":{"$error":"#N/A"}},0,{"$error":"#N/A"}]
[2.4299999999998998,269.1534803926296,{"$f":"4*ATAN(-'Calcul courbes'!$C$2*B553+SQRT(('Calcul courbes'!$C$2)^2*B553^2+'Calcul courbes'!$C$3))","v":1.2557669383408429E-3},{"$f":"IF(ROW()>$E$3+1,('Calcul courbes'!$C$8*LOG(B553)+'Calcul courbes'!$C$9),NA())","v":-0.28969269969510603},{"$error":"#N/A"},{"$error":"#N/A"},{"$f":"IF(ROW()<$E$3+1,'Calcul courbes'!$C$10,NA())","v":{"$error":"#N/A"}},0,{"$error":"#N/A"}]
[2.4399999999999,275.42287033375345,{"$f":"4*ATAN(-'Calcul courbes'!$C$2*B554+SQRT(('Calcul courbes'!$C$2)^2*B554^2+'Calcul courbes'!$C$3))","v":1.2271831665719873E-3},{"$f":"IF(ROW()>$E$3+1,('Calcul courbes'!$C$8*LOG(B554)+'Calcul courbes'!$C$9),NA())","v":-0.29169041378794563},{"$error":"#N/A"},{"$error":"#N/A"},{"$f":"IF(ROW()<$E$3+1,'Calcul courbes'!$C$10,NA())","v":{"$error":"#N/A"}},0,{"$error":"#N/A"}]
[2.4499999999998998,281.83829312638045,{"$f":"4*ATAN(-'Calcul courbes'!$C$2*B555+SQRT(('Calcul courbes'!$C$2)^2*B555^2+'Calcul courbes'!$C$3))","v":1.1992499758970922E-3},{"$f":"IF(ROW()>$E$3+1,('Calcul courbes'!$C$8*LOG(B555)+'Calcul courbes'!$C$9),NA())","v":-0.29368812788078497},{"$error":"#N/A"},{"$error":"#N/A"},{"$f":"IF(ROW()<$E$3+1,'Calcul courbes'!$C$10,NA())","v":{"$error":"#N/A"}},0,{"$error":"#N/A"}]
[2.4599999999999,288.40315031259439,{"$f":"4*ATAN(-'Calcul courbes'!$C$2*B556+SQRT(('Calcul courbes'!$C$2)^2*B556^2+'Calcul courbes'!$C$3))","v":1.171952561630511E-3},{"$f":"IF(ROW()>$E$3+1,('Calcul courbes'!$C$8*LOG(B556)+'Calcul courbes'!$C$9),NA())","v":-0.29568584197362463},{"$error":"#N/A"},{"$error":"#N/A"},{"$f":"IF(ROW()<$E$3+1,'Calcul courbes'!$C$10,NA())","v":{"$error":"#N/A"}},0,{"$error":"#N/A"}]
[2.4699999999998998,295.12092266657055,{"$f":"4*ATAN(-'Calcul courbes'!$C$2*B557+SQRT(('Calcul courbes'!$C$2)^2*B557^2+'Calcul courbes'!$C$3))","v":1.1452764557693485E-3},{"$f":"IF(ROW()>$E$3+1,('Calcul courbes'!$C$8*LOG(B557)+'Calcul courbes'!$C$9),NA())","v":-0.29768355606646396},{"$error":"#N/A"},{"$error":"#N/A"},{"$f":"IF(ROW()<$E$3+1,'Calcul courbes'!$C$10,NA())","v":{"$error":"#N/A"}},0,{"$error":"#N/A"}]
[2.4799999999999001,301.99517204013222,{"$f":"4*ATAN(-'Calcul courbes'!$C$2*B558+SQRT(('Calcul courbes'!$C$2)^2*B558^2+'Calcul courbes'!$C$3))","v":1.1192075194120243E-3},{"$f":"IF(ROW()>$E$3+1,('Calcul courbes'!$C$8*LOG(B558)+'Calcul courbes'!$C$9),NA())","v":-0.29968127015930351},{"$error":"#N/A"},{"$error":"#N/A"},{"$f":"IF(ROW()<$E$3+1,'Calcul courbes'!$C$10,NA())","v":{"$error":"#N/A"}},0,{"$error":"#N/A"}]
[2.4899999999998998,309.02954325128803,{"$f":"4*ATAN(-'Calcul courbes'!$C$2*B559+SQRT(('Calcul courbes'!$C$2)^2*B559^2+'Calcul courbes'!$C$3))","v":1.0937319351839387E-3},{"$f":"IF(ROW()>$E$3+1,('Calcul courbes'!$C$8*LOG(B559)+'Calcul courbes'!$C$9),NA())","v":-0.30167898425214301},{"$error":"#N/A"},{"$error":"#N/A"},{"$f":"IF(ROW()<$E$3+1,'Calcul courbes'!$C$10,NA())","v":{"$error":"#N/A"}},0,{"$error":"#N/A"}]
[2.4999999999999001,316.2277660167652,{"$f":"4*ATAN(-'Calcul courbes'!$C$2*B560+SQRT(('Calcul courbes'!$C$2)^2*B560^2+'Calcul courbes'!$C$3))","v":1.0688362000539323E-3},{"$f":"IF(ROW()>$E$3+1,('Calcul courbes'!$C$8*LOG(B560)+'Calcul courbes'!$C$9),NA())","v":-0.30367669834498245},{"$error":"#N/A"},{"$error":"#N/A"},{"$f":"IF(ROW()<$E$3+1,'Calcul courbes'!$C$10,NA())","v":{"$error":"#N/A"}},0,{"$error":"#N/A"}]
[2.5099999999998999,323.59365692955384,{"$f":"4*ATAN(-'Calcul courbes'!$C$2*B561+SQRT(('Calcul courbes'!$C$2)^2*B561^2+'Calcul courbes'!$C$3))","v":1.0445071181081119E-3},{"$f":"IF(ROW()>$E$3+1,('Calcul courbes'!$C$8*LOG(B561)+'Calcul courbes'!$C$9),NA())","v":-0.30567441243782201},{"$error":"#N/A"},{"$error":"#N/A"},{"$f":"IF(ROW()<$E$3+1,'Calcul courbes'!$C$10,NA())","v":{"$error":"#N/A"}},0,{"$error":"#N/A"}]
[2.5199999999999001,331.1311214825152,{"$f":"4*ATAN(-'Calcul courbes'!$C$2*B562+SQRT(('Calcul courbes'!$C$2)^2*B562^2+'Calcul courbes'!$C$3))","v":1.0207317936221001E-3},{"$f":"IF(ROW()>$E$3+1,('Calcul courbes'!$C$8*LOG(B562)+'Calcul courbes'!$C$9),NA())","v":-0.30767212653066156},{"$error":"#N/A"},{"$error":"#N/A"},{"$f":"IF(ROW()<$E$3+1,'Calcul courbes'!$C$10,NA())","v":{"$error":"#N/A"}},0,{"$error":"#N/A"}]
[2.5299999999998999,338.84415613912455,{"$f":"4*ATAN(-'Calcul courbes'!$C$2*B563+SQRT(('Calcul courbes'!$C$2)^2*B563^2+'Calcul courbes'!$C$3))","v":9.9749762418301926E-4},{"$f":"IF(ROW()>$E$3+1,('Calcul courbes'!$C$8*LOG(B563)+'Calcul courbes'!$C$9),NA())","v":-0.30966984062350089},{"$error":"#N/A"},{"$error":"#N/A"},{"$f":"IF(ROW()<$E$3+1,'Calcul courbes'!$C$10,NA())","v":{"$error":"#N/A"}},0,{"$error":"#N/A"}]
[2.5399999999999001,346.73685045245207,{"$f":"4*ATAN(-'Calcul courbes'!$C$2*B564+SQRT(('Calcul courbes'!$C$2)^2*B564^2+'Calcul courbes'!$C$3))","v":9.7479229412411378E-4},{"$f":"IF(ROW()>$E$3+1,('Calcul courbes'!$C$8*LOG(B564)+'Calcul courbes'!$C$9),NA())","v":-0.31166755471634044},{"$error":"#N/A"},{"$error":"#N/A"},{"$f":"IF(ROW()<$E$3+1,'Calcul courbes'!$C$10,NA())","v":{"$error":"#N/A"}},0,{"$error":"#N/A"}]
[2.5499999999998999,354.81338923349404,{"$f":"4*ATAN(-'Calcul courbes'!$C$2*B565+SQRT(('Calcul courbes'!$C$2)^2*B565^2+'Calcul courbes'!$C$3))","v":9.526037679025251E-4},{"$f":"IF(ROW()>$E$3+1,('Calcul courbes'!$C$8*LOG(B565)+'Calcul courbes'!$C$9),NA())","v":-0.31366526880917989},{"$error":"#N/A"},{"$error":"#N/A"},{"$f":"IF(ROW()<$E$3+1,'Calcul courbes'!$C$10,NA())","v":{"$error":"#N/A"}},0,{"$error":"#N/A"}]
[2.5599999999999001,363.07805477001796,{"$f":"4*ATAN(-'Calcul courbes'!$C$2*B566+SQRT(('Calcul courbes'!$C$2)^2*B566^2+'Calcul courbes'!$C$3))","v":9.3092028381102005E-4},{"$f":"IF(ROW()>$E$3+1,('Calcul courbes'!$C$8*LOG(B566)+'Calcul courbes'!$C$9),NA())","v":-0.31566298290201944},{"$error":"#N/A"},{"$error":"#N/A"},{"$f":"IF(ROW()<$E$3+1,'Calcul courbes'!$C$10,NA())","v":{"$error":"#N/A"}},0,{"$error":"#N/A"}]
[2.5699999999998999,371.53522909708721,{"$f":"4*ATAN(-'Calcul courbes'!$C$2*B567+SQRT(('Calcul courbes'!$C$2)^2*B567^2+'Calcul courbes'!$C$3))","v":9.0973034771103291E-4},{"$f":"IF(ROW()>$E$3+1,('Calcul courbes'!$C$8*LOG(B567)+'Calcul courbes'!$C$9),NA())","v":-0.31766069699485888},{"$error":"#N/A"},{"$error":"#N/A"},{"$f":"IF(ROW()<$E$3+1,'Calcul courbes'!$C$10,NA())","v":{"$error":"#N/A"}},0,{"$error":"#N/A"}]
[2.5799999999999002,380.18939632047415,{"$f":"4*ATAN(-'Calcul courbes'!$C$2*B568+SQRT(('Calcul courbes'!$C$2)^2*B568^2+'Calcul courbes'!$C$3))","v":8.8902272697176387E-4},{"$f":"IF(ROW()>$E$3+1,('Calcul courbes'!$C$8*LOG(B568)+'Calcul courbes'!$C$9),NA())","v":-0.31965841108769844},{"$error":"#N/A"},{"$error":"#N/A"},{"$f":"IF(ROW()<$E$3+1,'Calcul courbes'!$C$10,NA())","v":{"$error":"#N/A"}},0,{"$error":"#N/A"}]
[2.5899999999998999,389.04514499419116,{"$f":"4*ATAN(-'Calcul courbes'!$C$2*B569+SQRT(('Calcul courbes'!$C$2)^2*B569^2+'Calcul courbes'!$C$3))","v":8.6878644451585563E-4},{"$f":"IF(ROW()>$E$3+1,('Calcul courbes'!$C$8*LOG(B569)+'Calcul courbes'!$C$9),NA())","v":-0.32165612518053777},{"$error":"#N/A"},{"$error":"#N/A"},{"$f":"IF(ROW()<$E$3+1,'Calcul courbes'!$C$10,NA())","v":{"$error":"#N/A"}},0,{"$error":"#N/A"}]
[2.5999999999999002,398.10717055340604,{"$f":"4*ATAN(-'Calcul courbes'!$C$2*B570+SQRT(('Calcul courbes'!$C$2)^2*B570^2+'Calcul courbes'!$C$3))","v":8.4901077303560035E-4},{"$f":"IF(ROW()>$E$3+1,('Calcul courbes'!$C$8*LOG(B570)+'Calcul courbes'!$C$9),NA())","v":-0.32365383927337743},{"$error":"#N/A"},{"$error":"#N/A"},{"$f":"IF(ROW()<$E$3+1,'Calcul courbes'!$C$10,NA())","v":{"$error":"#N/A"}},0,{"$error":"#N/A"}]
[2.6099999999999,407.38027780401899,{"$f":"4*ATAN(-'Calcul courbes'!$C$2*B571+SQRT(('Calcul courbes'!$C$2)^2*B571^2+'Calcul courbes'!$C$3))","v":8.296852292801974E-4},{"$f":"IF(ROW()>$E$3+1,('Calcul courbes'!$C$8*LOG(B571)+'Calcul courbes'!$C$9),NA())","v":-0.32565155336621676},{"$error":"#N/A"},{"$error":"#N/A"},{"$f":"IF(ROW()<$E$3+1,'Calcul courbes'!$C$10,NA())","v":{"$error":"#N/A"}},0,{"$error":"#N/A"}]
[2.6199999999999002,416.86938347023982,{"$f":"4*ATAN(-'Calcul courbes'!$C$2*B572+SQRT(('Calcul courbes'!$C$2)^2*B572^2+'Calcul courbes'!$C$3))","v":8.1079956852064697E-4},{"$f":"IF(ROW()>$E$3+1,('Calcul courbes'!$C$8*LOG(B572)+'Calcul courbes'!$C$9),NA())","v":-0.32764926745905643},{"$error":"#N/A"},{"$error":"#N/A"},{"$f":"IF(ROW()<$E$3+1,'Calcul courbes'!$C$10,NA())","v":{"$error":"#N/A"}},0,{"$error":"#N/A"}]
[2.6299999999999,426.57951880149477,{"$f":"4*ATAN(-'Calcul courbes'!$C$2*B573+SQRT(('Calcul courbes'!$C$2)^2*B573^2+'Calcul courbes'!$C$3))","v":7.9234377914964415E-4},{"$f":"IF(ROW()>$E$3+1,('Calcul courbes'!$C$8*LOG(B573)+'Calcul courbes'!$C$9),NA())","v":-0.32964698155189587},{"$error":"#N/A"},{"$error":"#N/A"},{"$f":"IF(ROW()<$E$3+1,'Calcul courbes'!$C$10,NA())","v":{"$error":"#N/A"}},0,{"$error":"#N/A"}]
[2.6399999999999002,436.51583224006578,{"$f":"4*ATAN(-'Calcul courbes'!$C$2*B574+SQRT(('Calcul courbes'!$C$2)^2*B574^2+'Calcul courbes'!$C$3))","v":7.7430807733831579E-4},{"$f":"IF(ROW()>$E$3+1,('Calcul courbes'!$C$8*LOG(B574)+'Calcul courbes'!$C$9),NA())","v":-0.33164469564473531},{"$error":"#N/A"},{"$error":"#N/A"},{"$f":"IF(ROW()<$E$3+1,'Calcul courbes'!$C$10,NA())","v":{"$error":"#N/A"}},0,{"$error":"#N/A"}]
[2.6499999999999,446.68359215086053,{"$f":"4*ATAN(-'Calcul courbes'!$C$2*B575+SQRT(('Calcul courbes'!$C$2)^2*B575^2+'Calcul courbes'!$C$3))","v":7.5668290189190811E-4},{"$f":"IF(ROW()>$E$3+1,('Calcul courbes'!$C$8*LOG(B575)+'Calcul courbes'!$C$9),NA())","v":-0.33364240973757486},{"$error":"#N/A"},{"$error":"#N/A"},{"$f":"IF(ROW()<$E$3+1,'Calcul courbes'!$C$10,NA())","v":{"$error":"#N/A"}},0,{"$error":"#N/A"}]
[2.6599999999998998,457.08818961476965,{"$f":"4*ATAN(-'Calcul courbes'!$C$2*B576+SQRT(('Calcul courbes'!$C$2)^2*B576^2+'Calcul courbes'!$C$3))","v":7.3945890920494887E-4},{"$f":"IF(ROW()>$E$3+1,('Calcul courbes'!$C$8*LOG(B576)+'Calcul courbes'!$C$9),NA())","v":-0.33564012383041419},{"$error":"#N/A"},{"$error":"#N/A"},{"$f":"IF(ROW()<$E$3+1,'Calcul courbes'!$C$10,NA())","v":{"$error":"#N/A"}},0,{"$error":"#N/A"}]
[2.6699999999999,467.7351412870907,{"$f":"4*ATAN(-'Calcul courbes'!$C$2*B577+SQRT(('Calcul courbes'!$C$2)^2*B577^2+'Calcul courbes'!$C$3))","v":7.2262696823061968E-4},{"$f":"IF(ROW()>$E$3+1,('Calcul courbes'!$C$8*LOG(B577)+'Calcul courbes'!$C$9),NA())","v":-0.33763783792325375},{"$error":"#N/A"},{"$error":"#N/A"},{"$f":"IF(ROW()<$E$3+1,'Calcul courbes'!$C$10,NA())","v":{"$error":"#N/A"}},0,{"$error":"#N/A"}]
[2.6799999999998998,478.6300923225283,{"$f":"4*ATAN(-'Calcul courbes'!$C$2*B578+SQRT(('Calcul courbes'!$C$2)^2*B578^2+'Calcul courbes'!$C$3))","v":7.0617815573434416E-4},{"$f":"IF(ROW()>$E$3+1,('Calcul courbes'!$C$8*LOG(B578)+'Calcul courbes'!$C$9),NA())","v":-0.33963555201609319},{"$error":"#N/A"},{"$error":"#N/A"},{"$f":"IF(ROW()<$E$3+1,'Calcul courbes'!$C$10,NA())","v":{"$error":"#N/A"}},0,{"$error":"#N/A"}]
[2.6899999999999,489.77881936833353,{"$f":"4*ATAN(-'Calcul courbes'!$C$2*B579+SQRT(('Calcul courbes'!$C$2)^2*B579^2+'Calcul courbes'!$C$3))","v":6.901037515544804E-4},{"$f":"IF(ROW()>$E$3+1,('Calcul courbes'!$C$8*LOG(B579)+'Calcul courbes'!$C$9),NA())","v":-0.34163326610893263},{"$error":"#N/A"},{"$error":"#N/A"},{"$f":"IF(ROW()<$E$3+1,'Calcul courbes'!$C$10,NA())","v":{"$error":"#N/A"}},0,{"$error":"#N/A"}]
[2.6999999999998998,501.18723362715696,{"$f":"4*ATAN(-'Calcul courbes'!$C$2*B580+SQRT(('Calcul courbes'!$C$2)^2*B580^2+'Calcul courbes'!$C$3))","v":6.743952339056462E-4},{"$f":"IF(ROW()>$E$3+1,('Calcul courbes'!$C$8*LOG(B580)+'Calcul courbes'!$C$9),NA())","v":-0.34363098020177218},{"$error":"#N/A"},{"$error":"#N/A"},{"$f":"IF(ROW()<$E$3+1,'Calcul courbes'!$C$10,NA())","v":{"$error":"#N/A"}},0,{"$error":"#N/A"}]
[2.7099999999999,512.86138399124729,{"$f":"4*ATAN(-'Calcul courbes'!$C$2*B581+SQRT(('Calcul courbes'!$C$2)^2*B581^2+'Calcul courbes'!$C$3))","v":6.5904427501599686E-4},{"$f":"IF(ROW()>$E$3+1,('Calcul courbes'!$C$8*LOG(B581)+'Calcul courbes'!$C$9),NA())","v":-0.34562869429461174},{"$error":"#N/A"},{"$error":"#N/A"},{"$f":"IF(ROW()<$E$3+1,'Calcul courbes'!$C$10,NA())","v":{"$error":"#N/A"}},0,{"$error":"#N/A"}]
[2.7199999999998998,524.80746024965174,{"$f":"4*ATAN(-'Calcul courbes'!$C$2*B582+SQRT(('Calcul courbes'!$C$2)^2*B582^2+'Calcul courbes'!$C$3))","v":6.4404273653002496E-4},{"$f":"IF(ROW()>$E$3+1,('Calcul courbes'!$C$8*LOG(B582)+'Calcul courbes'!$C$9),NA())","v":-0.34762640838745107},{"$error":"#N/A"},{"$error":"#N/A"},{"$f":"IF(ROW()<$E$3+1,'Calcul courbes'!$C$10,NA())","v":{"$error":"#N/A"}},0,{"$error":"#N/A"}]
[2.7299999999999001,537.03179637012954,{"$f":"4*ATAN(-'Calcul courbes'!$C$2*B583+SQRT(('Calcul courbes'!$C$2)^2*B583^2+'Calcul courbes'!$C$3))","v":6.2938266537321068E-4},{"$f":"IF(ROW()>$E$3+1,('Calcul courbes'!$C$8*LOG(B583)+'Calcul courbes'!$C$9),NA())","v":-0.34962412248029073},{"$error":"#N/A"},{"$error":"#N/A"},{"$f":"IF(ROW()<$E$3+1,'Calcul courbes'!$C$10,NA())","v":{"$error":"#N/A"}},0,{"$error":"#N/A"}]
[2.7399999999998998,549.54087385749835,{"$f":"4*ATAN(-'Calcul courbes'!$C$2*B584+SQRT(('Calcul courbes'!$C$2)^2*B584^2+'Calcul courbes'!$C$3))","v":6.150562893892992E-4},{"$f":"IF(ROW()>$E$3+1,('Calcul courbes'!$C$8*LOG(B584)+'Calcul courbes'!$C$9),NA())","v":-0.35162183657313018},{"$error":"#N/A"},{"$error":"#N/A"},{"$f":"IF(ROW()<$E$3+1,'Calcul courbes'!$C$10,NA())","v":{"$error":"#N/A"}},0,{"$error":"#N/A"}]
[2.7499999999999001,562.34132519021989,{"$f":"4*ATAN(-'Calcul courbes'!$C$2*B585+SQRT(('Calcul courbes'!$C$2)^2*B585^2+'Calcul courbes'!$C$3))","v":6.0105601336126878E-4},{"$f":"IF(ROW()>$E$3+1,('Calcul courbes'!$C$8*LOG(B585)+'Calcul courbes'!$C$9),NA())","v":-0.35361955066596962},{"$error":"#N/A"},{"$error":"#N/A"},{"$f":"IF(ROW()<$E$3+1,'Calcul courbes'!$C$10,NA())","v":{"$error":"#N/A"}},0,{"$error":"#N/A"}]
[2.7599999999998999,575.43993733702473,{"$f":"4*ATAN(-'Calcul courbes'!$C$2*B586+SQRT(('Calcul courbes'!$C$2)^2*B586^2+'Calcul courbes'!$C$3))","v":5.8737441489019207E-4},{"$f":"IF(ROW()>$E$3+1,('Calcul courbes'!$C$8*LOG(B586)+'Calcul courbes'!$C$9),NA())","v":-0.35561726475880917},{"$error":"#N/A"},{"$error":"#N/A"},{"$f":"IF(ROW()<$E$3+1,'Calcul courbes'!$C$10,NA())","v":{"$error":"#N/A"}},0,{"$error":"#N/A"}]
[2.7699999999999001,{"$f":"10^A587","v":588.84365535545362},{"$f":"4*ATAN(-'Calcul courbes'!$C$2*B587+SQRT(('Calcul courbes'!$C$2)^2*B587^2+'Calcul courbes'!$C$3))","v":5.7400424050146827E-4},{"$f":"IF(ROW()>$E$3+1,('Calcul courbes'!$C$8*LOG(B587)+'Calcul courbes'!$C$9),NA())","v":-0.35761497885164861},{"$f":"IF(ROW()<$F$3+1,B587,NA())","v":{"$error":"#N/A"}},{"$f":"IF(ROW()>$E$3+1,E587,NA())","v":{"$error":"#N/A"}},{"$f":"IF(ROW()<$E$3+1,'Calcul courbes'!$C$10,NA())","v":{"$error":"#N/A"}},{"$f":"IF(ROW()>$F$3-1,0,NA())","v":0},{"$f":"IF(ROW()=$F$3-1,0,NA())","v":{"$error":"#N/A"}}]
[2.7799999999998999,602.55958607421917,{"$f":"4*ATAN(-'Calcul courbes'!$C$2*B588+SQRT(('Calcul courbes'!$C$2)^2*B588^2+'Calcul courbes'!$C$3))","v":5.6093840177947783E-4},{"$f":"IF(ROW()>$E$3+1,('Calcul courbes'!$C$8*LOG(B588)+'Calcul courbes'!$C$9),NA())","v":-0.35961269294448805},{"$error":"#N/A"},{"$error":"#N/A"},{"$f":"IF(ROW()<$E$3+1,'Calcul courbes'!$C$10,NA())","v":{"$error":"#N/A"}},0,{"$error":"#N/A"}]
[2.7899999999999001,616.59500186134085,{"$f":"4*ATAN(-'Calcul courbes'!$C$2*B589+SQRT(('Calcul courbes'!$C$2)^2*B589^2+'Calcul courbes'!$C$3))","v":5.4816997165855618E-4},{"$f":"IF(ROW()>$E$3+1,('Calcul courbes'!$C$8*LOG(B589)+'Calcul courbes'!$C$9),NA())","v":-0.36161040703732761},{"$error":"#N/A"},{"$error":"#N/A"},{"$f":"IF(ROW()<$E$3+1,'Calcul courbes'!$C$10,NA())","v":{"$error":"#N/A"}},0,{"$error":"#N/A"}]
[2.7999999999998999,630.95734448004805,{"$f":"4*ATAN(-'Calcul courbes'!$C$2*B590+SQRT(('Calcul courbes'!$C$2)^2*B590^2+'Calcul courbes'!$C$3))","v":5.3569218069975523E-4},{"$f":"IF(ROW()>$E$3+1,('Calcul courbes'!$C$8*LOG(B590)+'Calcul courbes'!$C$9),NA())","v":-0.36360812113016694},{"$error":"#N/A"},{"$error":"#N/A"},{"$f":"IF(ROW()<$E$3+1,'Calcul courbes'!$C$10,NA())","v":{"$error":"#N/A"}},0,{"$error":"#N/A"}]
[2.8099999999999001,645.65422903450747,{"$f":"4*ATAN(-'Calcul courbes'!$C$2*B591+SQRT(('Calcul courbes'!$C$2)^2*B591^2+'Calcul courbes'!$C$3))","v":5.2349841353813555E-4},{"$f":"IF(ROW()>$E$3+1,('Calcul courbes'!$C$8*LOG(B591)+'Calcul courbes'!$C$9),NA())","v":-0.3656058352230066},{"$error":"#N/A"},{"$error":"#N/A"},{"$f":"IF(ROW()<$E$3+1,'Calcul courbes'!$C$10,NA())","v":{"$error":"#N/A"}},0,{"$error":"#N/A"}]
[2.8199999999998999,660.69344800744443,{"$f":"4*ATAN(-'Calcul courbes'!$C$2*B592+SQRT(('Calcul courbes'!$C$2)^2*B592^2+'Calcul courbes'!$C$3))","v":5.1158220534426872E-4},{"$f":"IF(ROW()>$E$3+1,('Calcul courbes'!$C$8*LOG(B592)+'Calcul courbes'!$C$9),NA())","v":-0.36760354931584605},{"$error":"#N/A"},{"$error":"#N/A"},{"$f":"IF(ROW()<$E$3+1,'Calcul courbes'!$C$10,NA())","v":{"$error":"#N/A"}},0,{"$error":"#N/A"}]
[2.8299999999999002,676.08297539182661,{"$f":"4*ATAN(-'Calcul courbes'!$C$2*B593+SQRT(('Calcul courbes'!$C$2)^2*B593^2+'Calcul courbes'!$C$3))","v":4.9993723847048077E-4},{"$f":"IF(ROW()>$E$3+1,('Calcul courbes'!$C$8*LOG(B593)+'Calcul courbes'!$C$9),NA())","v":-0.36960126340868549},{"$error":"#N/A"},{"$error":"#N/A"},{"$f":"IF(ROW()<$E$3+1,'Calcul courbes'!$C$10,NA())","v":{"$error":"#N/A"}},0,{"$error":"#N/A"}]
[2.8399999999998999,691.83097091877767,{"$f":"4*ATAN(-'Calcul courbes'!$C$2*B594+SQRT(('Calcul courbes'!$C$2)^2*B594^2+'Calcul courbes'!$C$3))","v":4.8855733901182917E-4},{"$f":"IF(ROW()>$E$3+1,('Calcul courbes'!$C$8*LOG(B594)+'Calcul courbes'!$C$9),NA())","v":-0.37159897750152504},{"$error":"#N/A"},{"$error":"#N/A"},{"$f":"IF(ROW()<$E$3+1,'Calcul courbes'!$C$10,NA())","v":{"$error":"#N/A"}},0,{"$error":"#N/A"}]
[2.8499999999999002,707.94578438397593,{"$f":"4*ATAN(-'Calcul courbes'!$C$2*B595+SQRT(('Calcul courbes'!$C$2)^2*B595^2+'Calcul courbes'!$C$3))","v":4.7743647359445464E-4},{"$f":"IF(ROW()>$E$3+1,('Calcul courbes'!$C$8*LOG(B595)+'Calcul courbes'!$C$9),NA())","v":-0.37359669159436459},{"$error":"#N/A"},{"$error":"#N/A"},{"$f":"IF(ROW()<$E$3+1,'Calcul courbes'!$C$10,NA())","v":{"$error":"#N/A"}},0,{"$error":"#N/A"}]
[2.8599999999999,724.43596007482358,{"$f":"4*ATAN(-'Calcul courbes'!$C$2*B596+SQRT(('Calcul courbes'!$C$2)^2*B596^2+'Calcul courbes'!$C$3))","v":4.6656874612129902E-4},{"$f":"IF(ROW()>$E$3+1,('Calcul courbes'!$C$8*LOG(B596)+'Calcul courbes'!$C$9),NA())","v":-0.37559440568720404},{"$error":"#N/A"},{"$error":"#N/A"},{"$f":"IF(ROW()<$E$3+1,'Calcul courbes'!$C$10,NA())","v":{"$error":"#N/A"}},0,{"$error":"#N/A"}]
[2.8699999999999002,741.31024130074775,{"$f":"4*ATAN(-'Calcul courbes'!$C$2*B597+SQRT(('Calcul courbes'!$C$2)^2*B597^2+'Calcul courbes'!$C$3))","v":4.5594839478782962E-4},{"$f":"IF(ROW()>$E$3+1,('Calcul courbes'!$C$8*LOG(B597)+'Calcul courbes'!$C$9),NA())","v":-0.37759211978004348},{"$error":"#N/A"},{"$error":"#N/A"},{"$f":"IF(ROW()<$E$3+1,'Calcul courbes'!$C$10,NA())","v":{"$error":"#N/A"}},0,{"$error":"#N/A"}]
[2.8799999999999,758.57757502900927,{"$f":"4*ATAN(-'Calcul courbes'!$C$2*B598+SQRT(('Calcul courbes'!$C$2)^2*B598^2+'Calcul courbes'!$C$3))","v":4.4556978882775674E-4},{"$f":"IF(ROW()>$E$3+1,('Calcul courbes'!$C$8*LOG(B598)+'Calcul courbes'!$C$9),NA())","v":-0.37958983387288292},{"$error":"#N/A"},{"$error":"#N/A"},{"$f":"IF(ROW()<$E$3+1,'Calcul courbes'!$C$10,NA())","v":{"$error":"#N/A"}},0,{"$error":"#N/A"}]
[2.8899999999999002,776.24711662851382,{"$f":"4*ATAN(-'Calcul courbes'!$C$2*B599+SQRT(('Calcul courbes'!$C$2)^2*B599^2+'Calcul courbes'!$C$3))","v":4.3542742565665527E-4},{"$f":"IF(ROW()>$E$3+1,('Calcul courbes'!$C$8*LOG(B599)+'Calcul courbes'!$C$9),NA())","v":-0.38158754796572247},{"$error":"#N/A"},{"$error":"#N/A"},{"$f":"IF(ROW()<$E$3+1,'Calcul courbes'!$C$10,NA())","v":{"$error":"#N/A"}},0,{"$error":"#N/A"}]
[2.8999999999999,794.32823472409939,{"$f":"4*ATAN(-'Calcul courbes'!$C$2*B600+SQRT(('Calcul courbes'!$C$2)^2*B600^2+'Calcul courbes'!$C$3))","v":4.2551592797295332E-4},{"$f":"IF(ROW()>$E$3+1,('Calcul courbes'!$C$8*LOG(B600)+'Calcul courbes'!$C$9),NA())","v":-0.38358526205856192},{"$error":"#N/A"},{"$error":"#N/A"},{"$f":"IF(ROW()<$E$3+1,'Calcul courbes'!$C$10,NA())","v":{"$error":"#N/A"}},0,{"$error":"#N/A"}]
[2.9099999999998998,812.83051616391208,{"$f":"4*ATAN(-'Calcul courbes'!$C$2*B601+SQRT(('Calcul courbes'!$C$2)^2*B601^2+'Calcul courbes'!$C$3))","v":4.1583004080207711E-4},{"$f":"IF(ROW()>$E$3+1,('Calcul courbes'!$C$8*LOG(B601)+'Calcul courbes'!$C$9),NA())","v":-0.38558297615140125},{"$error":"#N/A"},{"$error":"#N/A"},{"$f":"IF(ROW()<$E$3+1,'Calcul courbes'!$C$10,NA())","v":{"$error":"#N/A"}},0,{"$error":"#N/A"}]
[2.9199999999999,831.76377110248006,{"$f":"4*ATAN(-'Calcul courbes'!$C$2*B602+SQRT(('Calcul courbes'!$C$2)^2*B602^2+'Calcul courbes'!$C$3))","v":4.0636462881060221E-4},{"$f":"IF(ROW()>$E$3+1,('Calcul courbes'!$C$8*LOG(B602)+'Calcul courbes'!$C$9),NA())","v":-0.38758069024424091},{"$error":"#N/A"},{"$error":"#N/A"},{"$f":"IF(ROW()<$E$3+1,'Calcul courbes'!$C$10,NA())","v":{"$error":"#N/A"}},0,{"$error":"#N/A"}]
[2.9299999999998998,851.13803820218027,{"$f":"4*ATAN(-'Calcul courbes'!$C$2*B603+SQRT(('Calcul courbes'!$C$2)^2*B603^2+'Calcul courbes'!$C$3))","v":3.9711467354935004E-4},{"$f":"IF(ROW()>$E$3+1,('Calcul courbes'!$C$8*LOG(B603)+'Calcul courbes'!$C$9),NA())","v":-0.38957840433708024},{"$error":"#N/A"},{"$error":"#N/A"},{"$f":"IF(ROW()<$E$3+1,'Calcul courbes'!$C$10,NA())","v":{"$error":"#N/A"}},0,{"$error":"#N/A"}]
[2.9399999999999,870.96358995588059,{"$f":"4*ATAN(-'Calcul courbes'!$C$2*B604+SQRT(('Calcul courbes'!$C$2)^2*B604^2+'Calcul courbes'!$C$3))","v":3.8807527076753864E-4},{"$f":"IF(ROW()>$E$3+1,('Calcul courbes'!$C$8*LOG(B604)+'Calcul courbes'!$C$9),NA())","v":-0.39157611842991991},{"$error":"#N/A"},{"$error":"#N/A"},{"$f":"IF(ROW()<$E$3+1,'Calcul courbes'!$C$10,NA())","v":{"$error":"#N/A"}},0,{"$error":"#N/A"}]
[2.9499999999998998,891.25093813354067,{"$f":"4*ATAN(-'Calcul courbes'!$C$2*B605+SQRT(('Calcul courbes'!$C$2)^2*B605^2+'Calcul courbes'!$C$3))","v":3.7924162786904191E-4},{"$f":"IF(ROW()>$E$3+1,('Calcul courbes'!$C$8*LOG(B605)+'Calcul courbes'!$C$9),NA())","v":-0.39357383252275935},{"$error":"#N/A"},{"$error":"#N/A"},{"$f":"IF(ROW()<$E$3+1,'Calcul courbes'!$C$10,NA())","v":{"$error":"#N/A"}},0,{"$error":"#N/A"}]
[2.9599999999999,912.01083935570011,{"$f":"4*ATAN(-'Calcul courbes'!$C$2*B606+SQRT(('Calcul courbes'!$C$2)^2*B606^2+'Calcul courbes'!$C$3))","v":3.7060906129759416E-4},{"$f":"IF(ROW()>$E$3+1,('Calcul courbes'!$C$8*LOG(B606)+'Calcul courbes'!$C$9),NA())","v":-0.39557154661559879},{"$error":"#N/A"},{"$error":"#N/A"},{"$f":"IF(ROW()<$E$3+1,'Calcul courbes'!$C$10,NA())","v":{"$error":"#N/A"}},0,{"$error":"#N/A"}]
[2.9699999999998998,933.25430079677642,{"$f":"4*ATAN(-'Calcul courbes'!$C$2*B607+SQRT(('Calcul courbes'!$C$2)^2*B607^2+'Calcul courbes'!$C$3))","v":3.6217299414936847E-4},{"$f":"IF(ROW()>$E$3+1,('Calcul courbes'!$C$8*LOG(B607)+'Calcul courbes'!$C$9),NA())","v":-0.39756926070843834},{"$error":"#N/A"},{"$error":"#N/A"},{"$f":"IF(ROW()<$E$3+1,'Calcul courbes'!$C$10,NA())","v":{"$error":"#N/A"}},0,{"$error":"#N/A"}]
[2.9799999999999001,954.99258602121711,{"$f":"4*ATAN(-'Calcul courbes'!$C$2*B608+SQRT(('Calcul courbes'!$C$2)^2*B608^2+'Calcul courbes'!$C$3))","v":3.5392895365765707E-4},{"$f":"IF(ROW()>$E$3+1,('Calcul courbes'!$C$8*LOG(B608)+'Calcul courbes'!$C$9),NA())","v":-0.39956697480127779},{"$error":"#N/A"},{"$error":"#N/A"},{"$f":"IF(ROW()<$E$3+1,'Calcul courbes'!$C$10,NA())","v":{"$error":"#N/A"}},0,{"$error":"#N/A"}]
[2.9899999999998998,977.23722095558571,{"$f":"4*ATAN(-'Calcul courbes'!$C$2*B609+SQRT(('Calcul courbes'!$C$2)^2*B609^2+'Calcul courbes'!$C$3))","v":3.4587256887650374E-4},{"$f":"IF(ROW()>$E$3+1,('Calcul courbes'!$C$8*LOG(B609)+'Calcul courbes'!$C$9),NA())","v":-0.40156468889411723},{"$error":"#N/A"},{"$error":"#N/A"},{"$f":"IF(ROW()<$E$3+1,'Calcul courbes'!$C$10,NA())","v":{"$error":"#N/A"}},0,{"$error":"#N/A"}]
[2.9999999999999001,999.99999999977058,{"$f":"4*ATAN(-'Calcul courbes'!$C$2*B610+SQRT(('Calcul courbes'!$C$2)^2*B610^2+'Calcul courbes'!$C$3))","v":3.3799956835012495E-4},{"$f":"IF(ROW()>$E$3+1,('Calcul courbes'!$C$8*LOG(B610)+'Calcul courbes'!$C$9),NA())","v":-0.40356240298695678},{"$error":"#N/A"},{"$error":"#N/A"},{"$f":"IF(ROW()<$E$3+1,'Calcul courbes'!$C$10,NA())","v":{"$error":"#N/A"}},0,{"$error":"#N/A"}]